Workbook

Sheet survey
A1: ObjectID | B1: GlobalID | C1: CreationDate | D1: Creator | E1: EditDate | F1: Editor | G1: 1. Usted es... | H1: Otro - 1. Usted es... | I1: 1.1. Entidad pública donde trabaja | J1: 2. Dígame a que actividad asistió | K1: Otro - 2. Dígame a que actividad asistió | L1: Relevancia de los temas abordados | M1: Utilidad de la información brindada | N1: Puntualidad y cumplimiento de la agenda | O1: Cumplimiento con los temas ofrecidos en el plan del taller o capacitación | P1: Duración de la actividad | Q1: Duración del proceso completo de capacitación | R1: La metodología utilizada para desarrollo de la actividad | S1: Los materiales y/o herramientas utilizadas para la actividad o capacitación | T1: La organización y logística de la actividad | U1: El dominio del tema de quien dirigió la actividad | V1: La facilidad de acceso a la actividad o capacitación | W1: Los objetivos y alcance del espacio de participación fueron claros y comprensibles. | X1: El espacio permitió un diálogo abierto e incluyente. | Y1: Mis aportes y los de los demás participantes fueron tomados en cuenta. | Z1: La actividad estuvo relacionada con mis intereses y necesidades. | AA1: 5. De 1 a 4, siendo 4 la máxima calificación ¿Dígame su nivel de satisfacción con esta actividad / capacitación / taller / asesoría / conferencia / acompañamiento al que asistió? | AB1: 6. Justifique brevemente su calificación | AC1: Autorización de uso de información | AD1: Nombres y apellidos completos | AE1: Teléfono de contacto | AF1: Correo electrónico | AG1: 1. Edad | AH1: 2. Sexo | AI1: Otro - 2. Sexo | AJ1: 3. Género | AK1: Otro - 3. Género | AL1: 4. ¿Con cuál de los siguientes grupos étnicos, raciales y/o culturales se identifica usted? | AM1: Otro - 4. ¿Con cuál de los siguientes grupos étnicos, raciales y/o culturales se identifica usted? | AN1: 5. ¿Pertenece a las siguientes poblaciones? | AO1: Otro - 5. ¿Pertenece a las siguientes poblaciones? | AP1: 6. ¿Usted tiene alguna limitación permanente para...? | AQ1: Otro - 6. ¿Usted tiene alguna limitación permanente para...? | AR1: 2.1. Nombre de la actividad | AS1: x | AT1: y
A2: 55 | B2: 55ba86de-08b3-4286-824a-5c5476e778ba | C2: 46290.582 | E2: 46290.582 | G2: Empleado(a) o funcionario(a) de | I2: Secretaría de Cultura, Recreaci | J2: Diálogo ciudadano | L2: 4- Excelente | M2: 4- Excelente | N2: 4- Excelente | O2: 4- Excelente | P2: 4- Excelente | Q2: 4- Excelente | R2: 4- Excelente | S2: 4- Excelente | T2: 4- Excelente | U2: 4- Excelente | V2: 4- Excelente | W2: Totalmente de acuerdo | X2: Totalmente de acuerdo | Y2: Totalmente de acuerdo | Z2: Totalmente de acuerdo | AA2: Muy satisfecho(a) | AB2: Actividad agradable con obra teatral que sensibilizó sobre cómo nuestras acciones impactan a la comunidad. Se promovieron comportamientos responsables en manejo de residuos y movilidad, y se presentaron estrategias de la Subsecretaría, como Sabor Bogotá. | AC2: Sí | AG2: Adultez (29 a 59 años) | AH2: Mujer | AJ2: Femenino | AL2: Ninguno | AN2: Ninguna | AP2: Ninguna_de_las_anteriores | AR2: Rendición de Cuentas de la Subsecretaria Distrital de Cultura, Recreación y Deporte | AS2: 0 | AT2: 0
A3: 56 | B3: a5d5aadc-be9b-46ab-8add-9e3c3d1b9a78 | C3: 46290.589 | E3: 46290.589 | G3: Empleado(a) o funcionario(a) de | I3: Secretaría de Cultura, Recreaci | J3: Diálogo ciudadano | L3: 3- Bueno | M3: 3- Bueno | N3: 3- Bueno | O3: 4- Excelente | P3: 4- Excelente | Q3: No aplica | R3: 4- Excelente | S3: No aplica | T3: 3- Bueno | U3: 3- Bueno | V3: 4- Excelente | W3: De acuerdo | X3: De acuerdo | Y3: De acuerdo | Z3: De acuerdo | AA3: Satisfecho(a) | AB3: El formato fue divertido e innovador para una rendición de cuentas. El show permitió presentar información que podía resultar densa de una manera más cercana, dinámica y llamativa, facilitando su comprensión y generando mayor conexión con el público. | AC3: Sí | AG3: Adultez (29 a 59 años) | AH3: Mujer | AJ3: Femenino | AL3: other | AN3: Ninguna | AP3: Ninguna_de_las_anteriores | AR3: Rendición de cuentas | AS3: 0 | AT3: 0
A4: 57 | B4: 30492d02-6e98-47ed-8ca5-6c02d33c9e54 | C4: 46290.591 | E4: 46290.591 | G4: Empleado(a) o funcionario(a) de | I4: Secretaría de Cultura, Recreaci | J4: Diálogo ciudadano | L4: 4- Excelente | M4: 4- Excelente | N4: 4- Excelente | O4: 4- Excelente | P4: 4- Excelente | Q4: 4- Excelente | R4: 4- Excelente | S4: 4- Excelente | T4: 4- Excelente | U4: 4- Excelente | V4: 4- Excelente | W4: De acuerdo | X4: Totalmente de acuerdo | Y4: De acuerdo | Z4: Totalmente de acuerdo | AA4: Muy satisfecho(a) | AB4: Buena presentación | AC4: Sí | AG4: Persona mayor (60 años o más) | AH4: Hombre | AJ4: Masculino | AL4: Ninguno | AN4: Ninguna | AP4: Ninguna_de_las_anteriores | AS4: 0 | AT4: 0
A5: 58 | B5: a9974243-e6d5-4901-8738-a87f817eec87 | C5: 46290.652 | E5: 46290.652 | G5: Empleado(a) o funcionario(a) de | I5: Secretaría de Cultura, Recreaci | J5: Diálogo ciudadano | L5: 4- Excelente | M5: 4- Excelente | N5: 3- Bueno | O5: 4- Excelente | P5: 4- Excelente | Q5: 4- Excelente | R5: 4- Excelente | S5: 4- Excelente | T5: 4- Excelente | U5: 4- Excelente | V5: 4- Excelente | W5: Totalmente de acuerdo | X5: Totalmente de acuerdo | Y5: Totalmente de acuerdo | Z5: Totalmente de acuerdo | AA5: Muy satisfecho(a) | AC5: Sí | AG5: Adultez (29 a 59 años) | AH5: Hombre | AJ5: Masculino | AL5: Ninguno | AN5: Ninguna | AP5: Ninguna_de_las_anteriores | AR5: Rendición de Cuentas Subsecretaría Distrital de Cultura Ciudadana y Gestión del Conocimiento | AS5: 0 | AT5: 0

Sheet Tabulación
A1: Tabulación de respuestas
A2: Cada celda es una fórmula enlazada a la hoja "survey". Valores 1-4 según hoja "Escalas".
A4: ID | B4: Fecha de registro | C4: Perfil | D4: Entidad (texto truncado en origen) | E4: Tipo de actividad | F4: Nombre de la actividad | G4: Relevancia de los temas | H4: Utilidad de la información | I4: Puntualidad y agenda | J4: Cumplimiento del plan | K4: Duración de la actividad | L4: Duración proceso completo | M4: Metodología | N4: Materiales y herramientas | O4: Organización y logística | P4: Dominio del tema | Q4: Facilidad de acceso | R4: Objetivos claros y comprensibles | S4: Diálogo abierto e incluyente | T4: Aportes tomados en cuenta | U4: Actividad acorde a intereses | V4: Satisfacción general (1-4) | W4: Justificación | X4: Edad | Y4: Sexo | Z4: Género | AA4: Grupo étnico | AB4: Población | AC4: Limitación permanente
A5: =survey!A2 -> 55 | B5: =survey!C2 -> 46290.582 | C5: =survey!G2 -> Empleado(a) o funcionario(a) de | D5: =survey!I2 -> Secretaría de Cultura, Recreaci | E5: =survey!J2 -> Diálogo ciudadano | F5: =IF(survey!AR2="","(Sin dato)",survey!AR2) -> Rendición de Cuentas de la Subsecretaria Distrital de Cultura, Recreación y Deporte | G5: =IFERROR(INDEX(Escalas!$B$5:$B$16,MATCH(survey!L2,Escalas!$A$5:$A$16,0)),"") -> 4 | H5: =IFERROR(INDEX(Escalas!$B$5:$B$16,MATCH(survey!M2,Escalas!$A$5:$A$16,0)),"") -> 4 | I5: =IFERROR(INDEX(Escalas!$B$5:$B$16,MATCH(survey!N2,Escalas!$A$5:$A$16,0)),"") -> 4 | J5: =IFERROR(INDEX(Escalas!$B$5:$B$16,MATCH(survey!O2,Escalas!$A$5:$A$16,0)),"") -> 4 | K5: =IFERROR(INDEX(Escalas!$B$5:$B$16,MATCH(survey!P2,Escalas!$A$5:$A$16,0)),"") -> 4 | L5: =IFERROR(INDEX(Escalas!$B$5:$B$16,MATCH(survey!Q2,Escalas!$A$5:$A$16,0)),"") -> 4 | M5: =IFERROR(INDEX(Escalas!$B$5:$B$16,MATCH(survey!R2,Escalas!$A$5:$A$16,0)),"") -> 4 | N5: =IFERROR(INDEX(Escalas!$B$5:$B$16,MATCH(survey!S2,Escalas!$A$5:$A$16,0)),"") -> 4 | ... V5: =IFERROR(INDEX(Escalas!$B$5:$B$16,MATCH(survey!AA2,Escalas!$A$5:$A$16,0)),"") -> 4 | W5: =IF(survey!AB2="","(Sin comentario)",survey!AB2) -> Actividad agradable con obra teatral que sensibilizó sobre cómo nuestras acciones impactan a la comunidad. Se promovieron comportamientos responsables en manejo de residuos y movilidad, y se presentaron estrategias de la Subsecretaría, como Sabor Bogotá. | X5: =survey!AG2 -> Adultez (29 a 59 años) | Y5: =survey!AH2 -> Mujer | Z5: =survey!AJ2 -> Femenino | AA5: =survey!AL2 -> Ninguno | AB5: =survey!AN2 -> Ninguna | AC5: =survey!AP2 -> Ninguna_de_las_anteriores
A6: =survey!A3 -> 56 | B6: =survey!C3 -> 46290.589 | C6: =survey!G3 -> Empleado(a) o funcionario(a) de | D6: =survey!I3 -> Secretaría de Cultura, Recreaci | E6: =survey!J3 -> Diálogo ciudadano | F6: =IF(survey!AR3="","(Sin dato)",survey!AR3) -> Rendición de cuentas | G6: =IFERROR(INDEX(Escalas!$B$5:$B$16,MATCH(survey!L3,Escalas!$A$5:$A$16,0)),"") -> 3 | H6: =IFERROR(INDEX(Escalas!$B$5:$B$16,MATCH(survey!M3,Escalas!$A$5:$A$16,0)),"") -> 3 | I6: =IFERROR(INDEX(Escalas!$B$5:$B$16,MATCH(survey!N3,Escalas!$A$5:$A$16,0)),"") -> 3 | J6: =IFERROR(INDEX(Escalas!$B$5:$B$16,MATCH(survey!O3,Escalas!$A$5:$A$16,0)),"") -> 4 | K6: =IFERROR(INDEX(Escalas!$B$5:$B$16,MATCH(survey!P3,Escalas!$A$5:$A$16,0)),"") -> 4 | L6: =IFERROR(INDEX(Escalas!$B$5:$B$16,MATCH(survey!Q3,Escalas!$A$5:$A$16,0)),"") | M6: =IFERROR(INDEX(Escalas!$B$5:$B$16,MATCH(survey!R3,Escalas!$A$5:$A$16,0)),"") -> 4 | N6: =IFERROR(INDEX(Escalas!$B$5:$B$16,MATCH(survey!S3,Escalas!$A$5:$A$16,0)),"") | ... V6: =IFERROR(INDEX(Escalas!$B$5:$B$16,MATCH(survey!AA3,Escalas!$A$5:$A$16,0)),"") -> 3 | W6: =IF(survey!AB3="","(Sin comentario)",survey!AB3) -> El formato fue divertido e innovador para una rendición de cuentas. El show permitió presentar información que podía resultar densa de una manera más cercana, dinámica y llamativa, facilitando su comprensión y generando mayor conexión con el público. | X6: =survey!AG3 -> Adultez (29 a 59 años) | Y6: =survey!AH3 -> Mujer | Z6: =survey!AJ3 -> Femenino | AA6: =survey!AL3 -> other | AB6: =survey!AN3 -> Ninguna | AC6: =survey!AP3 -> Ninguna_de_las_anteriores
A7: =survey!A4 -> 57 | B7: =survey!C4 -> 46290.591 | C7: =survey!G4 -> Empleado(a) o funcionario(a) de | D7: =survey!I4 -> Secretaría de Cultura, Recreaci | E7: =survey!J4 -> Diálogo ciudadano | F7: =IF(survey!AR4="","(Sin dato)",survey!AR4) -> (Sin dato) | G7: =IFERROR(INDEX(Escalas!$B$5:$B$16,MATCH(survey!L4,Escalas!$A$5:$A$16,0)),"") -> 4 | H7: =IFERROR(INDEX(Escalas!$B$5:$B$16,MATCH(survey!M4,Escalas!$A$5:$A$16,0)),"") -> 4 | I7: =IFERROR(INDEX(Escalas!$B$5:$B$16,MATCH(survey!N4,Escalas!$A$5:$A$16,0)),"") -> 4 | J7: =IFERROR(INDEX(Escalas!$B$5:$B$16,MATCH(survey!O4,Escalas!$A$5:$A$16,0)),"") -> 4 | K7: =IFERROR(INDEX(Escalas!$B$5:$B$16,MATCH(survey!P4,Escalas!$A$5:$A$16,0)),"") -> 4 | L7: =IFERROR(INDEX(Escalas!$B$5:$B$16,MATCH(survey!Q4,Escalas!$A$5:$A$16,0)),"") -> 4 | M7: =IFERROR(INDEX(Escalas!$B$5:$B$16,MATCH(survey!R4,Escalas!$A$5:$A$16,0)),"") -> 4 | N7: =IFERROR(INDEX(Escalas!$B$5:$B$16,MATCH(survey!S4,Escalas!$A$5:$A$16,0)),"") -> 4 | ... V7: =IFERROR(INDEX(Escalas!$B$5:$B$16,MATCH(survey!AA4,Escalas!$A$5:$A$16,0)),"") -> 4 | W7: =IF(survey!AB4="","(Sin comentario)",survey!AB4) -> Buena presentación | X7: =survey!AG4 -> Persona mayor (60 años o más) | Y7: =survey!AH4 -> Hombre | Z7: =survey!AJ4 -> Masculino | AA7: =survey!AL4 -> Ninguno | AB7: =survey!AN4 -> Ninguna | AC7: =survey!AP4 -> Ninguna_de_las_anteriores
A8: =survey!A5 -> 58 | B8: =survey!C5 -> 46290.652 | C8: =survey!G5 -> Empleado(a) o funcionario(a) de | D8: =survey!I5 -> Secretaría de Cultura, Recreaci | E8: =survey!J5 -> Diálogo ciudadano | F8: =IF(survey!AR5="","(Sin dato)",survey!AR5) -> Rendición de Cuentas Subsecretaría Distrital de Cultura Ciudadana y Gestión del Conocimiento | G8: =IFERROR(INDEX(Escalas!$B$5:$B$16,MATCH(survey!L5,Escalas!$A$5:$A$16,0)),"") -> 4 | H8: =IFERROR(INDEX(Escalas!$B$5:$B$16,MATCH(survey!M5,Escalas!$A$5:$A$16,0)),"") -> 4 | I8: =IFERROR(INDEX(Escalas!$B$5:$B$16,MATCH(survey!N5,Escalas!$A$5:$A$16,0)),"") -> 3 | J8: =IFERROR(INDEX(Escalas!$B$5:$B$16,MATCH(survey!O5,Escalas!$A$5:$A$16,0)),"") -> 4 | K8: =IFERROR(INDEX(Escalas!$B$5:$B$16,MATCH(survey!P5,Escalas!$A$5:$A$16,0)),"") -> 4 | L8: =IFERROR(INDEX(Escalas!$B$5:$B$16,MATCH(survey!Q5,Escalas!$A$5:$A$16,0)),"") -> 4 | M8: =IFERROR(INDEX(Escalas!$B$5:$B$16,MATCH(survey!R5,Escalas!$A$5:$A$16,0)),"") -> 4 | N8: =IFERROR(INDEX(Escalas!$B$5:$B$16,MATCH(survey!S5,Escalas!$A$5:$A$16,0)),"") -> 4 | ... V8: =IFERROR(INDEX(Escalas!$B$5:$B$16,MATCH(survey!AA5,Escalas!$A$5:$A$16,0)),"") -> 4 | W8: =IF(survey!AB5="","(Sin comentario)",survey!AB5) -> (Sin comentario) | X8: =survey!AG5 -> Adultez (29 a 59 años) | Y8: =survey!AH5 -> Hombre | Z8: =survey!AJ5 -> Masculino | AA8: =survey!AL5 -> Ninguno | AB8: =survey!AN5 -> Ninguna | AC8: =survey!AP5 -> Ninguna_de_las_anteriores

Sheet Estadística
A1: Análisis estadístico descriptivo
A2: Escala 1-4 (4 = máxima). n = respuestas válidas por ítem; "No aplica" excluido. Base: 4 encuestas.
A4: Ítem evaluado | B4: n | C4: Media | D4: Mediana | E4: Moda | F4: Desv. estándar | G4: Mínimo | H4: Máximo | I4: % favorable (3-4) | J4: % máxima calificación (4)
A5: A. Calificación de aspectos (1-4)
A6: Relevancia de los temas | B6: =COUNT(Tabulación!$G$5:$G$8) -> 4 | C6: =IFERROR(AVERAGE(Tabulación!$G$5:$G$8),"n/d") -> 3.75 | D6: =IFERROR(MEDIAN(Tabulación!$G$5:$G$8),"n/d") -> 4 | E6: =IFERROR(MODE(Tabulación!$G$5:$G$8),"Sin moda") -> 4 | F6: =IFERROR(STDEV(Tabulación!$G$5:$G$8),"n/d") -> 0.5 | G6: =IF(B6=0,"n/d",MIN(Tabulación!$G$5:$G$8)) -> 3 | H6: =IF(B6=0,"n/d",MAX(Tabulación!$G$5:$G$8)) -> 4 | I6: =IF(B6=0,"n/d",COUNTIF(Tabulación!$G$5:$G$8,">=3")/B6) -> 1 | J6: =IF(B6=0,"n/d",COUNTIF(Tabulación!$G$5:$G$8,4)/B6) -> 0.75
A7: Utilidad de la información | B7: =COUNT(Tabulación!$H$5:$H$8) -> 4 | C7: =IFERROR(AVERAGE(Tabulación!$H$5:$H$8),"n/d") -> 3.75 | D7: =IFERROR(MEDIAN(Tabulación!$H$5:$H$8),"n/d") -> 4 | E7: =IFERROR(MODE(Tabulación!$H$5:$H$8),"Sin moda") -> 4 | F7: =IFERROR(STDEV(Tabulación!$H$5:$H$8),"n/d") -> 0.5 | G7: =IF(B7=0,"n/d",MIN(Tabulación!$H$5:$H$8)) -> 3 | H7: =IF(B7=0,"n/d",MAX(Tabulación!$H$5:$H$8)) -> 4 | I7: =IF(B7=0,"n/d",COUNTIF(Tabulación!$H$5:$H$8,">=3")/B7) -> 1 | J7: =IF(B7=0,"n/d",COUNTIF(Tabulación!$H$5:$H$8,4)/B7) -> 0.75
A8: Puntualidad y agenda | B8: =COUNT(Tabulación!$I$5:$I$8) -> 4 | C8: =IFERROR(AVERAGE(Tabulación!$I$5:$I$8),"n/d") -> 3.5 | D8: =IFERROR(MEDIAN(Tabulación!$I$5:$I$8),"n/d") -> 3.5 | E8: =IFERROR(MODE(Tabulación!$I$5:$I$8),"Sin moda") -> 4 | F8: =IFERROR(STDEV(Tabulación!$I$5:$I$8),"n/d") -> 0.57735027 | G8: =IF(B8=0,"n/d",MIN(Tabulación!$I$5:$I$8)) -> 3 | H8: =IF(B8=0,"n/d",MAX(Tabulación!$I$5:$I$8)) -> 4 | I8: =IF(B8=0,"n/d",COUNTIF(Tabulación!$I$5:$I$8,">=3")/B8) -> 1 | J8: =IF(B8=0,"n/d",COUNTIF(Tabulación!$I$5:$I$8,4)/B8) -> 0.5
A9: Cumplimiento del plan | B9: =COUNT(Tabulación!$J$5:$J$8) -> 4 | C9: =IFERROR(AVERAGE(Tabulación!$J$5:$J$8),"n/d") -> 4 | D9: =IFERROR(MEDIAN(Tabulación!$J$5:$J$8),"n/d") -> 4 | E9: =IFERROR(MODE(Tabulación!$J$5:$J$8),"Sin moda") -> 4 | F9: =IFERROR(STDEV(Tabulación!$J$5:$J$8),"n/d") -> 0 | G9: =IF(B9=0,"n/d",MIN(Tabulación!$J$5:$J$8)) -> 4 | H9: =IF(B9=0,"n/d",MAX(Tabulación!$J$5:$J$8)) -> 4 | I9: =IF(B9=0,"n/d",COUNTIF(Tabulación!$J$5:$J$8,">=3")/B9) -> 1 | J9: =IF(B9=0,"n/d",COUNTIF(Tabulación!$J$5:$J$8,4)/B9) -> 1
A10: Duración de la actividad | B10: =COUNT(Tabulación!$K$5:$K$8) -> 4 | C10: =IFERROR(AVERAGE(Tabulación!$K$5:$K$8),"n/d") -> 4 | D10: =IFERROR(MEDIAN(Tabulación!$K$5:$K$8),"n/d") -> 4 | E10: =IFERROR(MODE(Tabulación!$K$5:$K$8),"Sin moda") -> 4 | F10: =IFERROR(STDEV(Tabulación!$K$5:$K$8),"n/d") -> 0 | G10: =IF(B10=0,"n/d",MIN(Tabulación!$K$5:$K$8)) -> 4 | H10: =IF(B10=0,"n/d",MAX(Tabulación!$K$5:$K$8)) -> 4 | I10: =IF(B10=0,"n/d",COUNTIF(Tabulación!$K$5:$K$8,">=3")/B10) -> 1 | J10: =IF(B10=0,"n/d",COUNTIF(Tabulación!$K$5:$K$8,4)/B10) -> 1
A11: Duración proceso completo | B11: =COUNT(Tabulación!$L$5:$L$8) -> 3 | C11: =IFERROR(AVERAGE(Tabulación!$L$5:$L$8),"n/d") -> 4 | D11: =IFERROR(MEDIAN(Tabulación!$L$5:$L$8),"n/d") -> 4 | E11: =IFERROR(MODE(Tabulación!$L$5:$L$8),"Sin moda") -> 4 | F11: =IFERROR(STDEV(Tabulación!$L$5:$L$8),"n/d") -> 0 | G11: =IF(B11=0,"n/d",MIN(Tabulación!$L$5:$L$8)) -> 4 | H11: =IF(B11=0,"n/d",MAX(Tabulación!$L$5:$L$8)) -> 4 | I11: =IF(B11=0,"n/d",COUNTIF(Tabulación!$L$5:$L$8,">=3")/B11) -> 1 | J11: =IF(B11=0,"n/d",COUNTIF(Tabulación!$L$5:$L$8,4)/B11) -> 1
A12: Metodología | B12: =COUNT(Tabulación!$M$5:$M$8) -> 4 | C12: =IFERROR(AVERAGE(Tabulación!$M$5:$M$8),"n/d") -> 4 | D12: =IFERROR(MEDIAN(Tabulación!$M$5:$M$8),"n/d") -> 4 | E12: =IFERROR(MODE(Tabulación!$M$5:$M$8),"Sin moda") -> 4 | F12: =IFERROR(STDEV(Tabulación!$M$5:$M$8),"n/d") -> 0 | G12: =IF(B12=0,"n/d",MIN(Tabulación!$M$5:$M$8)) -> 4 | H12: =IF(B12=0,"n/d",MAX(Tabulación!$M$5:$M$8)) -> 4 | I12: =IF(B12=0,"n/d",COUNTIF(Tabulación!$M$5:$M$8,">=3")/B12) -> 1 | J12: =IF(B12=0,"n/d",COUNTIF(Tabulación!$M$5:$M$8,4)/B12) -> 1
A13: Materiales y herramientas | B13: =COUNT(Tabulación!$N$5:$N$8) -> 3 | C13: =IFERROR(AVERAGE(Tabulación!$N$5:$N$8),"n/d") -> 4 | D13: =IFERROR(MEDIAN(Tabulación!$N$5:$N$8),"n/d") -> 4 | E13: =IFERROR(MODE(Tabulación!$N$5:$N$8),"Sin moda") -> 4 | F13: =IFERROR(STDEV(Tabulación!$N$5:$N$8),"n/d") -> 0 | G13: =IF(B13=0,"n/d",MIN(Tabulación!$N$5:$N$8)) -> 4 | H13: =IF(B13=0,"n/d",MAX(Tabulación!$N$5:$N$8)) -> 4 | I13: =IF(B13=0,"n/d",COUNTIF(Tabulación!$N$5:$N$8,">=3")/B13) -> 1 | J13: =IF(B13=0,"n/d",COUNTIF(Tabulación!$N$5:$N$8,4)/B13) -> 1
A14: Organización y logística | B14: =COUNT(Tabulación!$O$5:$O$8) -> 4 | C14: =IFERROR(AVERAGE(Tabulación!$O$5:$O$8),"n/d") -> 3.75 | D14: =IFERROR(MEDIAN(Tabulación!$O$5:$O$8),"n/d") -> 4 | E14: =IFERROR(MODE(Tabulación!$O$5:$O$8),"Sin moda") -> 4 | F14: =IFERROR(STDEV(Tabulación!$O$5:$O$8),"n/d") -> 0.5 | G14: =IF(B14=0,"n/d",MIN(Tabulación!$O$5:$O$8)) -> 3 | H14: =IF(B14=0,"n/d",MAX(Tabulación!$O$5:$O$8)) -> 4 | I14: =IF(B14=0,"n/d",COUNTIF(Tabulación!$O$5:$O$8,">=3")/B14) -> 1 | J14: =IF(B14=0,"n/d",COUNTIF(Tabulación!$O$5:$O$8,4)/B14) -> 0.75
A15: Dominio del tema | B15: =COUNT(Tabulación!$P$5:$P$8) -> 4 | C15: =IFERROR(AVERAGE(Tabulación!$P$5:$P$8),"n/d") -> 3.75 | D15: =IFERROR(MEDIAN(Tabulación!$P$5:$P$8),"n/d") -> 4 | E15: =IFERROR(MODE(Tabulación!$P$5:$P$8),"Sin moda") -> 4 | F15: =IFERROR(STDEV(Tabulación!$P$5:$P$8),"n/d") -> 0.5 | G15: =IF(B15=0,"n/d",MIN(Tabulación!$P$5:$P$8)) -> 3 | H15: =IF(B15=0,"n/d",MAX(Tabulación!$P$5:$P$8)) -> 4 | I15: =IF(B15=0,"n/d",COUNTIF(Tabulación!$P$5:$P$8,">=3")/B15) -> 1 | J15: =IF(B15=0,"n/d",COUNTIF(Tabulación!$P$5:$P$8,4)/B15) -> 0.75
A16: Facilidad de acceso | B16: =COUNT(Tabulación!$Q$5:$Q$8) -> 4 | C16: =IFERROR(AVERAGE(Tabulación!$Q$5:$Q$8),"n/d") -> 4 | D16: =IFERROR(MEDIAN(Tabulación!$Q$5:$Q$8),"n/d") -> 4 | E16: =IFERROR(MODE(Tabulación!$Q$5:$Q$8),"Sin moda") -> 4 | F16: =IFERROR(STDEV(Tabulación!$Q$5:$Q$8),"n/d") -> 0 | G16: =IF(B16=0,"n/d",MIN(Tabulación!$Q$5:$Q$8)) -> 4 | H16: =IF(B16=0,"n/d",MAX(Tabulación!$Q$5:$Q$8)) -> 4 | I16: =IF(B16=0,"n/d",COUNTIF(Tabulación!$Q$5:$Q$8,">=3")/B16) -> 1 | J16: =IF(B16=0,"n/d",COUNTIF(Tabulación!$Q$5:$Q$8,4)/B16) -> 1
A17: B. Acuerdo con el espacio de participación (1-4)
A18: Objetivos claros y comprensibles | B18: =COUNT(Tabulación!$R$5:$R$8) -> 4 | C18: =IFERROR(AVERAGE(Tabulación!$R$5:$R$8),"n/d") -> 3.5 | D18: =IFERROR(MEDIAN(Tabulación!$R$5:$R$8),"n/d") -> 3.5 | E18: =IFERROR(MODE(Tabulación!$R$5:$R$8),"Sin moda") -> 4 | F18: =IFERROR(STDEV(Tabulación!$R$5:$R$8),"n/d") -> 0.57735027 | G18: =IF(B18=0,"n/d",MIN(Tabulación!$R$5:$R$8)) -> 3 | H18: =IF(B18=0,"n/d",MAX(Tabulación!$R$5:$R$8)) -> 4 | I18: =IF(B18=0,"n/d",COUNTIF(Tabulación!$R$5:$R$8,">=3")/B18) -> 1 | J18: =IF(B18=0,"n/d",COUNTIF(Tabulación!$R$5:$R$8,4)/B18) -> 0.5
A19: Diálogo abierto e incluyente | B19: =COUNT(Tabulación!$S$5:$S$8) -> 4 | C19: =IFERROR(AVERAGE(Tabulación!$S$5:$S$8),"n/d") -> 3.75 | D19: =IFERROR(MEDIAN(Tabulación!$S$5:$S$8),"n/d") -> 4 | E19: =IFERROR(MODE(Tabulación!$S$5:$S$8),"Sin moda") -> 4 | F19: =IFERROR(STDEV(Tabulación!$S$5:$S$8),"n/d") -> 0.5 | G19: =IF(B19=0,"n/d",MIN(Tabulación!$S$5:$S$8)) -> 3 | H19: =IF(B19=0,"n/d",MAX(Tabulación!$S$5:$S$8)) -> 4 | I19: =IF(B19=0,"n/d",COUNTIF(Tabulación!$S$5:$S$8,">=3")/B19) -> 1 | J19: =IF(B19=0,"n/d",COUNTIF(Tabulación!$S$5:$S$8,4)/B19) -> 0.75
A20: Aportes tomados en cuenta | B20: =COUNT(Tabulación!$T$5:$T$8) -> 4 | C20: =IFERROR(AVERAGE(Tabulación!$T$5:$T$8),"n/d") -> 3.5 | D20: =IFERROR(MEDIAN(Tabulación!$T$5:$T$8),"n/d") -> 3.5 | E20: =IFERROR(MODE(Tabulación!$T$5:$T$8),"Sin moda") -> 4 | F20: =IFERROR(STDEV(Tabulación!$T$5:$T$8),"n/d") -> 0.57735027 | G20: =IF(B20=0,"n/d",MIN(Tabulación!$T$5:$T$8)) -> 3 | H20: =IF(B20=0,"n/d",MAX(Tabulación!$T$5:$T$8)) -> 4 | I20: =IF(B20=0,"n/d",COUNTIF(Tabulación!$T$5:$T$8,">=3")/B20) -> 1 | J20: =IF(B20=0,"n/d",COUNTIF(Tabulación!$T$5:$T$8,4)/B20) -> 0.5
A21: Actividad acorde a intereses | B21: =COUNT(Tabulación!$U$5:$U$8) -> 4 | C21: =IFERROR(AVERAGE(Tabulación!$U$5:$U$8),"n/d") -> 3.75 | D21: =IFERROR(MEDIAN(Tabulación!$U$5:$U$8),"n/d") -> 4 | E21: =IFERROR(MODE(Tabulación!$U$5:$U$8),"Sin moda") -> 4 | F21: =IFERROR(STDEV(Tabulación!$U$5:$U$8),"n/d") -> 0.5 | G21: =IF(B21=0,"n/d",MIN(Tabulación!$U$5:$U$8)) -> 3 | H21: =IF(B21=0,"n/d",MAX(Tabulación!$U$5:$U$8)) -> 4 | I21: =IF(B21=0,"n/d",COUNTIF(Tabulación!$U$5:$U$8,">=3")/B21) -> 1 | J21: =IF(B21=0,"n/d",COUNTIF(Tabulación!$U$5:$U$8,4)/B21) -> 0.75
A22: C. Satisfacción global (1-4)
A23: Satisfacción general con la actividad | B23: =COUNT(Tabulación!$V$5:$V$8) -> 4 | C23: =IFERROR(AVERAGE(Tabulación!$V$5:$V$8),"n/d") -> 3.75 | D23: =IFERROR(MEDIAN(Tabulación!$V$5:$V$8),"n/d") -> 4 | E23: =IFERROR(MODE(Tabulación!$V$5:$V$8),"Sin moda") -> 4 | F23: =IFERROR(STDEV(Tabulación!$V$5:$V$8),"n/d") -> 0.5 | G23: =IF(B23=0,"n/d",MIN(Tabulación!$V$5:$V$8)) -> 3 | H23: =IF(B23=0,"n/d",MAX(Tabulación!$V$5:$V$8)) -> 4 | I23: =IF(B23=0,"n/d",COUNTIF(Tabulación!$V$5:$V$8,">=3")/B23) -> 1 | J23: =IF(B23=0,"n/d",COUNTIF(Tabulación!$V$5:$V$8,4)/B23) -> 0.75
A25: Resumen general
A26: Total de encuestas | B26: =COUNTA(Tabulación!A5:A8) -> 4
A27: Media global de aspectos calificados (A) | B27: =AVERAGE(C6:C16) -> 3.8636364
A28: Media global de acuerdo con el espacio (B) | B28: =AVERAGE(C18:C21) -> 3.625
A29: Satisfacción general promedio (C) | B29: =C23 -> 3.75
A30: Aspecto mejor calificado | B30: =INDEX(A6:A16,MATCH(MAX(C6:C16),C6:C16,0)) -> Cumplimiento del plan
A31: media | B31: =MAX(C6:C16) -> 4
A32: Aspecto con menor calificación | B32: =INDEX(A6:A16,MATCH(MIN(C6:C16),C6:C16,0)) -> Puntualidad y agenda
A33: media | B33: =MIN(C6:C16) -> 3.5
A34: Coeficiente de variación de la satisfacción | B34: =IFERROR(F23/C23,"n/d") -> 0.13333333
A35: Respuestas con comentario | B35: =COUNTIF(survey!AB2:AB5,"?*") -> 3
A37: Nota metodológica: con n = 4 las medias, desviaciones y porcentajes son solo descriptivos y no permiten inferir sobre el total de asistentes; conviene repetir el análisis al acumular más encuestas. Las fórmulas leen el rango actual (filas de la hoja Tabulación); al agregar respuestas, ampliar los rangos.

Sheet Frecuencias
A1: Distribución de frecuencias
A2: Conteos y porcentajes calculados con fórmulas sobre la hoja Tabulación.
A4: 1. Calificación de aspectos de la actividad
A5: Ítem | B5: 4 - Excelente | C5: 3 - Bueno | D5: 2 - Regular* | E5: 1 - Malo* | F5: No aplica / sin dato | G5: Total
A6: Relevancia de los temas | B6: =COUNTIF(Tabulación!$G$5:$G$8,4) -> 3 | C6: =COUNTIF(Tabulación!$G$5:$G$8,3) -> 1 | D6: =COUNTIF(Tabulación!$G$5:$G$8,2) -> 0 | E6: =COUNTIF(Tabulación!$G$5:$G$8,1) -> 0 | F6: =COUNTA(Tabulación!$A$5:$A$8)-SUM(B6:E6) -> 0 | G6: =SUM(B6:F6) -> 4
A7: Utilidad de la información | B7: =COUNTIF(Tabulación!$H$5:$H$8,4) -> 3 | C7: =COUNTIF(Tabulación!$H$5:$H$8,3) -> 1 | D7: =COUNTIF(Tabulación!$H$5:$H$8,2) -> 0 | E7: =COUNTIF(Tabulación!$H$5:$H$8,1) -> 0 | F7: =COUNTA(Tabulación!$A$5:$A$8)-SUM(B7:E7) -> 0 | G7: =SUM(B7:F7) -> 4
A8: Puntualidad y agenda | B8: =COUNTIF(Tabulación!$I$5:$I$8,4) -> 2 | C8: =COUNTIF(Tabulación!$I$5:$I$8,3) -> 2 | D8: =COUNTIF(Tabulación!$I$5:$I$8,2) -> 0 | E8: =COUNTIF(Tabulación!$I$5:$I$8,1) -> 0 | F8: =COUNTA(Tabulación!$A$5:$A$8)-SUM(B8:E8) -> 0 | G8: =SUM(B8:F8) -> 4
A9: Cumplimiento del plan | B9: =COUNTIF(Tabulación!$J$5:$J$8,4) -> 4 | C9: =COUNTIF(Tabulación!$J$5:$J$8,3) -> 0 | D9: =COUNTIF(Tabulación!$J$5:$J$8,2) -> 0 | E9: =COUNTIF(Tabulación!$J$5:$J$8,1) -> 0 | F9: =COUNTA(Tabulación!$A$5:$A$8)-SUM(B9:E9) -> 0 | G9: =SUM(B9:F9) -> 4
A10: Duración de la actividad | B10: =COUNTIF(Tabulación!$K$5:$K$8,4) -> 4 | C10: =COUNTIF(Tabulación!$K$5:$K$8,3) -> 0 | D10: =COUNTIF(Tabulación!$K$5:$K$8,2) -> 0 | E10: =COUNTIF(Tabulación!$K$5:$K$8,1) -> 0 | F10: =COUNTA(Tabulación!$A$5:$A$8)-SUM(B10:E10) -> 0 | G10: =SUM(B10:F10) -> 4
A11: Duración proceso completo | B11: =COUNTIF(Tabulación!$L$5:$L$8,4) -> 3 | C11: =COUNTIF(Tabulación!$L$5:$L$8,3) -> 0 | D11: =COUNTIF(Tabulación!$L$5:$L$8,2) -> 0 | E11: =COUNTIF(Tabulación!$L$5:$L$8,1) -> 0 | F11: =COUNTA(Tabulación!$A$5:$A$8)-SUM(B11:E11) -> 1 | G11: =SUM(B11:F11) -> 4
A12: Metodología | B12: =COUNTIF(Tabulación!$M$5:$M$8,4) -> 4 | C12: =COUNTIF(Tabulación!$M$5:$M$8,3) -> 0 | D12: =COUNTIF(Tabulación!$M$5:$M$8,2) -> 0 | E12: =COUNTIF(Tabulación!$M$5:$M$8,1) -> 0 | F12: =COUNTA(Tabulación!$A$5:$A$8)-SUM(B12:E12) -> 0 | G12: =SUM(B12:F12) -> 4
A13: Materiales y herramientas | B13: =COUNTIF(Tabulación!$N$5:$N$8,4) -> 3 | C13: =COUNTIF(Tabulación!$N$5:$N$8,3) -> 0 | D13: =COUNTIF(Tabulación!$N$5:$N$8,2) -> 0 | E13: =COUNTIF(Tabulación!$N$5:$N$8,1) -> 0 | F13: =COUNTA(Tabulación!$A$5:$A$8)-SUM(B13:E13) -> 1 | G13: =SUM(B13:F13) -> 4
A14: Organización y logística | B14: =COUNTIF(Tabulación!$O$5:$O$8,4) -> 3 | C14: =COUNTIF(Tabulación!$O$5:$O$8,3) -> 1 | D14: =COUNTIF(Tabulación!$O$5:$O$8,2) -> 0 | E14: =COUNTIF(Tabulación!$O$5:$O$8,1) -> 0 | F14: =COUNTA(Tabulación!$A$5:$A$8)-SUM(B14:E14) -> 0 | G14: =SUM(B14:F14) -> 4
A15: Dominio del tema | B15: =COUNTIF(Tabulación!$P$5:$P$8,4) -> 3 | C15: =COUNTIF(Tabulación!$P$5:$P$8,3) -> 1 | D15: =COUNTIF(Tabulación!$P$5:$P$8,2) -> 0 | E15: =COUNTIF(Tabulación!$P$5:$P$8,1) -> 0 | F15: =COUNTA(Tabulación!$A$5:$A$8)-SUM(B15:E15) -> 0 | G15: =SUM(B15:F15) -> 4
A16: Facilidad de acceso | B16: =COUNTIF(Tabulación!$Q$5:$Q$8,4) -> 4 | C16: =COUNTIF(Tabulación!$Q$5:$Q$8,3) -> 0 | D16: =COUNTIF(Tabulación!$Q$5:$Q$8,2) -> 0 | E16: =COUNTIF(Tabulación!$Q$5:$Q$8,1) -> 0 | F16: =COUNTA(Tabulación!$A$5:$A$8)-SUM(B16:E16) -> 0 | G16: =SUM(B16:F16) -> 4
A19: 2. Acuerdo con el espacio de participación
A20: Ítem | B20: 4 - Totalmente de acuerdo | C20: 3 - De acuerdo | D20: 2 - En desacuerdo* | E20: 1 - Totalmente en desacuerdo* | F20: No aplica / sin dato | G20: Total
A21: Objetivos claros y comprensibles | B21: =COUNTIF(Tabulación!$R$5:$R$8,4) -> 2 | C21: =COUNTIF(Tabulación!$R$5:$R$8,3) -> 2 | D21: =COUNTIF(Tabulación!$R$5:$R$8,2) -> 0 | E21: =COUNTIF(Tabulación!$R$5:$R$8,1) -> 0 | F21: =COUNTA(Tabulación!$A$5:$A$8)-SUM(B21:E21) -> 0 | G21: =SUM(B21:F21) -> 4
A22: Diálogo abierto e incluyente | B22: =COUNTIF(Tabulación!$S$5:$S$8,4) -> 3 | C22: =COUNTIF(Tabulación!$S$5:$S$8,3) -> 1 | D22: =COUNTIF(Tabulación!$S$5:$S$8,2) -> 0 | E22: =COUNTIF(Tabulación!$S$5:$S$8,1) -> 0 | F22: =COUNTA(Tabulación!$A$5:$A$8)-SUM(B22:E22) -> 0 | G22: =SUM(B22:F22) -> 4
A23: Aportes tomados en cuenta | B23: =COUNTIF(Tabulación!$T$5:$T$8,4) -> 2 | C23: =COUNTIF(Tabulación!$T$5:$T$8,3) -> 2 | D23: =COUNTIF(Tabulación!$T$5:$T$8,2) -> 0 | E23: =COUNTIF(Tabulación!$T$5:$T$8,1) -> 0 | F23: =COUNTA(Tabulación!$A$5:$A$8)-SUM(B23:E23) -> 0 | G23: =SUM(B23:F23) -> 4
A24: Actividad acorde a intereses | B24: =COUNTIF(Tabulación!$U$5:$U$8,4) -> 3 | C24: =COUNTIF(Tabulación!$U$5:$U$8,3) -> 1 | D24: =COUNTIF(Tabulación!$U$5:$U$8,2) -> 0 | E24: =COUNTIF(Tabulación!$U$5:$U$8,1) -> 0 | F24: =COUNTA(Tabulación!$A$5:$A$8)-SUM(B24:E24) -> 0 | G24: =SUM(B24:F24) -> 4
A27: 3. Satisfacción general
A28: Ítem | B28: 4 - Muy satisfecho(a) | C28: 3 - Satisfecho(a) | D28: 2 - Poco satisfecho(a)* | E28: 1 - Insatisfecho(a)* | F28: No aplica / sin dato | G28: Total
A29: Satisfacción con la actividad | B29: =COUNTIF(Tabulación!$V$5:$V$8,4) -> 3 | C29: =COUNTIF(Tabulación!$V$5:$V$8,3) -> 1 | D29: =COUNTIF(Tabulación!$V$5:$V$8,2) -> 0 | E29: =COUNTIF(Tabulación!$V$5:$V$8,1) -> 0 | F29: =COUNTA(Tabulación!$A$5:$A$8)-SUM(B29:E29) -> 0 | G29: =SUM(B29:F29) -> 4
A30: * Etiquetas inferidas (ver hoja Escalas); no registradas en los datos actuales.
A33: 4. Perfil del participante
A34: Categoría | B34: Frecuencia | C34: % del total
A35: Empleado(a) o funcionario(a) de | B35: =COUNTIF(Tabulación!$C$5:$C$8,A35) -> 4 | C35: =B35/COUNTA(Tabulación!$A$5:$A$8) -> 1
A38: 5. Tipo de actividad
A39: Categoría | B39: Frecuencia | C39: % del total
A40: Diálogo ciudadano | B40: =COUNTIF(Tabulación!$E$5:$E$8,A40) -> 4 | C40: =B40/COUNTA(Tabulación!$A$5:$A$8) -> 1
A43: 6. Grupo de edad
A44: Categoría | B44: Frecuencia | C44: % del total
A45: Adultez (29 a 59 años) | B45: =COUNTIF(Tabulación!$X$5:$X$8,A45) -> 3 | C45: =B45/COUNTA(Tabulación!$A$5:$A$8) -> 0.75
A46: Persona mayor (60 años o más) | B46: =COUNTIF(Tabulación!$X$5:$X$8,A46) -> 1 | C46: =B46/COUNTA(Tabulación!$A$5:$A$8) -> 0.25
A49: 7. Sexo
A50: Categoría | B50: Frecuencia | C50: % del total
A51: Mujer | B51: =COUNTIF(Tabulación!$Y$5:$Y$8,A51) -> 2 | C51: =B51/COUNTA(Tabulación!$A$5:$A$8) -> 0.5
A52: Hombre | B52: =COUNTIF(Tabulación!$Y$5:$Y$8,A52) -> 2 | C52: =B52/COUNTA(Tabulación!$A$5:$A$8) -> 0.5
A55: 8. Género
...

Sheet Gráficos
A1: Gráficos del análisis
A2: Se actualizan automáticamente con las hojas Estadística y Frecuencias.

Sheet Escalas
A1: Escalas de codificación
A2: Texto original de la encuesta → valor numérico (1 a 4). "No aplica" se excluye de las estadísticas.
A4: Texto en la encuesta | B4: Valor
A5: 4- Excelente | B5: 4
A6: 3- Bueno | B6: 3
A7: 2- Regular | B7: 2
A8: 1- Malo | B8: 1
A9: Totalmente de acuerdo | B9: 4
A10: De acuerdo | B10: 3
A11: En desacuerdo | B11: 2
A12: Totalmente en desacuerdo | B12: 1
A13: Muy satisfecho(a) | B13: 4
A14: Satisfecho(a) | B14: 3
A15: Poco satisfecho(a) | B15: 2
A16: Insatisfecho(a) | B16: 1
A18: Supuesto: en los datos solo aparecen las opciones 4 y 3 (calificación), "Totalmente de acuerdo"/"De acuerdo" y "Muy satisfecho(a)"/"Satisfecho(a)". Las etiquetas de los valores 2 y 1 son inferidas por simetría de la escala y pueden ajustarse aquí.
