Workbook

Sheet 00_Resumen
C1: Formato Único de Conteo Estructurado de Públicos | P1: Código: DES-GU-04-FR-01
P2: Fecha: 28/10/2026
P3: Versión: 1
A4: ID actividad | B4: Descripción de la actividad | C4: Fecha | D4: Dependencia | E4: Actividad / evento / servicio | F4: Lugar / equipamiento | G4: Espacio / recorrido | H4: Método de conteo | I4: Unidad de medición | J4: Resultado / cantidad reportada | K4: Clasificación | L4: ¿Hubo novedad? | M4: Descripción de la novedad | N4: Soporte / referencia | O4: Momento / punto | P4: Fila de origen | Q4: Estado del resultado
A5: {=IF(1>$S$1204,"",INDEX($T$5:$AJ$1204,MATCH(1,$S$5:$S$1204,0),1))} | B5: {=IF(1>$S$1204,"",INDEX($T$5:$AJ$1204,MATCH(1,$S$5:$S$1204,0),2))} | C5: {=IF(1>$S$1204,"",INDEX($T$5:$AJ$1204,MATCH(1,$S$5:$S$1204,0),3))} | D5: {=IF(1>$S$1204,"",INDEX($T$5:$AJ$1204,MATCH(1,$S$5:$S$1204,0),4))} | E5: {=IF(1>$S$1204,"",INDEX($T$5:$AJ$1204,MATCH(1,$S$5:$S$1204,0),5))} | F5: {=IF(1>$S$1204,"",INDEX($T$5:$AJ$1204,MATCH(1,$S$5:$S$1204,0),6))} | G5: {=IF(1>$S$1204,"",INDEX($T$5:$AJ$1204,MATCH(1,$S$5:$S$1204,0),7))} | H5: {=IF(1>$S$1204,"",INDEX($T$5:$AJ$1204,MATCH(1,$S$5:$S$1204,0),8))} | I5: {=IF(1>$S$1204,"",INDEX($T$5:$AJ$1204,MATCH(1,$S$5:$S$1204,0),9))} | J5: {=IF(1>$S$1204,"",INDEX($T$5:$AJ$1204,MATCH(1,$S$5:$S$1204,0),10))} | K5: {=IF(1>$S$1204,"",INDEX($T$5:$AJ$1204,MATCH(1,$S$5:$S$1204,0),11))} | L5: {=IF(1>$S$1204,"",INDEX($T$5:$AJ$1204,MATCH(1,$S$5:$S$1204,0),12))} | M5: {=IF(1>$S$1204,"",INDEX($T$5:$AJ$1204,MATCH(1,$S$5:$S$1204,0),13))} | N5: {=IF(1>$S$1204,"",INDEX($T$5:$AJ$1204,MATCH(1,$S$5:$S$1204,0),14))} | O5: {=IF(1>$S$1204,"",INDEX($T$5:$AJ$1204,MATCH(1,$S$5:$S$1204,0),15))} | P5: {=IF(1>$S$1204,"",INDEX($T$5:$AJ$1204,MATCH(1,$S$5:$S$1204,0),16))} | Q5: {=IF(1>$S$1204,"",INDEX($T$5:$AJ$1204,MATCH(1,$S$5:$S$1204,0),17))} | S5: =0+IF(M1_Administrativo!A9="",0,1) -> 0 | T5: =IF(M1_Administrativo!A9="","",IF(M1_Administrativo!A9="","",M1_Administrativo!A9)) | U5: =IF(M1_Administrativo!A9="","",IF(M1_Administrativo!R9="","",M1_Administrativo!R9)) | V5: =IF(M1_Administrativo!A9="","",IF(M1_Administrativo!D9="","",M1_Administrativo!D9)) | W5: =IF(M1_Administrativo!A9="","",IF(M1_Administrativo!B9="","",M1_Administrativo!B9)) | X5: =IF(M1_Administrativo!A9="","",IF(M1_Administrativo!C9="","",M1_Administrativo!C9)) | Y5: =IF(M1_Administrativo!A9="","",IF(M1_Administrativo!E9="","",M1_Administrativo!E9)) | Z5: =IF(M1_Administrativo!A9="","",IF(M1_Administrativo!F9="","",M1_Administrativo!F9)) | AA5: =IF(M1_Administrativo!A9="","","M1 Administrativo") | AB5: =IF(M1_Administrativo!A9="","",IF(M1_Administrativo!G9="","",M1_Administrativo!G9)) | AC5: =IF(M1_Administrativo!A9="","",IF(M1_Administrativo!M9="","",M1_Administrativo!M9)) | AD5: =IF(M1_Administrativo!A9="","","RA") | AE5: =IF(M1_Administrativo!A9="","",IF(M1_Administrativo!O9="","",M1_Administrativo!O9)) | AF5: =IF(M1_Administrativo!A9="","",IF(M1_Administrativo!P9="","",M1_Administrativo!P9)) | AG5: =IF(M1_Administrativo!A9="","",IF(M1_Administrativo!Q9="","",M1_Administrativo!Q9)) | AH5: =IF(M1_Administrativo!A9="","","") | AI5: =IF(M1_Administrativo!A9="","","M1_Administrativo!9") | AJ5: =IF(M1_Administrativo!A9="","",IF(M1_Administrativo!M9="","Pendiente de resultado","Disponible"))
A6: {=IF(2>$S$1204,"",INDEX($T$5:$AJ$1204,MATCH(2,$S$5:$S$1204,0),1))} | B6: =IF(2>$S$1204,"",INDEX($T$5:$AJ$1204,MATCH(2,$S$5:$S$1204,0),2)) | C6: {=IF(2>$S$1204,"",INDEX($T$5:$AJ$1204,MATCH(2,$S$5:$S$1204,0),3))} | D6: {=IF(2>$S$1204,"",INDEX($T$5:$AJ$1204,MATCH(2,$S$5:$S$1204,0),4))} | E6: {=IF(2>$S$1204,"",INDEX($T$5:$AJ$1204,MATCH(2,$S$5:$S$1204,0),5))} | F6: {=IF(2>$S$1204,"",INDEX($T$5:$AJ$1204,MATCH(2,$S$5:$S$1204,0),6))} | G6: {=IF(2>$S$1204,"",INDEX($T$5:$AJ$1204,MATCH(2,$S$5:$S$1204,0),7))} | H6: {=IF(2>$S$1204,"",INDEX($T$5:$AJ$1204,MATCH(2,$S$5:$S$1204,0),8))} | I6: {=IF(2>$S$1204,"",INDEX($T$5:$AJ$1204,MATCH(2,$S$5:$S$1204,0),9))} | J6: {=IF(2>$S$1204,"",INDEX($T$5:$AJ$1204,MATCH(2,$S$5:$S$1204,0),10))} | K6: {=IF(2>$S$1204,"",INDEX($T$5:$AJ$1204,MATCH(2,$S$5:$S$1204,0),11))} | L6: {=IF(2>$S$1204,"",INDEX($T$5:$AJ$1204,MATCH(2,$S$5:$S$1204,0),12))} | M6: {=IF(2>$S$1204,"",INDEX($T$5:$AJ$1204,MATCH(2,$S$5:$S$1204,0),13))} | N6: {=IF(2>$S$1204,"",INDEX($T$5:$AJ$1204,MATCH(2,$S$5:$S$1204,0),14))} | O6: {=IF(2>$S$1204,"",INDEX($T$5:$AJ$1204,MATCH(2,$S$5:$S$1204,0),15))} | P6: {=IF(2>$S$1204,"",INDEX($T$5:$AJ$1204,MATCH(2,$S$5:$S$1204,0),16))} | Q6: {=IF(2>$S$1204,"",INDEX($T$5:$AJ$1204,MATCH(2,$S$5:$S$1204,0),17))} | S6: =S5+IF(M1_Administrativo!A10="",0,1) -> 0 | T6: =IF(M1_Administrativo!A10="","",IF(M1_Administrativo!A10="","",M1_Administrativo!A10)) | U6: =IF(M1_Administrativo!A10="","",IF(M1_Administrativo!R10="","",M1_Administrativo!R10)) | V6: =IF(M1_Administrativo!A10="","",IF(M1_Administrativo!D10="","",M1_Administrativo!D10)) | W6: =IF(M1_Administrativo!A10="","",IF(M1_Administrativo!B10="","",M1_Administrativo!B10)) | X6: =IF(M1_Administrativo!A10="","",IF(M1_Administrativo!C10="","",M1_Administrativo!C10)) | Y6: =IF(M1_Administrativo!A10="","",IF(M1_Administrativo!E10="","",M1_Administrativo!E10)) | Z6: =IF(M1_Administrativo!A10="","",IF(M1_Administrativo!F10="","",M1_Administrativo!F10)) | AA6: =IF(M1_Administrativo!A10="","","M1 Administrativo") | AB6: =IF(M1_Administrativo!A10="","",IF(M1_Administrativo!G10="","",M1_Administrativo!G10)) | AC6: =IF(M1_Administrativo!A10="","",IF(M1_Administrativo!M10="","",M1_Administrativo!M10)) | AD6: =IF(M1_Administrativo!A10="","","RA") | AE6: =IF(M1_Administrativo!A10="","",IF(M1_Administrativo!O10="","",M1_Administrativo!O10)) | AF6: =IF(M1_Administrativo!A10="","",IF(M1_Administrativo!P10="","",M1_Administrativo!P10)) | AG6: =IF(M1_Administrativo!A10="","",IF(M1_Administrativo!Q10="","",M1_Administrativo!Q10)) | AH6: =IF(M1_Administrativo!A10="","","") | AI6: =IF(M1_Administrativo!A10="","","M1_Administrativo!10") | AJ6: =IF(M1_Administrativo!A10="","",IF(M1_Administrativo!M10="","Pendiente de resultado","Disponible"))
A7: {=IF(3>$S$1204,"",INDEX($T$5:$AJ$1204,MATCH(3,$S$5:$S$1204,0),1))} | B7: =IF(2>$S$1204,"",INDEX($T$5:$AJ$1204,MATCH(2,$S$5:$S$1204,0),2)) | C7: {=IF(3>$S$1204,"",INDEX($T$5:$AJ$1204,MATCH(3,$S$5:$S$1204,0),3))} | D7: {=IF(3>$S$1204,"",INDEX($T$5:$AJ$1204,MATCH(3,$S$5:$S$1204,0),4))} | E7: {=IF(3>$S$1204,"",INDEX($T$5:$AJ$1204,MATCH(3,$S$5:$S$1204,0),5))} | F7: {=IF(3>$S$1204,"",INDEX($T$5:$AJ$1204,MATCH(3,$S$5:$S$1204,0),6))} | G7: {=IF(3>$S$1204,"",INDEX($T$5:$AJ$1204,MATCH(3,$S$5:$S$1204,0),7))} | H7: {=IF(3>$S$1204,"",INDEX($T$5:$AJ$1204,MATCH(3,$S$5:$S$1204,0),8))} | I7: {=IF(3>$S$1204,"",INDEX($T$5:$AJ$1204,MATCH(3,$S$5:$S$1204,0),9))} | J7: {=IF(3>$S$1204,"",INDEX($T$5:$AJ$1204,MATCH(3,$S$5:$S$1204,0),10))} | K7: {=IF(3>$S$1204,"",INDEX($T$5:$AJ$1204,MATCH(3,$S$5:$S$1204,0),11))} | L7: {=IF(3>$S$1204,"",INDEX($T$5:$AJ$1204,MATCH(3,$S$5:$S$1204,0),12))} | M7: {=IF(3>$S$1204,"",INDEX($T$5:$AJ$1204,MATCH(3,$S$5:$S$1204,0),13))} | N7: {=IF(3>$S$1204,"",INDEX($T$5:$AJ$1204,MATCH(3,$S$5:$S$1204,0),14))} | O7: {=IF(3>$S$1204,"",INDEX($T$5:$AJ$1204,MATCH(3,$S$5:$S$1204,0),15))} | P7: {=IF(3>$S$1204,"",INDEX($T$5:$AJ$1204,MATCH(3,$S$5:$S$1204,0),16))} | Q7: {=IF(3>$S$1204,"",INDEX($T$5:$AJ$1204,MATCH(3,$S$5:$S$1204,0),17))} | S7: =S6+IF(M1_Administrativo!A11="",0,1) -> 0 | T7: =IF(M1_Administrativo!A11="","",IF(M1_Administrativo!A11="","",M1_Administrativo!A11)) | U7: =IF(M1_Administrativo!A11="","",IF(M1_Administrativo!R11="","",M1_Administrativo!R11)) | V7: =IF(M1_Administrativo!A11="","",IF(M1_Administrativo!D11="","",M1_Administrativo!D11)) | W7: =IF(M1_Administrativo!A11="","",IF(M1_Administrativo!B11="","",M1_Administrativo!B11)) | X7: =IF(M1_Administrativo!A11="","",IF(M1_Administrativo!C11="","",M1_Administrativo!C11)) | Y7: =IF(M1_Administrativo!A11="","",IF(M1_Administrativo!E11="","",M1_Administrativo!E11)) | Z7: =IF(M1_Administrativo!A11="","",IF(M1_Administrativo!F11="","",M1_Administrativo!F11)) | AA7: =IF(M1_Administrativo!A11="","","M1 Administrativo") | AB7: =IF(M1_Administrativo!A11="","",IF(M1_Administrativo!G11="","",M1_Administrativo!G11)) | AC7: =IF(M1_Administrativo!A11="","",IF(M1_Administrativo!M11="","",M1_Administrativo!M11)) | AD7: =IF(M1_Administrativo!A11="","","RA") | AE7: =IF(M1_Administrativo!A11="","",IF(M1_Administrativo!O11="","",M1_Administrativo!O11)) | AF7: =IF(M1_Administrativo!A11="","",IF(M1_Administrativo!P11="","",M1_Administrativo!P11)) | AG7: =IF(M1_Administrativo!A11="","",IF(M1_Administrativo!Q11="","",M1_Administrativo!Q11)) | AH7: =IF(M1_Administrativo!A11="","","") | AI7: =IF(M1_Administrativo!A11="","","M1_Administrativo!11") | AJ7: =IF(M1_Administrativo!A11="","",IF(M1_Administrativo!M11="","Pendiente de resultado","Disponible"))
A8: {=IF(4>$S$1204,"",INDEX($T$5:$AJ$1204,MATCH(4,$S$5:$S$1204,0),1))} | B8: =IF(2>$S$1204,"",INDEX($T$5:$AJ$1204,MATCH(2,$S$5:$S$1204,0),2)) | C8: {=IF(4>$S$1204,"",INDEX($T$5:$AJ$1204,MATCH(4,$S$5:$S$1204,0),3))} | D8: {=IF(4>$S$1204,"",INDEX($T$5:$AJ$1204,MATCH(4,$S$5:$S$1204,0),4))} | E8: {=IF(4>$S$1204,"",INDEX($T$5:$AJ$1204,MATCH(4,$S$5:$S$1204,0),5))} | F8: {=IF(4>$S$1204,"",INDEX($T$5:$AJ$1204,MATCH(4,$S$5:$S$1204,0),6))} | G8: {=IF(4>$S$1204,"",INDEX($T$5:$AJ$1204,MATCH(4,$S$5:$S$1204,0),7))} | H8: {=IF(4>$S$1204,"",INDEX($T$5:$AJ$1204,MATCH(4,$S$5:$S$1204,0),8))} | I8: {=IF(4>$S$1204,"",INDEX($T$5:$AJ$1204,MATCH(4,$S$5:$S$1204,0),9))} | J8: {=IF(4>$S$1204,"",INDEX($T$5:$AJ$1204,MATCH(4,$S$5:$S$1204,0),10))} | K8: {=IF(4>$S$1204,"",INDEX($T$5:$AJ$1204,MATCH(4,$S$5:$S$1204,0),11))} | L8: {=IF(4>$S$1204,"",INDEX($T$5:$AJ$1204,MATCH(4,$S$5:$S$1204,0),12))} | M8: {=IF(4>$S$1204,"",INDEX($T$5:$AJ$1204,MATCH(4,$S$5:$S$1204,0),13))} | N8: {=IF(4>$S$1204,"",INDEX($T$5:$AJ$1204,MATCH(4,$S$5:$S$1204,0),14))} | O8: {=IF(4>$S$1204,"",INDEX($T$5:$AJ$1204,MATCH(4,$S$5:$S$1204,0),15))} | P8: {=IF(4>$S$1204,"",INDEX($T$5:$AJ$1204,MATCH(4,$S$5:$S$1204,0),16))} | Q8: {=IF(4>$S$1204,"",INDEX($T$5:$AJ$1204,MATCH(4,$S$5:$S$1204,0),17))} | S8: =S7+IF(M1_Administrativo!A12="",0,1) -> 0 | T8: =IF(M1_Administrativo!A12="","",IF(M1_Administrativo!A12="","",M1_Administrativo!A12)) | U8: =IF(M1_Administrativo!A12="","",IF(M1_Administrativo!R12="","",M1_Administrativo!R12)) | V8: =IF(M1_Administrativo!A12="","",IF(M1_Administrativo!D12="","",M1_Administrativo!D12)) | W8: =IF(M1_Administrativo!A12="","",IF(M1_Administrativo!B12="","",M1_Administrativo!B12)) | X8: =IF(M1_Administrativo!A12="","",IF(M1_Administrativo!C12="","",M1_Administrativo!C12)) | Y8: =IF(M1_Administrativo!A12="","",IF(M1_Administrativo!E12="","",M1_Administrativo!E12)) | Z8: =IF(M1_Administrativo!A12="","",IF(M1_Administrativo!F12="","",M1_Administrativo!F12)) | AA8: =IF(M1_Administrativo!A12="","","M1 Administrativo") | AB8: =IF(M1_Administrativo!A12="","",IF(M1_Administrativo!G12="","",M1_Administrativo!G12)) | AC8: =IF(M1_Administrativo!A12="","",IF(M1_Administrativo!M12="","",M1_Administrativo!M12)) | AD8: =IF(M1_Administrativo!A12="","","RA") | AE8: =IF(M1_Administrativo!A12="","",IF(M1_Administrativo!O12="","",M1_Administrativo!O12)) | AF8: =IF(M1_Administrativo!A12="","",IF(M1_Administrativo!P12="","",M1_Administrativo!P12)) | AG8: =IF(M1_Administrativo!A12="","",IF(M1_Administrativo!Q12="","",M1_Administrativo!Q12)) | AH8: =IF(M1_Administrativo!A12="","","") | AI8: =IF(M1_Administrativo!A12="","","M1_Administrativo!12") | AJ8: =IF(M1_Administrativo!A12="","",IF(M1_Administrativo!M12="","Pendiente de resultado","Disponible"))
A9: {=IF(5>$S$1204,"",INDEX($T$5:$AJ$1204,MATCH(5,$S$5:$S$1204,0),1))} | B9: =IF(2>$S$1204,"",INDEX($T$5:$AJ$1204,MATCH(2,$S$5:$S$1204,0),2)) | C9: {=IF(5>$S$1204,"",INDEX($T$5:$AJ$1204,MATCH(5,$S$5:$S$1204,0),3))} | D9: {=IF(5>$S$1204,"",INDEX($T$5:$AJ$1204,MATCH(5,$S$5:$S$1204,0),4))} | E9: {=IF(5>$S$1204,"",INDEX($T$5:$AJ$1204,MATCH(5,$S$5:$S$1204,0),5))} | F9: {=IF(5>$S$1204,"",INDEX($T$5:$AJ$1204,MATCH(5,$S$5:$S$1204,0),6))} | G9: {=IF(5>$S$1204,"",INDEX($T$5:$AJ$1204,MATCH(5,$S$5:$S$1204,0),7))} | H9: {=IF(5>$S$1204,"",INDEX($T$5:$AJ$1204,MATCH(5,$S$5:$S$1204,0),8))} | I9: {=IF(5>$S$1204,"",INDEX($T$5:$AJ$1204,MATCH(5,$S$5:$S$1204,0),9))} | J9: {=IF(5>$S$1204,"",INDEX($T$5:$AJ$1204,MATCH(5,$S$5:$S$1204,0),10))} | K9: {=IF(5>$S$1204,"",INDEX($T$5:$AJ$1204,MATCH(5,$S$5:$S$1204,0),11))} | L9: {=IF(5>$S$1204,"",INDEX($T$5:$AJ$1204,MATCH(5,$S$5:$S$1204,0),12))} | M9: {=IF(5>$S$1204,"",INDEX($T$5:$AJ$1204,MATCH(5,$S$5:$S$1204,0),13))} | N9: {=IF(5>$S$1204,"",INDEX($T$5:$AJ$1204,MATCH(5,$S$5:$S$1204,0),14))} | O9: {=IF(5>$S$1204,"",INDEX($T$5:$AJ$1204,MATCH(5,$S$5:$S$1204,0),15))} | P9: {=IF(5>$S$1204,"",INDEX($T$5:$AJ$1204,MATCH(5,$S$5:$S$1204,0),16))} | Q9: {=IF(5>$S$1204,"",INDEX($T$5:$AJ$1204,MATCH(5,$S$5:$S$1204,0),17))} | S9: =S8+IF(M1_Administrativo!A13="",0,1) -> 0 | T9: =IF(M1_Administrativo!A13="","",IF(M1_Administrativo!A13="","",M1_Administrativo!A13)) | U9: =IF(M1_Administrativo!A13="","",IF(M1_Administrativo!R13="","",M1_Administrativo!R13)) | V9: =IF(M1_Administrativo!A13="","",IF(M1_Administrativo!D13="","",M1_Administrativo!D13)) | W9: =IF(M1_Administrativo!A13="","",IF(M1_Administrativo!B13="","",M1_Administrativo!B13)) | X9: =IF(M1_Administrativo!A13="","",IF(M1_Administrativo!C13="","",M1_Administrativo!C13)) | Y9: =IF(M1_Administrativo!A13="","",IF(M1_Administrativo!E13="","",M1_Administrativo!E13)) | Z9: =IF(M1_Administrativo!A13="","",IF(M1_Administrativo!F13="","",M1_Administrativo!F13)) | AA9: =IF(M1_Administrativo!A13="","","M1 Administrativo") | AB9: =IF(M1_Administrativo!A13="","",IF(M1_Administrativo!G13="","",M1_Administrativo!G13)) | AC9: =IF(M1_Administrativo!A13="","",IF(M1_Administrativo!M13="","",M1_Administrativo!M13)) | AD9: =IF(M1_Administrativo!A13="","","RA") | AE9: =IF(M1_Administrativo!A13="","",IF(M1_Administrativo!O13="","",M1_Administrativo!O13)) | AF9: =IF(M1_Administrativo!A13="","",IF(M1_Administrativo!P13="","",M1_Administrativo!P13)) | AG9: =IF(M1_Administrativo!A13="","",IF(M1_Administrativo!Q13="","",M1_Administrativo!Q13)) | AH9: =IF(M1_Administrativo!A13="","","") | AI9: =IF(M1_Administrativo!A13="","","M1_Administrativo!13") | AJ9: =IF(M1_Administrativo!A13="","",IF(M1_Administrativo!M13="","Pendiente de resultado","Disponible"))
A10: {=IF(6>$S$1204,"",INDEX($T$5:$AJ$1204,MATCH(6,$S$5:$S$1204,0),1))} | B10: {=IF(6>$S$1204,"",INDEX($T$5:$AJ$1204,MATCH(6,$S$5:$S$1204,0),2))} | C10: {=IF(6>$S$1204,"",INDEX($T$5:$AJ$1204,MATCH(6,$S$5:$S$1204,0),3))} | D10: {=IF(6>$S$1204,"",INDEX($T$5:$AJ$1204,MATCH(6,$S$5:$S$1204,0),4))} | E10: {=IF(6>$S$1204,"",INDEX($T$5:$AJ$1204,MATCH(6,$S$5:$S$1204,0),5))} | F10: {=IF(6>$S$1204,"",INDEX($T$5:$AJ$1204,MATCH(6,$S$5:$S$1204,0),6))} | G10: {=IF(6>$S$1204,"",INDEX($T$5:$AJ$1204,MATCH(6,$S$5:$S$1204,0),7))} | H10: {=IF(6>$S$1204,"",INDEX($T$5:$AJ$1204,MATCH(6,$S$5:$S$1204,0),8))} | I10: {=IF(6>$S$1204,"",INDEX($T$5:$AJ$1204,MATCH(6,$S$5:$S$1204,0),9))} | J10: {=IF(6>$S$1204,"",INDEX($T$5:$AJ$1204,MATCH(6,$S$5:$S$1204,0),10))} | K10: {=IF(6>$S$1204,"",INDEX($T$5:$AJ$1204,MATCH(6,$S$5:$S$1204,0),11))} | L10: {=IF(6>$S$1204,"",INDEX($T$5:$AJ$1204,MATCH(6,$S$5:$S$1204,0),12))} | M10: {=IF(6>$S$1204,"",INDEX($T$5:$AJ$1204,MATCH(6,$S$5:$S$1204,0),13))} | N10: {=IF(6>$S$1204,"",INDEX($T$5:$AJ$1204,MATCH(6,$S$5:$S$1204,0),14))} | O10: {=IF(6>$S$1204,"",INDEX($T$5:$AJ$1204,MATCH(6,$S$5:$S$1204,0),15))} | P10: {=IF(6>$S$1204,"",INDEX($T$5:$AJ$1204,MATCH(6,$S$5:$S$1204,0),16))} | Q10: {=IF(6>$S$1204,"",INDEX($T$5:$AJ$1204,MATCH(6,$S$5:$S$1204,0),17))} | S10: =S9+IF(M1_Administrativo!A14="",0,1) -> 0 | T10: =IF(M1_Administrativo!A14="","",IF(M1_Administrativo!A14="","",M1_Administrativo!A14)) | U10: =IF(M1_Administrativo!A14="","",IF(M1_Administrativo!R14="","",M1_Administrativo!R14)) | V10: =IF(M1_Administrativo!A14="","",IF(M1_Administrativo!D14="","",M1_Administrativo!D14)) | W10: =IF(M1_Administrativo!A14="","",IF(M1_Administrativo!B14="","",M1_Administrativo!B14)) | X10: =IF(M1_Administrativo!A14="","",IF(M1_Administrativo!C14="","",M1_Administrativo!C14)) | Y10: =IF(M1_Administrativo!A14="","",IF(M1_Administrativo!E14="","",M1_Administrativo!E14)) | Z10: =IF(M1_Administrativo!A14="","",IF(M1_Administrativo!F14="","",M1_Administrativo!F14)) | AA10: =IF(M1_Administrativo!A14="","","M1 Administrativo") | AB10: =IF(M1_Administrativo!A14="","",IF(M1_Administrativo!G14="","",M1_Administrativo!G14)) | AC10: =IF(M1_Administrativo!A14="","",IF(M1_Administrativo!M14="","",M1_Administrativo!M14)) | AD10: =IF(M1_Administrativo!A14="","","RA") | AE10: =IF(M1_Administrativo!A14="","",IF(M1_Administrativo!O14="","",M1_Administrativo!O14)) | AF10: =IF(M1_Administrativo!A14="","",IF(M1_Administrativo!P14="","",M1_Administrativo!P14)) | AG10: =IF(M1_Administrativo!A14="","",IF(M1_Administrativo!Q14="","",M1_Administrativo!Q14)) | AH10: =IF(M1_Administrativo!A14="","","") | AI10: =IF(M1_Administrativo!A14="","","M1_Administrativo!14") | AJ10: =IF(M1_Administrativo!A14="","",IF(M1_Administrativo!M14="","Pendiente de resultado","Disponible"))
A11: {=IF(7>$S$1204,"",INDEX($T$5:$AJ$1204,MATCH(7,$S$5:$S$1204,0),1))} | B11: {=IF(7>$S$1204,"",INDEX($T$5:$AJ$1204,MATCH(7,$S$5:$S$1204,0),2))} | C11: {=IF(7>$S$1204,"",INDEX($T$5:$AJ$1204,MATCH(7,$S$5:$S$1204,0),3))} | D11: {=IF(7>$S$1204,"",INDEX($T$5:$AJ$1204,MATCH(7,$S$5:$S$1204,0),4))} | E11: {=IF(7>$S$1204,"",INDEX($T$5:$AJ$1204,MATCH(7,$S$5:$S$1204,0),5))} | F11: {=IF(7>$S$1204,"",INDEX($T$5:$AJ$1204,MATCH(7,$S$5:$S$1204,0),6))} | G11: {=IF(7>$S$1204,"",INDEX($T$5:$AJ$1204,MATCH(7,$S$5:$S$1204,0),7))} | H11: {=IF(7>$S$1204,"",INDEX($T$5:$AJ$1204,MATCH(7,$S$5:$S$1204,0),8))} | I11: {=IF(7>$S$1204,"",INDEX($T$5:$AJ$1204,MATCH(7,$S$5:$S$1204,0),9))} | J11: {=IF(7>$S$1204,"",INDEX($T$5:$AJ$1204,MATCH(7,$S$5:$S$1204,0),10))} | K11: {=IF(7>$S$1204,"",INDEX($T$5:$AJ$1204,MATCH(7,$S$5:$S$1204,0),11))} | L11: {=IF(7>$S$1204,"",INDEX($T$5:$AJ$1204,MATCH(7,$S$5:$S$1204,0),12))} | M11: {=IF(7>$S$1204,"",INDEX($T$5:$AJ$1204,MATCH(7,$S$5:$S$1204,0),13))} | N11: {=IF(7>$S$1204,"",INDEX($T$5:$AJ$1204,MATCH(7,$S$5:$S$1204,0),14))} | O11: {=IF(7>$S$1204,"",INDEX($T$5:$AJ$1204,MATCH(7,$S$5:$S$1204,0),15))} | P11: {=IF(7>$S$1204,"",INDEX($T$5:$AJ$1204,MATCH(7,$S$5:$S$1204,0),16))} | Q11: {=IF(7>$S$1204,"",INDEX($T$5:$AJ$1204,MATCH(7,$S$5:$S$1204,0),17))} | S11: =S10+IF(M1_Administrativo!A15="",0,1) -> 0 | T11: =IF(M1_Administrativo!A15="","",IF(M1_Administrativo!A15="","",M1_Administrativo!A15)) | U11: =IF(M1_Administrativo!A15="","",IF(M1_Administrativo!R15="","",M1_Administrativo!R15)) | V11: =IF(M1_Administrativo!A15="","",IF(M1_Administrativo!D15="","",M1_Administrativo!D15)) | W11: =IF(M1_Administrativo!A15="","",IF(M1_Administrativo!B15="","",M1_Administrativo!B15)) | X11: =IF(M1_Administrativo!A15="","",IF(M1_Administrativo!C15="","",M1_Administrativo!C15)) | Y11: =IF(M1_Administrativo!A15="","",IF(M1_Administrativo!E15="","",M1_Administrativo!E15)) | Z11: =IF(M1_Administrativo!A15="","",IF(M1_Administrativo!F15="","",M1_Administrativo!F15)) | AA11: =IF(M1_Administrativo!A15="","","M1 Administrativo") | AB11: =IF(M1_Administrativo!A15="","",IF(M1_Administrativo!G15="","",M1_Administrativo!G15)) | AC11: =IF(M1_Administrativo!A15="","",IF(M1_Administrativo!M15="","",M1_Administrativo!M15)) | AD11: =IF(M1_Administrativo!A15="","","RA") | AE11: =IF(M1_Administrativo!A15="","",IF(M1_Administrativo!O15="","",M1_Administrativo!O15)) | AF11: =IF(M1_Administrativo!A15="","",IF(M1_Administrativo!P15="","",M1_Administrativo!P15)) | AG11: =IF(M1_Administrativo!A15="","",IF(M1_Administrativo!Q15="","",M1_Administrativo!Q15)) | AH11: =IF(M1_Administrativo!A15="","","") | AI11: =IF(M1_Administrativo!A15="","","M1_Administrativo!15") | AJ11: =IF(M1_Administrativo!A15="","",IF(M1_Administrativo!M15="","Pendiente de resultado","Disponible"))
A12: {=IF(8>$S$1204,"",INDEX($T$5:$AJ$1204,MATCH(8,$S$5:$S$1204,0),1))} | B12: {=IF(8>$S$1204,"",INDEX($T$5:$AJ$1204,MATCH(8,$S$5:$S$1204,0),2))} | C12: {=IF(8>$S$1204,"",INDEX($T$5:$AJ$1204,MATCH(8,$S$5:$S$1204,0),3))} | D12: {=IF(8>$S$1204,"",INDEX($T$5:$AJ$1204,MATCH(8,$S$5:$S$1204,0),4))} | E12: {=IF(8>$S$1204,"",INDEX($T$5:$AJ$1204,MATCH(8,$S$5:$S$1204,0),5))} | F12: {=IF(8>$S$1204,"",INDEX($T$5:$AJ$1204,MATCH(8,$S$5:$S$1204,0),6))} | G12: {=IF(8>$S$1204,"",INDEX($T$5:$AJ$1204,MATCH(8,$S$5:$S$1204,0),7))} | H12: {=IF(8>$S$1204,"",INDEX($T$5:$AJ$1204,MATCH(8,$S$5:$S$1204,0),8))} | I12: {=IF(8>$S$1204,"",INDEX($T$5:$AJ$1204,MATCH(8,$S$5:$S$1204,0),9))} | J12: {=IF(8>$S$1204,"",INDEX($T$5:$AJ$1204,MATCH(8,$S$5:$S$1204,0),10))} | K12: {=IF(8>$S$1204,"",INDEX($T$5:$AJ$1204,MATCH(8,$S$5:$S$1204,0),11))} | L12: {=IF(8>$S$1204,"",INDEX($T$5:$AJ$1204,MATCH(8,$S$5:$S$1204,0),12))} | M12: {=IF(8>$S$1204,"",INDEX($T$5:$AJ$1204,MATCH(8,$S$5:$S$1204,0),13))} | N12: {=IF(8>$S$1204,"",INDEX($T$5:$AJ$1204,MATCH(8,$S$5:$S$1204,0),14))} | O12: {=IF(8>$S$1204,"",INDEX($T$5:$AJ$1204,MATCH(8,$S$5:$S$1204,0),15))} | P12: {=IF(8>$S$1204,"",INDEX($T$5:$AJ$1204,MATCH(8,$S$5:$S$1204,0),16))} | Q12: {=IF(8>$S$1204,"",INDEX($T$5:$AJ$1204,MATCH(8,$S$5:$S$1204,0),17))} | S12: =S11+IF(M1_Administrativo!A16="",0,1) -> 0 | T12: =IF(M1_Administrativo!A16="","",IF(M1_Administrativo!A16="","",M1_Administrativo!A16)) | U12: =IF(M1_Administrativo!A16="","",IF(M1_Administrativo!R16="","",M1_Administrativo!R16)) | V12: =IF(M1_Administrativo!A16="","",IF(M1_Administrativo!D16="","",M1_Administrativo!D16)) | W12: =IF(M1_Administrativo!A16="","",IF(M1_Administrativo!B16="","",M1_Administrativo!B16)) | X12: =IF(M1_Administrativo!A16="","",IF(M1_Administrativo!C16="","",M1_Administrativo!C16)) | Y12: =IF(M1_Administrativo!A16="","",IF(M1_Administrativo!E16="","",M1_Administrativo!E16)) | Z12: =IF(M1_Administrativo!A16="","",IF(M1_Administrativo!F16="","",M1_Administrativo!F16)) | AA12: =IF(M1_Administrativo!A16="","","M1 Administrativo") | AB12: =IF(M1_Administrativo!A16="","",IF(M1_Administrativo!G16="","",M1_Administrativo!G16)) | AC12: =IF(M1_Administrativo!A16="","",IF(M1_Administrativo!M16="","",M1_Administrativo!M16)) | AD12: =IF(M1_Administrativo!A16="","","RA") | AE12: =IF(M1_Administrativo!A16="","",IF(M1_Administrativo!O16="","",M1_Administrativo!O16)) | AF12: =IF(M1_Administrativo!A16="","",IF(M1_Administrativo!P16="","",M1_Administrativo!P16)) | AG12: =IF(M1_Administrativo!A16="","",IF(M1_Administrativo!Q16="","",M1_Administrativo!Q16)) | AH12: =IF(M1_Administrativo!A16="","","") | AI12: =IF(M1_Administrativo!A16="","","M1_Administrativo!16") | AJ12: =IF(M1_Administrativo!A16="","",IF(M1_Administrativo!M16="","Pendiente de resultado","Disponible"))
A13: {=IF(9>$S$1204,"",INDEX($T$5:$AJ$1204,MATCH(9,$S$5:$S$1204,0),1))} | B13: {=IF(9>$S$1204,"",INDEX($T$5:$AJ$1204,MATCH(9,$S$5:$S$1204,0),2))} | C13: {=IF(9>$S$1204,"",INDEX($T$5:$AJ$1204,MATCH(9,$S$5:$S$1204,0),3))} | D13: {=IF(9>$S$1204,"",INDEX($T$5:$AJ$1204,MATCH(9,$S$5:$S$1204,0),4))} | E13: {=IF(9>$S$1204,"",INDEX($T$5:$AJ$1204,MATCH(9,$S$5:$S$1204,0),5))} | F13: {=IF(9>$S$1204,"",INDEX($T$5:$AJ$1204,MATCH(9,$S$5:$S$1204,0),6))} | G13: {=IF(9>$S$1204,"",INDEX($T$5:$AJ$1204,MATCH(9,$S$5:$S$1204,0),7))} | H13: {=IF(9>$S$1204,"",INDEX($T$5:$AJ$1204,MATCH(9,$S$5:$S$1204,0),8))} | I13: {=IF(9>$S$1204,"",INDEX($T$5:$AJ$1204,MATCH(9,$S$5:$S$1204,0),9))} | J13: {=IF(9>$S$1204,"",INDEX($T$5:$AJ$1204,MATCH(9,$S$5:$S$1204,0),10))} | K13: {=IF(9>$S$1204,"",INDEX($T$5:$AJ$1204,MATCH(9,$S$5:$S$1204,0),11))} | L13: {=IF(9>$S$1204,"",INDEX($T$5:$AJ$1204,MATCH(9,$S$5:$S$1204,0),12))} | M13: {=IF(9>$S$1204,"",INDEX($T$5:$AJ$1204,MATCH(9,$S$5:$S$1204,0),13))} | N13: {=IF(9>$S$1204,"",INDEX($T$5:$AJ$1204,MATCH(9,$S$5:$S$1204,0),14))} | O13: {=IF(9>$S$1204,"",INDEX($T$5:$AJ$1204,MATCH(9,$S$5:$S$1204,0),15))} | P13: {=IF(9>$S$1204,"",INDEX($T$5:$AJ$1204,MATCH(9,$S$5:$S$1204,0),16))} | Q13: {=IF(9>$S$1204,"",INDEX($T$5:$AJ$1204,MATCH(9,$S$5:$S$1204,0),17))} | S13: =S12+IF(M1_Administrativo!A17="",0,1) -> 0 | T13: =IF(M1_Administrativo!A17="","",IF(M1_Administrativo!A17="","",M1_Administrativo!A17)) | U13: =IF(M1_Administrativo!A17="","",IF(M1_Administrativo!R17="","",M1_Administrativo!R17)) | V13: =IF(M1_Administrativo!A17="","",IF(M1_Administrativo!D17="","",M1_Administrativo!D17)) | W13: =IF(M1_Administrativo!A17="","",IF(M1_Administrativo!B17="","",M1_Administrativo!B17)) | X13: =IF(M1_Administrativo!A17="","",IF(M1_Administrativo!C17="","",M1_Administrativo!C17)) | Y13: =IF(M1_Administrativo!A17="","",IF(M1_Administrativo!E17="","",M1_Administrativo!E17)) | Z13: =IF(M1_Administrativo!A17="","",IF(M1_Administrativo!F17="","",M1_Administrativo!F17)) | AA13: =IF(M1_Administrativo!A17="","","M1 Administrativo") | AB13: =IF(M1_Administrativo!A17="","",IF(M1_Administrativo!G17="","",M1_Administrativo!G17)) | AC13: =IF(M1_Administrativo!A17="","",IF(M1_Administrativo!M17="","",M1_Administrativo!M17)) | AD13: =IF(M1_Administrativo!A17="","","RA") | AE13: =IF(M1_Administrativo!A17="","",IF(M1_Administrativo!O17="","",M1_Administrativo!O17)) | AF13: =IF(M1_Administrativo!A17="","",IF(M1_Administrativo!P17="","",M1_Administrativo!P17)) | AG13: =IF(M1_Administrativo!A17="","",IF(M1_Administrativo!Q17="","",M1_Administrativo!Q17)) | AH13: =IF(M1_Administrativo!A17="","","") | AI13: =IF(M1_Administrativo!A17="","","M1_Administrativo!17") | AJ13: =IF(M1_Administrativo!A17="","",IF(M1_Administrativo!M17="","Pendiente de resultado","Disponible"))
A14: {=IF(10>$S$1204,"",INDEX($T$5:$AJ$1204,MATCH(10,$S$5:$S$1204,0),1))} | B14: {=IF(10>$S$1204,"",INDEX($T$5:$AJ$1204,MATCH(10,$S$5:$S$1204,0),2))} | C14: {=IF(10>$S$1204,"",INDEX($T$5:$AJ$1204,MATCH(10,$S$5:$S$1204,0),3))} | D14: {=IF(10>$S$1204,"",INDEX($T$5:$AJ$1204,MATCH(10,$S$5:$S$1204,0),4))} | E14: {=IF(10>$S$1204,"",INDEX($T$5:$AJ$1204,MATCH(10,$S$5:$S$1204,0),5))} | F14: {=IF(10>$S$1204,"",INDEX($T$5:$AJ$1204,MATCH(10,$S$5:$S$1204,0),6))} | G14: {=IF(10>$S$1204,"",INDEX($T$5:$AJ$1204,MATCH(10,$S$5:$S$1204,0),7))} | H14: {=IF(10>$S$1204,"",INDEX($T$5:$AJ$1204,MATCH(10,$S$5:$S$1204,0),8))} | I14: {=IF(10>$S$1204,"",INDEX($T$5:$AJ$1204,MATCH(10,$S$5:$S$1204,0),9))} | J14: {=IF(10>$S$1204,"",INDEX($T$5:$AJ$1204,MATCH(10,$S$5:$S$1204,0),10))} | K14: {=IF(10>$S$1204,"",INDEX($T$5:$AJ$1204,MATCH(10,$S$5:$S$1204,0),11))} | L14: {=IF(10>$S$1204,"",INDEX($T$5:$AJ$1204,MATCH(10,$S$5:$S$1204,0),12))} | M14: {=IF(10>$S$1204,"",INDEX($T$5:$AJ$1204,MATCH(10,$S$5:$S$1204,0),13))} | N14: {=IF(10>$S$1204,"",INDEX($T$5:$AJ$1204,MATCH(10,$S$5:$S$1204,0),14))} | O14: {=IF(10>$S$1204,"",INDEX($T$5:$AJ$1204,MATCH(10,$S$5:$S$1204,0),15))} | P14: {=IF(10>$S$1204,"",INDEX($T$5:$AJ$1204,MATCH(10,$S$5:$S$1204,0),16))} | Q14: {=IF(10>$S$1204,"",INDEX($T$5:$AJ$1204,MATCH(10,$S$5:$S$1204,0),17))} | S14: =S13+IF(M1_Administrativo!A18="",0,1) -> 0 | T14: =IF(M1_Administrativo!A18="","",IF(M1_Administrativo!A18="","",M1_Administrativo!A18)) | U14: =IF(M1_Administrativo!A18="","",IF(M1_Administrativo!R18="","",M1_Administrativo!R18)) | V14: =IF(M1_Administrativo!A18="","",IF(M1_Administrativo!D18="","",M1_Administrativo!D18)) | W14: =IF(M1_Administrativo!A18="","",IF(M1_Administrativo!B18="","",M1_Administrativo!B18)) | X14: =IF(M1_Administrativo!A18="","",IF(M1_Administrativo!C18="","",M1_Administrativo!C18)) | Y14: =IF(M1_Administrativo!A18="","",IF(M1_Administrativo!E18="","",M1_Administrativo!E18)) | Z14: =IF(M1_Administrativo!A18="","",IF(M1_Administrativo!F18="","",M1_Administrativo!F18)) | AA14: =IF(M1_Administrativo!A18="","","M1 Administrativo") | AB14: =IF(M1_Administrativo!A18="","",IF(M1_Administrativo!G18="","",M1_Administrativo!G18)) | AC14: =IF(M1_Administrativo!A18="","",IF(M1_Administrativo!M18="","",M1_Administrativo!M18)) | AD14: =IF(M1_Administrativo!A18="","","RA") | AE14: =IF(M1_Administrativo!A18="","",IF(M1_Administrativo!O18="","",M1_Administrativo!O18)) | AF14: =IF(M1_Administrativo!A18="","",IF(M1_Administrativo!P18="","",M1_Administrativo!P18)) | AG14: =IF(M1_Administrativo!A18="","",IF(M1_Administrativo!Q18="","",M1_Administrativo!Q18)) | AH14: =IF(M1_Administrativo!A18="","","") | AI14: =IF(M1_Administrativo!A18="","","M1_Administrativo!18") | AJ14: =IF(M1_Administrativo!A18="","",IF(M1_Administrativo!M18="","Pendiente de resultado","Disponible"))
A15: {=IF(11>$S$1204,"",INDEX($T$5:$AJ$1204,MATCH(11,$S$5:$S$1204,0),1))} | B15: {=IF(11>$S$1204,"",INDEX($T$5:$AJ$1204,MATCH(11,$S$5:$S$1204,0),2))} | C15: {=IF(11>$S$1204,"",INDEX($T$5:$AJ$1204,MATCH(11,$S$5:$S$1204,0),3))} | D15: {=IF(11>$S$1204,"",INDEX($T$5:$AJ$1204,MATCH(11,$S$5:$S$1204,0),4))} | E15: {=IF(11>$S$1204,"",INDEX($T$5:$AJ$1204,MATCH(11,$S$5:$S$1204,0),5))} | F15: {=IF(11>$S$1204,"",INDEX($T$5:$AJ$1204,MATCH(11,$S$5:$S$1204,0),6))} | G15: {=IF(11>$S$1204,"",INDEX($T$5:$AJ$1204,MATCH(11,$S$5:$S$1204,0),7))} | H15: {=IF(11>$S$1204,"",INDEX($T$5:$AJ$1204,MATCH(11,$S$5:$S$1204,0),8))} | I15: {=IF(11>$S$1204,"",INDEX($T$5:$AJ$1204,MATCH(11,$S$5:$S$1204,0),9))} | J15: {=IF(11>$S$1204,"",INDEX($T$5:$AJ$1204,MATCH(11,$S$5:$S$1204,0),10))} | K15: {=IF(11>$S$1204,"",INDEX($T$5:$AJ$1204,MATCH(11,$S$5:$S$1204,0),11))} | L15: {=IF(11>$S$1204,"",INDEX($T$5:$AJ$1204,MATCH(11,$S$5:$S$1204,0),12))} | M15: {=IF(11>$S$1204,"",INDEX($T$5:$AJ$1204,MATCH(11,$S$5:$S$1204,0),13))} | N15: {=IF(11>$S$1204,"",INDEX($T$5:$AJ$1204,MATCH(11,$S$5:$S$1204,0),14))} | O15: {=IF(11>$S$1204,"",INDEX($T$5:$AJ$1204,MATCH(11,$S$5:$S$1204,0),15))} | P15: {=IF(11>$S$1204,"",INDEX($T$5:$AJ$1204,MATCH(11,$S$5:$S$1204,0),16))} | Q15: {=IF(11>$S$1204,"",INDEX($T$5:$AJ$1204,MATCH(11,$S$5:$S$1204,0),17))} | S15: =S14+IF(M1_Administrativo!A19="",0,1) -> 0 | T15: =IF(M1_Administrativo!A19="","",IF(M1_Administrativo!A19="","",M1_Administrativo!A19)) | U15: =IF(M1_Administrativo!A19="","",IF(M1_Administrativo!R19="","",M1_Administrativo!R19)) | V15: =IF(M1_Administrativo!A19="","",IF(M1_Administrativo!D19="","",M1_Administrativo!D19)) | W15: =IF(M1_Administrativo!A19="","",IF(M1_Administrativo!B19="","",M1_Administrativo!B19)) | X15: =IF(M1_Administrativo!A19="","",IF(M1_Administrativo!C19="","",M1_Administrativo!C19)) | Y15: =IF(M1_Administrativo!A19="","",IF(M1_Administrativo!E19="","",M1_Administrativo!E19)) | Z15: =IF(M1_Administrativo!A19="","",IF(M1_Administrativo!F19="","",M1_Administrativo!F19)) | AA15: =IF(M1_Administrativo!A19="","","M1 Administrativo") | AB15: =IF(M1_Administrativo!A19="","",IF(M1_Administrativo!G19="","",M1_Administrativo!G19)) | AC15: =IF(M1_Administrativo!A19="","",IF(M1_Administrativo!M19="","",M1_Administrativo!M19)) | AD15: =IF(M1_Administrativo!A19="","","RA") | AE15: =IF(M1_Administrativo!A19="","",IF(M1_Administrativo!O19="","",M1_Administrativo!O19)) | AF15: =IF(M1_Administrativo!A19="","",IF(M1_Administrativo!P19="","",M1_Administrativo!P19)) | AG15: =IF(M1_Administrativo!A19="","",IF(M1_Administrativo!Q19="","",M1_Administrativo!Q19)) | AH15: =IF(M1_Administrativo!A19="","","") | AI15: =IF(M1_Administrativo!A19="","","M1_Administrativo!19") | AJ15: =IF(M1_Administrativo!A19="","",IF(M1_Administrativo!M19="","Pendiente de resultado","Disponible"))
A16: {=IF(12>$S$1204,"",INDEX($T$5:$AJ$1204,MATCH(12,$S$5:$S$1204,0),1))} | B16: {=IF(12>$S$1204,"",INDEX($T$5:$AJ$1204,MATCH(12,$S$5:$S$1204,0),2))} | C16: {=IF(12>$S$1204,"",INDEX($T$5:$AJ$1204,MATCH(12,$S$5:$S$1204,0),3))} | D16: {=IF(12>$S$1204,"",INDEX($T$5:$AJ$1204,MATCH(12,$S$5:$S$1204,0),4))} | E16: {=IF(12>$S$1204,"",INDEX($T$5:$AJ$1204,MATCH(12,$S$5:$S$1204,0),5))} | F16: {=IF(12>$S$1204,"",INDEX($T$5:$AJ$1204,MATCH(12,$S$5:$S$1204,0),6))} | G16: {=IF(12>$S$1204,"",INDEX($T$5:$AJ$1204,MATCH(12,$S$5:$S$1204,0),7))} | H16: {=IF(12>$S$1204,"",INDEX($T$5:$AJ$1204,MATCH(12,$S$5:$S$1204,0),8))} | I16: {=IF(12>$S$1204,"",INDEX($T$5:$AJ$1204,MATCH(12,$S$5:$S$1204,0),9))} | J16: {=IF(12>$S$1204,"",INDEX($T$5:$AJ$1204,MATCH(12,$S$5:$S$1204,0),10))} | K16: {=IF(12>$S$1204,"",INDEX($T$5:$AJ$1204,MATCH(12,$S$5:$S$1204,0),11))} | L16: {=IF(12>$S$1204,"",INDEX($T$5:$AJ$1204,MATCH(12,$S$5:$S$1204,0),12))} | M16: {=IF(12>$S$1204,"",INDEX($T$5:$AJ$1204,MATCH(12,$S$5:$S$1204,0),13))} | N16: {=IF(12>$S$1204,"",INDEX($T$5:$AJ$1204,MATCH(12,$S$5:$S$1204,0),14))} | O16: {=IF(12>$S$1204,"",INDEX($T$5:$AJ$1204,MATCH(12,$S$5:$S$1204,0),15))} | P16: {=IF(12>$S$1204,"",INDEX($T$5:$AJ$1204,MATCH(12,$S$5:$S$1204,0),16))} | Q16: {=IF(12>$S$1204,"",INDEX($T$5:$AJ$1204,MATCH(12,$S$5:$S$1204,0),17))} | S16: =S15+IF(M1_Administrativo!A20="",0,1) -> 0 | T16: =IF(M1_Administrativo!A20="","",IF(M1_Administrativo!A20="","",M1_Administrativo!A20)) | U16: =IF(M1_Administrativo!A20="","",IF(M1_Administrativo!R20="","",M1_Administrativo!R20)) | V16: =IF(M1_Administrativo!A20="","",IF(M1_Administrativo!D20="","",M1_Administrativo!D20)) | W16: =IF(M1_Administrativo!A20="","",IF(M1_Administrativo!B20="","",M1_Administrativo!B20)) | X16: =IF(M1_Administrativo!A20="","",IF(M1_Administrativo!C20="","",M1_Administrativo!C20)) | Y16: =IF(M1_Administrativo!A20="","",IF(M1_Administrativo!E20="","",M1_Administrativo!E20)) | Z16: =IF(M1_Administrativo!A20="","",IF(M1_Administrativo!F20="","",M1_Administrativo!F20)) | AA16: =IF(M1_Administrativo!A20="","","M1 Administrativo") | AB16: =IF(M1_Administrativo!A20="","",IF(M1_Administrativo!G20="","",M1_Administrativo!G20)) | AC16: =IF(M1_Administrativo!A20="","",IF(M1_Administrativo!M20="","",M1_Administrativo!M20)) | AD16: =IF(M1_Administrativo!A20="","","RA") | AE16: =IF(M1_Administrativo!A20="","",IF(M1_Administrativo!O20="","",M1_Administrativo!O20)) | AF16: =IF(M1_Administrativo!A20="","",IF(M1_Administrativo!P20="","",M1_Administrativo!P20)) | AG16: =IF(M1_Administrativo!A20="","",IF(M1_Administrativo!Q20="","",M1_Administrativo!Q20)) | AH16: =IF(M1_Administrativo!A20="","","") | AI16: =IF(M1_Administrativo!A20="","","M1_Administrativo!20") | AJ16: =IF(M1_Administrativo!A20="","",IF(M1_Administrativo!M20="","Pendiente de resultado","Disponible"))
A17: {=IF(13>$S$1204,"",INDEX($T$5:$AJ$1204,MATCH(13,$S$5:$S$1204,0),1))} | B17: {=IF(13>$S$1204,"",INDEX($T$5:$AJ$1204,MATCH(13,$S$5:$S$1204,0),2))} | C17: {=IF(13>$S$1204,"",INDEX($T$5:$AJ$1204,MATCH(13,$S$5:$S$1204,0),3))} | D17: {=IF(13>$S$1204,"",INDEX($T$5:$AJ$1204,MATCH(13,$S$5:$S$1204,0),4))} | E17: {=IF(13>$S$1204,"",INDEX($T$5:$AJ$1204,MATCH(13,$S$5:$S$1204,0),5))} | F17: {=IF(13>$S$1204,"",INDEX($T$5:$AJ$1204,MATCH(13,$S$5:$S$1204,0),6))} | G17: {=IF(13>$S$1204,"",INDEX($T$5:$AJ$1204,MATCH(13,$S$5:$S$1204,0),7))} | H17: {=IF(13>$S$1204,"",INDEX($T$5:$AJ$1204,MATCH(13,$S$5:$S$1204,0),8))} | I17: {=IF(13>$S$1204,"",INDEX($T$5:$AJ$1204,MATCH(13,$S$5:$S$1204,0),9))} | J17: {=IF(13>$S$1204,"",INDEX($T$5:$AJ$1204,MATCH(13,$S$5:$S$1204,0),10))} | K17: {=IF(13>$S$1204,"",INDEX($T$5:$AJ$1204,MATCH(13,$S$5:$S$1204,0),11))} | L17: {=IF(13>$S$1204,"",INDEX($T$5:$AJ$1204,MATCH(13,$S$5:$S$1204,0),12))} | M17: {=IF(13>$S$1204,"",INDEX($T$5:$AJ$1204,MATCH(13,$S$5:$S$1204,0),13))} | N17: {=IF(13>$S$1204,"",INDEX($T$5:$AJ$1204,MATCH(13,$S$5:$S$1204,0),14))} | O17: {=IF(13>$S$1204,"",INDEX($T$5:$AJ$1204,MATCH(13,$S$5:$S$1204,0),15))} | P17: {=IF(13>$S$1204,"",INDEX($T$5:$AJ$1204,MATCH(13,$S$5:$S$1204,0),16))} | Q17: {=IF(13>$S$1204,"",INDEX($T$5:$AJ$1204,MATCH(13,$S$5:$S$1204,0),17))} | S17: =S16+IF(M1_Administrativo!A21="",0,1) -> 0 | T17: =IF(M1_Administrativo!A21="","",IF(M1_Administrativo!A21="","",M1_Administrativo!A21)) | U17: =IF(M1_Administrativo!A21="","",IF(M1_Administrativo!R21="","",M1_Administrativo!R21)) | V17: =IF(M1_Administrativo!A21="","",IF(M1_Administrativo!D21="","",M1_Administrativo!D21)) | W17: =IF(M1_Administrativo!A21="","",IF(M1_Administrativo!B21="","",M1_Administrativo!B21)) | X17: =IF(M1_Administrativo!A21="","",IF(M1_Administrativo!C21="","",M1_Administrativo!C21)) | Y17: =IF(M1_Administrativo!A21="","",IF(M1_Administrativo!E21="","",M1_Administrativo!E21)) | Z17: =IF(M1_Administrativo!A21="","",IF(M1_Administrativo!F21="","",M1_Administrativo!F21)) | AA17: =IF(M1_Administrativo!A21="","","M1 Administrativo") | AB17: =IF(M1_Administrativo!A21="","",IF(M1_Administrativo!G21="","",M1_Administrativo!G21)) | AC17: =IF(M1_Administrativo!A21="","",IF(M1_Administrativo!M21="","",M1_Administrativo!M21)) | AD17: =IF(M1_Administrativo!A21="","","RA") | AE17: =IF(M1_Administrativo!A21="","",IF(M1_Administrativo!O21="","",M1_Administrativo!O21)) | AF17: =IF(M1_Administrativo!A21="","",IF(M1_Administrativo!P21="","",M1_Administrativo!P21)) | AG17: =IF(M1_Administrativo!A21="","",IF(M1_Administrativo!Q21="","",M1_Administrativo!Q21)) | AH17: =IF(M1_Administrativo!A21="","","") | AI17: =IF(M1_Administrativo!A21="","","M1_Administrativo!21") | AJ17: =IF(M1_Administrativo!A21="","",IF(M1_Administrativo!M21="","Pendiente de resultado","Disponible"))
A18: {=IF(14>$S$1204,"",INDEX($T$5:$AJ$1204,MATCH(14,$S$5:$S$1204,0),1))} | B18: {=IF(14>$S$1204,"",INDEX($T$5:$AJ$1204,MATCH(14,$S$5:$S$1204,0),2))} | C18: {=IF(14>$S$1204,"",INDEX($T$5:$AJ$1204,MATCH(14,$S$5:$S$1204,0),3))} | D18: {=IF(14>$S$1204,"",INDEX($T$5:$AJ$1204,MATCH(14,$S$5:$S$1204,0),4))} | E18: {=IF(14>$S$1204,"",INDEX($T$5:$AJ$1204,MATCH(14,$S$5:$S$1204,0),5))} | F18: {=IF(14>$S$1204,"",INDEX($T$5:$AJ$1204,MATCH(14,$S$5:$S$1204,0),6))} | G18: {=IF(14>$S$1204,"",INDEX($T$5:$AJ$1204,MATCH(14,$S$5:$S$1204,0),7))} | H18: {=IF(14>$S$1204,"",INDEX($T$5:$AJ$1204,MATCH(14,$S$5:$S$1204,0),8))} | I18: {=IF(14>$S$1204,"",INDEX($T$5:$AJ$1204,MATCH(14,$S$5:$S$1204,0),9))} | J18: {=IF(14>$S$1204,"",INDEX($T$5:$AJ$1204,MATCH(14,$S$5:$S$1204,0),10))} | K18: {=IF(14>$S$1204,"",INDEX($T$5:$AJ$1204,MATCH(14,$S$5:$S$1204,0),11))} | L18: {=IF(14>$S$1204,"",INDEX($T$5:$AJ$1204,MATCH(14,$S$5:$S$1204,0),12))} | M18: {=IF(14>$S$1204,"",INDEX($T$5:$AJ$1204,MATCH(14,$S$5:$S$1204,0),13))} | N18: {=IF(14>$S$1204,"",INDEX($T$5:$AJ$1204,MATCH(14,$S$5:$S$1204,0),14))} | O18: {=IF(14>$S$1204,"",INDEX($T$5:$AJ$1204,MATCH(14,$S$5:$S$1204,0),15))} | P18: {=IF(14>$S$1204,"",INDEX($T$5:$AJ$1204,MATCH(14,$S$5:$S$1204,0),16))} | Q18: {=IF(14>$S$1204,"",INDEX($T$5:$AJ$1204,MATCH(14,$S$5:$S$1204,0),17))} | S18: =S17+IF(M1_Administrativo!A22="",0,1) -> 0 | T18: =IF(M1_Administrativo!A22="","",IF(M1_Administrativo!A22="","",M1_Administrativo!A22)) | U18: =IF(M1_Administrativo!A22="","",IF(M1_Administrativo!R22="","",M1_Administrativo!R22)) | V18: =IF(M1_Administrativo!A22="","",IF(M1_Administrativo!D22="","",M1_Administrativo!D22)) | W18: =IF(M1_Administrativo!A22="","",IF(M1_Administrativo!B22="","",M1_Administrativo!B22)) | X18: =IF(M1_Administrativo!A22="","",IF(M1_Administrativo!C22="","",M1_Administrativo!C22)) | Y18: =IF(M1_Administrativo!A22="","",IF(M1_Administrativo!E22="","",M1_Administrativo!E22)) | Z18: =IF(M1_Administrativo!A22="","",IF(M1_Administrativo!F22="","",M1_Administrativo!F22)) | AA18: =IF(M1_Administrativo!A22="","","M1 Administrativo") | AB18: =IF(M1_Administrativo!A22="","",IF(M1_Administrativo!G22="","",M1_Administrativo!G22)) | AC18: =IF(M1_Administrativo!A22="","",IF(M1_Administrativo!M22="","",M1_Administrativo!M22)) | AD18: =IF(M1_Administrativo!A22="","","RA") | AE18: =IF(M1_Administrativo!A22="","",IF(M1_Administrativo!O22="","",M1_Administrativo!O22)) | AF18: =IF(M1_Administrativo!A22="","",IF(M1_Administrativo!P22="","",M1_Administrativo!P22)) | AG18: =IF(M1_Administrativo!A22="","",IF(M1_Administrativo!Q22="","",M1_Administrativo!Q22)) | AH18: =IF(M1_Administrativo!A22="","","") | AI18: =IF(M1_Administrativo!A22="","","M1_Administrativo!22") | AJ18: =IF(M1_Administrativo!A22="","",IF(M1_Administrativo!M22="","Pendiente de resultado","Disponible"))
A19: {=IF(15>$S$1204,"",INDEX($T$5:$AJ$1204,MATCH(15,$S$5:$S$1204,0),1))} | B19: {=IF(15>$S$1204,"",INDEX($T$5:$AJ$1204,MATCH(15,$S$5:$S$1204,0),2))} | C19: {=IF(15>$S$1204,"",INDEX($T$5:$AJ$1204,MATCH(15,$S$5:$S$1204,0),3))} | D19: {=IF(15>$S$1204,"",INDEX($T$5:$AJ$1204,MATCH(15,$S$5:$S$1204,0),4))} | E19: {=IF(15>$S$1204,"",INDEX($T$5:$AJ$1204,MATCH(15,$S$5:$S$1204,0),5))} | F19: {=IF(15>$S$1204,"",INDEX($T$5:$AJ$1204,MATCH(15,$S$5:$S$1204,0),6))} | G19: {=IF(15>$S$1204,"",INDEX($T$5:$AJ$1204,MATCH(15,$S$5:$S$1204,0),7))} | H19: {=IF(15>$S$1204,"",INDEX($T$5:$AJ$1204,MATCH(15,$S$5:$S$1204,0),8))} | I19: {=IF(15>$S$1204,"",INDEX($T$5:$AJ$1204,MATCH(15,$S$5:$S$1204,0),9))} | J19: {=IF(15>$S$1204,"",INDEX($T$5:$AJ$1204,MATCH(15,$S$5:$S$1204,0),10))} | K19: {=IF(15>$S$1204,"",INDEX($T$5:$AJ$1204,MATCH(15,$S$5:$S$1204,0),11))} | L19: {=IF(15>$S$1204,"",INDEX($T$5:$AJ$1204,MATCH(15,$S$5:$S$1204,0),12))} | M19: {=IF(15>$S$1204,"",INDEX($T$5:$AJ$1204,MATCH(15,$S$5:$S$1204,0),13))} | N19: {=IF(15>$S$1204,"",INDEX($T$5:$AJ$1204,MATCH(15,$S$5:$S$1204,0),14))} | O19: {=IF(15>$S$1204,"",INDEX($T$5:$AJ$1204,MATCH(15,$S$5:$S$1204,0),15))} | P19: {=IF(15>$S$1204,"",INDEX($T$5:$AJ$1204,MATCH(15,$S$5:$S$1204,0),16))} | Q19: {=IF(15>$S$1204,"",INDEX($T$5:$AJ$1204,MATCH(15,$S$5:$S$1204,0),17))} | S19: =S18+IF(M1_Administrativo!A23="",0,1) -> 0 | T19: =IF(M1_Administrativo!A23="","",IF(M1_Administrativo!A23="","",M1_Administrativo!A23)) | U19: =IF(M1_Administrativo!A23="","",IF(M1_Administrativo!R23="","",M1_Administrativo!R23)) | V19: =IF(M1_Administrativo!A23="","",IF(M1_Administrativo!D23="","",M1_Administrativo!D23)) | W19: =IF(M1_Administrativo!A23="","",IF(M1_Administrativo!B23="","",M1_Administrativo!B23)) | X19: =IF(M1_Administrativo!A23="","",IF(M1_Administrativo!C23="","",M1_Administrativo!C23)) | Y19: =IF(M1_Administrativo!A23="","",IF(M1_Administrativo!E23="","",M1_Administrativo!E23)) | Z19: =IF(M1_Administrativo!A23="","",IF(M1_Administrativo!F23="","",M1_Administrativo!F23)) | AA19: =IF(M1_Administrativo!A23="","","M1 Administrativo") | AB19: =IF(M1_Administrativo!A23="","",IF(M1_Administrativo!G23="","",M1_Administrativo!G23)) | AC19: =IF(M1_Administrativo!A23="","",IF(M1_Administrativo!M23="","",M1_Administrativo!M23)) | AD19: =IF(M1_Administrativo!A23="","","RA") | AE19: =IF(M1_Administrativo!A23="","",IF(M1_Administrativo!O23="","",M1_Administrativo!O23)) | AF19: =IF(M1_Administrativo!A23="","",IF(M1_Administrativo!P23="","",M1_Administrativo!P23)) | AG19: =IF(M1_Administrativo!A23="","",IF(M1_Administrativo!Q23="","",M1_Administrativo!Q23)) | AH19: =IF(M1_Administrativo!A23="","","") | AI19: =IF(M1_Administrativo!A23="","","M1_Administrativo!23") | AJ19: =IF(M1_Administrativo!A23="","",IF(M1_Administrativo!M23="","Pendiente de resultado","Disponible"))
A20: {=IF(16>$S$1204,"",INDEX($T$5:$AJ$1204,MATCH(16,$S$5:$S$1204,0),1))} | B20: {=IF(16>$S$1204,"",INDEX($T$5:$AJ$1204,MATCH(16,$S$5:$S$1204,0),2))} | C20: {=IF(16>$S$1204,"",INDEX($T$5:$AJ$1204,MATCH(16,$S$5:$S$1204,0),3))} | D20: {=IF(16>$S$1204,"",INDEX($T$5:$AJ$1204,MATCH(16,$S$5:$S$1204,0),4))} | E20: {=IF(16>$S$1204,"",INDEX($T$5:$AJ$1204,MATCH(16,$S$5:$S$1204,0),5))} | F20: {=IF(16>$S$1204,"",INDEX($T$5:$AJ$1204,MATCH(16,$S$5:$S$1204,0),6))} | G20: {=IF(16>$S$1204,"",INDEX($T$5:$AJ$1204,MATCH(16,$S$5:$S$1204,0),7))} | H20: {=IF(16>$S$1204,"",INDEX($T$5:$AJ$1204,MATCH(16,$S$5:$S$1204,0),8))} | I20: {=IF(16>$S$1204,"",INDEX($T$5:$AJ$1204,MATCH(16,$S$5:$S$1204,0),9))} | J20: {=IF(16>$S$1204,"",INDEX($T$5:$AJ$1204,MATCH(16,$S$5:$S$1204,0),10))} | K20: {=IF(16>$S$1204,"",INDEX($T$5:$AJ$1204,MATCH(16,$S$5:$S$1204,0),11))} | L20: {=IF(16>$S$1204,"",INDEX($T$5:$AJ$1204,MATCH(16,$S$5:$S$1204,0),12))} | M20: {=IF(16>$S$1204,"",INDEX($T$5:$AJ$1204,MATCH(16,$S$5:$S$1204,0),13))} | N20: {=IF(16>$S$1204,"",INDEX($T$5:$AJ$1204,MATCH(16,$S$5:$S$1204,0),14))} | O20: {=IF(16>$S$1204,"",INDEX($T$5:$AJ$1204,MATCH(16,$S$5:$S$1204,0),15))} | P20: {=IF(16>$S$1204,"",INDEX($T$5:$AJ$1204,MATCH(16,$S$5:$S$1204,0),16))} | Q20: {=IF(16>$S$1204,"",INDEX($T$5:$AJ$1204,MATCH(16,$S$5:$S$1204,0),17))} | S20: =S19+IF(M1_Administrativo!A24="",0,1) -> 0 | T20: =IF(M1_Administrativo!A24="","",IF(M1_Administrativo!A24="","",M1_Administrativo!A24)) | U20: =IF(M1_Administrativo!A24="","",IF(M1_Administrativo!R24="","",M1_Administrativo!R24)) | V20: =IF(M1_Administrativo!A24="","",IF(M1_Administrativo!D24="","",M1_Administrativo!D24)) | W20: =IF(M1_Administrativo!A24="","",IF(M1_Administrativo!B24="","",M1_Administrativo!B24)) | X20: =IF(M1_Administrativo!A24="","",IF(M1_Administrativo!C24="","",M1_Administrativo!C24)) | Y20: =IF(M1_Administrativo!A24="","",IF(M1_Administrativo!E24="","",M1_Administrativo!E24)) | Z20: =IF(M1_Administrativo!A24="","",IF(M1_Administrativo!F24="","",M1_Administrativo!F24)) | AA20: =IF(M1_Administrativo!A24="","","M1 Administrativo") | AB20: =IF(M1_Administrativo!A24="","",IF(M1_Administrativo!G24="","",M1_Administrativo!G24)) | AC20: =IF(M1_Administrativo!A24="","",IF(M1_Administrativo!M24="","",M1_Administrativo!M24)) | AD20: =IF(M1_Administrativo!A24="","","RA") | AE20: =IF(M1_Administrativo!A24="","",IF(M1_Administrativo!O24="","",M1_Administrativo!O24)) | AF20: =IF(M1_Administrativo!A24="","",IF(M1_Administrativo!P24="","",M1_Administrativo!P24)) | AG20: =IF(M1_Administrativo!A24="","",IF(M1_Administrativo!Q24="","",M1_Administrativo!Q24)) | AH20: =IF(M1_Administrativo!A24="","","") | AI20: =IF(M1_Administrativo!A24="","","M1_Administrativo!24") | AJ20: =IF(M1_Administrativo!A24="","",IF(M1_Administrativo!M24="","Pendiente de resultado","Disponible"))
A21: {=IF(17>$S$1204,"",INDEX($T$5:$AJ$1204,MATCH(17,$S$5:$S$1204,0),1))} | B21: {=IF(17>$S$1204,"",INDEX($T$5:$AJ$1204,MATCH(17,$S$5:$S$1204,0),2))} | C21: {=IF(17>$S$1204,"",INDEX($T$5:$AJ$1204,MATCH(17,$S$5:$S$1204,0),3))} | D21: {=IF(17>$S$1204,"",INDEX($T$5:$AJ$1204,MATCH(17,$S$5:$S$1204,0),4))} | E21: {=IF(17>$S$1204,"",INDEX($T$5:$AJ$1204,MATCH(17,$S$5:$S$1204,0),5))} | F21: {=IF(17>$S$1204,"",INDEX($T$5:$AJ$1204,MATCH(17,$S$5:$S$1204,0),6))} | G21: {=IF(17>$S$1204,"",INDEX($T$5:$AJ$1204,MATCH(17,$S$5:$S$1204,0),7))} | H21: {=IF(17>$S$1204,"",INDEX($T$5:$AJ$1204,MATCH(17,$S$5:$S$1204,0),8))} | I21: {=IF(17>$S$1204,"",INDEX($T$5:$AJ$1204,MATCH(17,$S$5:$S$1204,0),9))} | J21: {=IF(17>$S$1204,"",INDEX($T$5:$AJ$1204,MATCH(17,$S$5:$S$1204,0),10))} | K21: {=IF(17>$S$1204,"",INDEX($T$5:$AJ$1204,MATCH(17,$S$5:$S$1204,0),11))} | L21: {=IF(17>$S$1204,"",INDEX($T$5:$AJ$1204,MATCH(17,$S$5:$S$1204,0),12))} | M21: {=IF(17>$S$1204,"",INDEX($T$5:$AJ$1204,MATCH(17,$S$5:$S$1204,0),13))} | N21: {=IF(17>$S$1204,"",INDEX($T$5:$AJ$1204,MATCH(17,$S$5:$S$1204,0),14))} | O21: {=IF(17>$S$1204,"",INDEX($T$5:$AJ$1204,MATCH(17,$S$5:$S$1204,0),15))} | P21: {=IF(17>$S$1204,"",INDEX($T$5:$AJ$1204,MATCH(17,$S$5:$S$1204,0),16))} | Q21: {=IF(17>$S$1204,"",INDEX($T$5:$AJ$1204,MATCH(17,$S$5:$S$1204,0),17))} | S21: =S20+IF(M1_Administrativo!A25="",0,1) -> 0 | T21: =IF(M1_Administrativo!A25="","",IF(M1_Administrativo!A25="","",M1_Administrativo!A25)) | U21: =IF(M1_Administrativo!A25="","",IF(M1_Administrativo!R25="","",M1_Administrativo!R25)) | V21: =IF(M1_Administrativo!A25="","",IF(M1_Administrativo!D25="","",M1_Administrativo!D25)) | W21: =IF(M1_Administrativo!A25="","",IF(M1_Administrativo!B25="","",M1_Administrativo!B25)) | X21: =IF(M1_Administrativo!A25="","",IF(M1_Administrativo!C25="","",M1_Administrativo!C25)) | Y21: =IF(M1_Administrativo!A25="","",IF(M1_Administrativo!E25="","",M1_Administrativo!E25)) | Z21: =IF(M1_Administrativo!A25="","",IF(M1_Administrativo!F25="","",M1_Administrativo!F25)) | AA21: =IF(M1_Administrativo!A25="","","M1 Administrativo") | AB21: =IF(M1_Administrativo!A25="","",IF(M1_Administrativo!G25="","",M1_Administrativo!G25)) | AC21: =IF(M1_Administrativo!A25="","",IF(M1_Administrativo!M25="","",M1_Administrativo!M25)) | AD21: =IF(M1_Administrativo!A25="","","RA") | AE21: =IF(M1_Administrativo!A25="","",IF(M1_Administrativo!O25="","",M1_Administrativo!O25)) | AF21: =IF(M1_Administrativo!A25="","",IF(M1_Administrativo!P25="","",M1_Administrativo!P25)) | AG21: =IF(M1_Administrativo!A25="","",IF(M1_Administrativo!Q25="","",M1_Administrativo!Q25)) | AH21: =IF(M1_Administrativo!A25="","","") | AI21: =IF(M1_Administrativo!A25="","","M1_Administrativo!25") | AJ21: =IF(M1_Administrativo!A25="","",IF(M1_Administrativo!M25="","Pendiente de resultado","Disponible"))
A22: {=IF(18>$S$1204,"",INDEX($T$5:$AJ$1204,MATCH(18,$S$5:$S$1204,0),1))} | B22: {=IF(18>$S$1204,"",INDEX($T$5:$AJ$1204,MATCH(18,$S$5:$S$1204,0),2))} | C22: {=IF(18>$S$1204,"",INDEX($T$5:$AJ$1204,MATCH(18,$S$5:$S$1204,0),3))} | D22: {=IF(18>$S$1204,"",INDEX($T$5:$AJ$1204,MATCH(18,$S$5:$S$1204,0),4))} | E22: {=IF(18>$S$1204,"",INDEX($T$5:$AJ$1204,MATCH(18,$S$5:$S$1204,0),5))} | F22: {=IF(18>$S$1204,"",INDEX($T$5:$AJ$1204,MATCH(18,$S$5:$S$1204,0),6))} | G22: {=IF(18>$S$1204,"",INDEX($T$5:$AJ$1204,MATCH(18,$S$5:$S$1204,0),7))} | H22: {=IF(18>$S$1204,"",INDEX($T$5:$AJ$1204,MATCH(18,$S$5:$S$1204,0),8))} | I22: {=IF(18>$S$1204,"",INDEX($T$5:$AJ$1204,MATCH(18,$S$5:$S$1204,0),9))} | J22: {=IF(18>$S$1204,"",INDEX($T$5:$AJ$1204,MATCH(18,$S$5:$S$1204,0),10))} | K22: {=IF(18>$S$1204,"",INDEX($T$5:$AJ$1204,MATCH(18,$S$5:$S$1204,0),11))} | L22: {=IF(18>$S$1204,"",INDEX($T$5:$AJ$1204,MATCH(18,$S$5:$S$1204,0),12))} | M22: {=IF(18>$S$1204,"",INDEX($T$5:$AJ$1204,MATCH(18,$S$5:$S$1204,0),13))} | N22: {=IF(18>$S$1204,"",INDEX($T$5:$AJ$1204,MATCH(18,$S$5:$S$1204,0),14))} | O22: {=IF(18>$S$1204,"",INDEX($T$5:$AJ$1204,MATCH(18,$S$5:$S$1204,0),15))} | P22: {=IF(18>$S$1204,"",INDEX($T$5:$AJ$1204,MATCH(18,$S$5:$S$1204,0),16))} | Q22: {=IF(18>$S$1204,"",INDEX($T$5:$AJ$1204,MATCH(18,$S$5:$S$1204,0),17))} | S22: =S21+IF(M1_Administrativo!A26="",0,1) -> 0 | T22: =IF(M1_Administrativo!A26="","",IF(M1_Administrativo!A26="","",M1_Administrativo!A26)) | U22: =IF(M1_Administrativo!A26="","",IF(M1_Administrativo!R26="","",M1_Administrativo!R26)) | V22: =IF(M1_Administrativo!A26="","",IF(M1_Administrativo!D26="","",M1_Administrativo!D26)) | W22: =IF(M1_Administrativo!A26="","",IF(M1_Administrativo!B26="","",M1_Administrativo!B26)) | X22: =IF(M1_Administrativo!A26="","",IF(M1_Administrativo!C26="","",M1_Administrativo!C26)) | Y22: =IF(M1_Administrativo!A26="","",IF(M1_Administrativo!E26="","",M1_Administrativo!E26)) | Z22: =IF(M1_Administrativo!A26="","",IF(M1_Administrativo!F26="","",M1_Administrativo!F26)) | AA22: =IF(M1_Administrativo!A26="","","M1 Administrativo") | AB22: =IF(M1_Administrativo!A26="","",IF(M1_Administrativo!G26="","",M1_Administrativo!G26)) | AC22: =IF(M1_Administrativo!A26="","",IF(M1_Administrativo!M26="","",M1_Administrativo!M26)) | AD22: =IF(M1_Administrativo!A26="","","RA") | AE22: =IF(M1_Administrativo!A26="","",IF(M1_Administrativo!O26="","",M1_Administrativo!O26)) | AF22: =IF(M1_Administrativo!A26="","",IF(M1_Administrativo!P26="","",M1_Administrativo!P26)) | AG22: =IF(M1_Administrativo!A26="","",IF(M1_Administrativo!Q26="","",M1_Administrativo!Q26)) | AH22: =IF(M1_Administrativo!A26="","","") | AI22: =IF(M1_Administrativo!A26="","","M1_Administrativo!26") | AJ22: =IF(M1_Administrativo!A26="","",IF(M1_Administrativo!M26="","Pendiente de resultado","Disponible"))
A23: {=IF(19>$S$1204,"",INDEX($T$5:$AJ$1204,MATCH(19,$S$5:$S$1204,0),1))} | B23: {=IF(19>$S$1204,"",INDEX($T$5:$AJ$1204,MATCH(19,$S$5:$S$1204,0),2))} | C23: {=IF(19>$S$1204,"",INDEX($T$5:$AJ$1204,MATCH(19,$S$5:$S$1204,0),3))} | D23: {=IF(19>$S$1204,"",INDEX($T$5:$AJ$1204,MATCH(19,$S$5:$S$1204,0),4))} | E23: {=IF(19>$S$1204,"",INDEX($T$5:$AJ$1204,MATCH(19,$S$5:$S$1204,0),5))} | F23: {=IF(19>$S$1204,"",INDEX($T$5:$AJ$1204,MATCH(19,$S$5:$S$1204,0),6))} | G23: {=IF(19>$S$1204,"",INDEX($T$5:$AJ$1204,MATCH(19,$S$5:$S$1204,0),7))} | H23: {=IF(19>$S$1204,"",INDEX($T$5:$AJ$1204,MATCH(19,$S$5:$S$1204,0),8))} | I23: {=IF(19>$S$1204,"",INDEX($T$5:$AJ$1204,MATCH(19,$S$5:$S$1204,0),9))} | J23: {=IF(19>$S$1204,"",INDEX($T$5:$AJ$1204,MATCH(19,$S$5:$S$1204,0),10))} | K23: {=IF(19>$S$1204,"",INDEX($T$5:$AJ$1204,MATCH(19,$S$5:$S$1204,0),11))} | L23: {=IF(19>$S$1204,"",INDEX($T$5:$AJ$1204,MATCH(19,$S$5:$S$1204,0),12))} | M23: {=IF(19>$S$1204,"",INDEX($T$5:$AJ$1204,MATCH(19,$S$5:$S$1204,0),13))} | N23: {=IF(19>$S$1204,"",INDEX($T$5:$AJ$1204,MATCH(19,$S$5:$S$1204,0),14))} | O23: {=IF(19>$S$1204,"",INDEX($T$5:$AJ$1204,MATCH(19,$S$5:$S$1204,0),15))} | P23: {=IF(19>$S$1204,"",INDEX($T$5:$AJ$1204,MATCH(19,$S$5:$S$1204,0),16))} | Q23: {=IF(19>$S$1204,"",INDEX($T$5:$AJ$1204,MATCH(19,$S$5:$S$1204,0),17))} | S23: =S22+IF(M1_Administrativo!A27="",0,1) -> 0 | T23: =IF(M1_Administrativo!A27="","",IF(M1_Administrativo!A27="","",M1_Administrativo!A27)) | U23: =IF(M1_Administrativo!A27="","",IF(M1_Administrativo!R27="","",M1_Administrativo!R27)) | V23: =IF(M1_Administrativo!A27="","",IF(M1_Administrativo!D27="","",M1_Administrativo!D27)) | W23: =IF(M1_Administrativo!A27="","",IF(M1_Administrativo!B27="","",M1_Administrativo!B27)) | X23: =IF(M1_Administrativo!A27="","",IF(M1_Administrativo!C27="","",M1_Administrativo!C27)) | Y23: =IF(M1_Administrativo!A27="","",IF(M1_Administrativo!E27="","",M1_Administrativo!E27)) | Z23: =IF(M1_Administrativo!A27="","",IF(M1_Administrativo!F27="","",M1_Administrativo!F27)) | AA23: =IF(M1_Administrativo!A27="","","M1 Administrativo") | AB23: =IF(M1_Administrativo!A27="","",IF(M1_Administrativo!G27="","",M1_Administrativo!G27)) | AC23: =IF(M1_Administrativo!A27="","",IF(M1_Administrativo!M27="","",M1_Administrativo!M27)) | AD23: =IF(M1_Administrativo!A27="","","RA") | AE23: =IF(M1_Administrativo!A27="","",IF(M1_Administrativo!O27="","",M1_Administrativo!O27)) | AF23: =IF(M1_Administrativo!A27="","",IF(M1_Administrativo!P27="","",M1_Administrativo!P27)) | AG23: =IF(M1_Administrativo!A27="","",IF(M1_Administrativo!Q27="","",M1_Administrativo!Q27)) | AH23: =IF(M1_Administrativo!A27="","","") | AI23: =IF(M1_Administrativo!A27="","","M1_Administrativo!27") | AJ23: =IF(M1_Administrativo!A27="","",IF(M1_Administrativo!M27="","Pendiente de resultado","Disponible"))
A24: {=IF(20>$S$1204,"",INDEX($T$5:$AJ$1204,MATCH(20,$S$5:$S$1204,0),1))} | B24: {=IF(20>$S$1204,"",INDEX($T$5:$AJ$1204,MATCH(20,$S$5:$S$1204,0),2))} | C24: {=IF(20>$S$1204,"",INDEX($T$5:$AJ$1204,MATCH(20,$S$5:$S$1204,0),3))} | D24: {=IF(20>$S$1204,"",INDEX($T$5:$AJ$1204,MATCH(20,$S$5:$S$1204,0),4))} | E24: {=IF(20>$S$1204,"",INDEX($T$5:$AJ$1204,MATCH(20,$S$5:$S$1204,0),5))} | F24: {=IF(20>$S$1204,"",INDEX($T$5:$AJ$1204,MATCH(20,$S$5:$S$1204,0),6))} | G24: {=IF(20>$S$1204,"",INDEX($T$5:$AJ$1204,MATCH(20,$S$5:$S$1204,0),7))} | H24: {=IF(20>$S$1204,"",INDEX($T$5:$AJ$1204,MATCH(20,$S$5:$S$1204,0),8))} | I24: {=IF(20>$S$1204,"",INDEX($T$5:$AJ$1204,MATCH(20,$S$5:$S$1204,0),9))} | J24: {=IF(20>$S$1204,"",INDEX($T$5:$AJ$1204,MATCH(20,$S$5:$S$1204,0),10))} | K24: {=IF(20>$S$1204,"",INDEX($T$5:$AJ$1204,MATCH(20,$S$5:$S$1204,0),11))} | L24: {=IF(20>$S$1204,"",INDEX($T$5:$AJ$1204,MATCH(20,$S$5:$S$1204,0),12))} | M24: {=IF(20>$S$1204,"",INDEX($T$5:$AJ$1204,MATCH(20,$S$5:$S$1204,0),13))} | N24: {=IF(20>$S$1204,"",INDEX($T$5:$AJ$1204,MATCH(20,$S$5:$S$1204,0),14))} | O24: {=IF(20>$S$1204,"",INDEX($T$5:$AJ$1204,MATCH(20,$S$5:$S$1204,0),15))} | P24: {=IF(20>$S$1204,"",INDEX($T$5:$AJ$1204,MATCH(20,$S$5:$S$1204,0),16))} | Q24: {=IF(20>$S$1204,"",INDEX($T$5:$AJ$1204,MATCH(20,$S$5:$S$1204,0),17))} | S24: =S23+IF(M1_Administrativo!A28="",0,1) -> 0 | T24: =IF(M1_Administrativo!A28="","",IF(M1_Administrativo!A28="","",M1_Administrativo!A28)) | U24: =IF(M1_Administrativo!A28="","",IF(M1_Administrativo!R28="","",M1_Administrativo!R28)) | V24: =IF(M1_Administrativo!A28="","",IF(M1_Administrativo!D28="","",M1_Administrativo!D28)) | W24: =IF(M1_Administrativo!A28="","",IF(M1_Administrativo!B28="","",M1_Administrativo!B28)) | X24: =IF(M1_Administrativo!A28="","",IF(M1_Administrativo!C28="","",M1_Administrativo!C28)) | Y24: =IF(M1_Administrativo!A28="","",IF(M1_Administrativo!E28="","",M1_Administrativo!E28)) | Z24: =IF(M1_Administrativo!A28="","",IF(M1_Administrativo!F28="","",M1_Administrativo!F28)) | AA24: =IF(M1_Administrativo!A28="","","M1 Administrativo") | AB24: =IF(M1_Administrativo!A28="","",IF(M1_Administrativo!G28="","",M1_Administrativo!G28)) | AC24: =IF(M1_Administrativo!A28="","",IF(M1_Administrativo!M28="","",M1_Administrativo!M28)) | AD24: =IF(M1_Administrativo!A28="","","RA") | AE24: =IF(M1_Administrativo!A28="","",IF(M1_Administrativo!O28="","",M1_Administrativo!O28)) | AF24: =IF(M1_Administrativo!A28="","",IF(M1_Administrativo!P28="","",M1_Administrativo!P28)) | AG24: =IF(M1_Administrativo!A28="","",IF(M1_Administrativo!Q28="","",M1_Administrativo!Q28)) | AH24: =IF(M1_Administrativo!A28="","","") | AI24: =IF(M1_Administrativo!A28="","","M1_Administrativo!28") | AJ24: =IF(M1_Administrativo!A28="","",IF(M1_Administrativo!M28="","Pendiente de resultado","Disponible"))
A25: {=IF(21>$S$1204,"",INDEX($T$5:$AJ$1204,MATCH(21,$S$5:$S$1204,0),1))} | B25: {=IF(21>$S$1204,"",INDEX($T$5:$AJ$1204,MATCH(21,$S$5:$S$1204,0),2))} | C25: {=IF(21>$S$1204,"",INDEX($T$5:$AJ$1204,MATCH(21,$S$5:$S$1204,0),3))} | D25: {=IF(21>$S$1204,"",INDEX($T$5:$AJ$1204,MATCH(21,$S$5:$S$1204,0),4))} | E25: {=IF(21>$S$1204,"",INDEX($T$5:$AJ$1204,MATCH(21,$S$5:$S$1204,0),5))} | F25: {=IF(21>$S$1204,"",INDEX($T$5:$AJ$1204,MATCH(21,$S$5:$S$1204,0),6))} | G25: {=IF(21>$S$1204,"",INDEX($T$5:$AJ$1204,MATCH(21,$S$5:$S$1204,0),7))} | H25: {=IF(21>$S$1204,"",INDEX($T$5:$AJ$1204,MATCH(21,$S$5:$S$1204,0),8))} | I25: {=IF(21>$S$1204,"",INDEX($T$5:$AJ$1204,MATCH(21,$S$5:$S$1204,0),9))} | J25: {=IF(21>$S$1204,"",INDEX($T$5:$AJ$1204,MATCH(21,$S$5:$S$1204,0),10))} | K25: {=IF(21>$S$1204,"",INDEX($T$5:$AJ$1204,MATCH(21,$S$5:$S$1204,0),11))} | L25: {=IF(21>$S$1204,"",INDEX($T$5:$AJ$1204,MATCH(21,$S$5:$S$1204,0),12))} | M25: {=IF(21>$S$1204,"",INDEX($T$5:$AJ$1204,MATCH(21,$S$5:$S$1204,0),13))} | N25: {=IF(21>$S$1204,"",INDEX($T$5:$AJ$1204,MATCH(21,$S$5:$S$1204,0),14))} | O25: {=IF(21>$S$1204,"",INDEX($T$5:$AJ$1204,MATCH(21,$S$5:$S$1204,0),15))} | P25: {=IF(21>$S$1204,"",INDEX($T$5:$AJ$1204,MATCH(21,$S$5:$S$1204,0),16))} | Q25: {=IF(21>$S$1204,"",INDEX($T$5:$AJ$1204,MATCH(21,$S$5:$S$1204,0),17))} | S25: =S24+IF(M1_Administrativo!A29="",0,1) -> 0 | T25: =IF(M1_Administrativo!A29="","",IF(M1_Administrativo!A29="","",M1_Administrativo!A29)) | U25: =IF(M1_Administrativo!A29="","",IF(M1_Administrativo!R29="","",M1_Administrativo!R29)) | V25: =IF(M1_Administrativo!A29="","",IF(M1_Administrativo!D29="","",M1_Administrativo!D29)) | W25: =IF(M1_Administrativo!A29="","",IF(M1_Administrativo!B29="","",M1_Administrativo!B29)) | X25: =IF(M1_Administrativo!A29="","",IF(M1_Administrativo!C29="","",M1_Administrativo!C29)) | Y25: =IF(M1_Administrativo!A29="","",IF(M1_Administrativo!E29="","",M1_Administrativo!E29)) | Z25: =IF(M1_Administrativo!A29="","",IF(M1_Administrativo!F29="","",M1_Administrativo!F29)) | AA25: =IF(M1_Administrativo!A29="","","M1 Administrativo") | AB25: =IF(M1_Administrativo!A29="","",IF(M1_Administrativo!G29="","",M1_Administrativo!G29)) | AC25: =IF(M1_Administrativo!A29="","",IF(M1_Administrativo!M29="","",M1_Administrativo!M29)) | AD25: =IF(M1_Administrativo!A29="","","RA") | AE25: =IF(M1_Administrativo!A29="","",IF(M1_Administrativo!O29="","",M1_Administrativo!O29)) | AF25: =IF(M1_Administrativo!A29="","",IF(M1_Administrativo!P29="","",M1_Administrativo!P29)) | AG25: =IF(M1_Administrativo!A29="","",IF(M1_Administrativo!Q29="","",M1_Administrativo!Q29)) | AH25: =IF(M1_Administrativo!A29="","","") | AI25: =IF(M1_Administrativo!A29="","","M1_Administrativo!29") | AJ25: =IF(M1_Administrativo!A29="","",IF(M1_Administrativo!M29="","Pendiente de resultado","Disponible"))
