Workbook

Sheet 00_Resumen
C1: Formato Único de Conteo Estructurado de Públicos | P1: Código: DES-GU-04-FR-01
P2: Fecha: 28/10/2026
P3: Versión: 1
A4: ID actividad | B4: Descripción de la actividad | C4: Fecha | D4: Dependencia | E4: Actividad / evento / servicio | F4: Lugar / equipamiento | G4: Espacio / recorrido | H4: Método de conteo | I4: Unidad de medición | J4: Resultado / cantidad reportada | K4: Clasificación | L4: ¿Hubo novedad? | M4: Descripción de la novedad | N4: Soporte / referencia | O4: Momento / punto | P4: Fila de origen | Q4: Estado del resultado
A5: {=IF(1>$S$1204,"",INDEX($T$5:$AJ$1204,MATCH(1,$S$5:$S$1204,0),1))} | B5: {=IF(1>$S$1204,"",INDEX($T$5:$AJ$1204,MATCH(1,$S$5:$S$1204,0),2))} | C5: {=IF(1>$S$1204,"",INDEX($T$5:$AJ$1204,MATCH(1,$S$5:$S$1204,0),3))} | D5: {=IF(1>$S$1204,"",INDEX($T$5:$AJ$1204,MATCH(1,$S$5:$S$1204,0),4))} | E5: {=IF(1>$S$1204,"",INDEX($T$5:$AJ$1204,MATCH(1,$S$5:$S$1204,0),5))} | F5: {=IF(1>$S$1204,"",INDEX($T$5:$AJ$1204,MATCH(1,$S$5:$S$1204,0),6))} | G5: {=IF(1>$S$1204,"",INDEX($T$5:$AJ$1204,MATCH(1,$S$5:$S$1204,0),7))} | H5: {=IF(1>$S$1204,"",INDEX($T$5:$AJ$1204,MATCH(1,$S$5:$S$1204,0),8))} | I5: {=IF(1>$S$1204,"",INDEX($T$5:$AJ$1204,MATCH(1,$S$5:$S$1204,0),9))} | J5: {=IF(1>$S$1204,"",INDEX($T$5:$AJ$1204,MATCH(1,$S$5:$S$1204,0),10))} | K5: {=IF(1>$S$1204,"",INDEX($T$5:$AJ$1204,MATCH(1,$S$5:$S$1204,0),11))} | L5: {=IF(1>$S$1204,"",INDEX($T$5:$AJ$1204,MATCH(1,$S$5:$S$1204,0),12))} | M5: {=IF(1>$S$1204,"",INDEX($T$5:$AJ$1204,MATCH(1,$S$5:$S$1204,0),13))} | N5: {=IF(1>$S$1204,"",INDEX($T$5:$AJ$1204,MATCH(1,$S$5:$S$1204,0),14))} | O5: {=IF(1>$S$1204,"",INDEX($T$5:$AJ$1204,MATCH(1,$S$5:$S$1204,0),15))} | P5: {=IF(1>$S$1204,"",INDEX($T$5:$AJ$1204,MATCH(1,$S$5:$S$1204,0),16))} | Q5: {=IF(1>$S$1204,"",INDEX($T$5:$AJ$1204,MATCH(1,$S$5:$S$1204,0),17))} | S5: =0+IF(M1_Administrativo!A9="",0,1) -> 0 | T5: =IF(M1_Administrativo!A9="","",IF(M1_Administrativo!A9="","",M1_Administrativo!A9)) | U5: =IF(M1_Administrativo!A9="","",IF(M1_Administrativo!R9="","",M1_Administrativo!R9)) | V5: =IF(M1_Administrativo!A9="","",IF(M1_Administrativo!D9="","",M1_Administrativo!D9)) | W5: =IF(M1_Administrativo!A9="","",IF(M1_Administrativo!B9="","",M1_Administrativo!B9)) | X5: =IF(M1_Administrativo!A9="","",IF(M1_Administrativo!C9="","",M1_Administrativo!C9)) | Y5: =IF(M1_Administrativo!A9="","",IF(M1_Administrativo!E9="","",M1_Administrativo!E9)) | Z5: =IF(M1_Administrativo!A9="","",IF(M1_Administrativo!F9="","",M1_Administrativo!F9)) | AA5: =IF(M1_Administrativo!A9="","","M1 Administrativo") | AB5: =IF(M1_Administrativo!A9="","",IF(M1_Administrativo!G9="","",M1_Administrativo!G9)) | AC5: =IF(M1_Administrativo!A9="","",IF(M1_Administrativo!M9="","",M1_Administrativo!M9)) | AD5: =IF(M1_Administrativo!A9="","","RA") | AE5: =IF(M1_Administrativo!A9="","",IF(M1_Administrativo!O9="","",M1_Administrativo!O9)) | AF5: =IF(M1_Administrativo!A9="","",IF(M1_Administrativo!P9="","",M1_Administrativo!P9)) | AG5: =IF(M1_Administrativo!A9="","",IF(M1_Administrativo!Q9="","",M1_Administrativo!Q9)) | AH5: =IF(M1_Administrativo!A9="","","") | AI5: =IF(M1_Administrativo!A9="","","M1_Administrativo!9") | AJ5: =IF(M1_Administrativo!A9="","",IF(M1_Administrativo!M9="","Pendiente de resultado","Disponible"))
A6: {=IF(2>$S$1204,"",INDEX($T$5:$AJ$1204,MATCH(2,$S$5:$S$1204,0),1))} | B6: =IF(2>$S$1204,"",INDEX($T$5:$AJ$1204,MATCH(2,$S$5:$S$1204,0),2)) | C6: {=IF(2>$S$1204,"",INDEX($T$5:$AJ$1204,MATCH(2,$S$5:$S$1204,0),3))} | D6: {=IF(2>$S$1204,"",INDEX($T$5:$AJ$1204,MATCH(2,$S$5:$S$1204,0),4))} | E6: {=IF(2>$S$1204,"",INDEX($T$5:$AJ$1204,MATCH(2,$S$5:$S$1204,0),5))} | F6: {=IF(2>$S$1204,"",INDEX($T$5:$AJ$1204,MATCH(2,$S$5:$S$1204,0),6))} | G6: {=IF(2>$S$1204,"",INDEX($T$5:$AJ$1204,MATCH(2,$S$5:$S$1204,0),7))} | H6: {=IF(2>$S$1204,"",INDEX($T$5:$AJ$1204,MATCH(2,$S$5:$S$1204,0),8))} | I6: {=IF(2>$S$1204,"",INDEX($T$5:$AJ$1204,MATCH(2,$S$5:$S$1204,0),9))} | J6: {=IF(2>$S$1204,"",INDEX($T$5:$AJ$1204,MATCH(2,$S$5:$S$1204,0),10))} | K6: {=IF(2>$S$1204,"",INDEX($T$5:$AJ$1204,MATCH(2,$S$5:$S$1204,0),11))} | L6: {=IF(2>$S$1204,"",INDEX($T$5:$AJ$1204,MATCH(2,$S$5:$S$1204,0),12))} | M6: {=IF(2>$S$1204,"",INDEX($T$5:$AJ$1204,MATCH(2,$S$5:$S$1204,0),13))} | N6: {=IF(2>$S$1204,"",INDEX($T$5:$AJ$1204,MATCH(2,$S$5:$S$1204,0),14))} | O6: {=IF(2>$S$1204,"",INDEX($T$5:$AJ$1204,MATCH(2,$S$5:$S$1204,0),15))} | P6: {=IF(2>$S$1204,"",INDEX($T$5:$AJ$1204,MATCH(2,$S$5:$S$1204,0),16))} | Q6: {=IF(2>$S$1204,"",INDEX($T$5:$AJ$1204,MATCH(2,$S$5:$S$1204,0),17))} | S6: =S5+IF(M1_Administrativo!A10="",0,1) -> 0 | T6: =IF(M1_Administrativo!A10="","",IF(M1_Administrativo!A10="","",M1_Administrativo!A10)) | U6: =IF(M1_Administrativo!A10="","",IF(M1_Administrativo!R10="","",M1_Administrativo!R10)) | V6: =IF(M1_Administrativo!A10="","",IF(M1_Administrativo!D10="","",M1_Administrativo!D10)) | W6: =IF(M1_Administrativo!A10="","",IF(M1_Administrativo!B10="","",M1_Administrativo!B10)) | X6: =IF(M1_Administrativo!A10="","",IF(M1_Administrativo!C10="","",M1_Administrativo!C10)) | Y6: =IF(M1_Administrativo!A10="","",IF(M1_Administrativo!E10="","",M1_Administrativo!E10)) | Z6: =IF(M1_Administrativo!A10="","",IF(M1_Administrativo!F10="","",M1_Administrativo!F10)) | AA6: =IF(M1_Administrativo!A10="","","M1 Administrativo") | AB6: =IF(M1_Administrativo!A10="","",IF(M1_Administrativo!G10="","",M1_Administrativo!G10)) | AC6: =IF(M1_Administrativo!A10="","",IF(M1_Administrativo!M10="","",M1_Administrativo!M10)) | AD6: =IF(M1_Administrativo!A10="","","RA") | AE6: =IF(M1_Administrativo!A10="","",IF(M1_Administrativo!O10="","",M1_Administrativo!O10)) | AF6: =IF(M1_Administrativo!A10="","",IF(M1_Administrativo!P10="","",M1_Administrativo!P10)) | AG6: =IF(M1_Administrativo!A10="","",IF(M1_Administrativo!Q10="","",M1_Administrativo!Q10)) | AH6: =IF(M1_Administrativo!A10="","","") | AI6: =IF(M1_Administrativo!A10="","","M1_Administrativo!10") | AJ6: =IF(M1_Administrativo!A10="","",IF(M1_Administrativo!M10="","Pendiente de resultado","Disponible"))
A7: {=IF(3>$S$1204,"",INDEX($T$5:$AJ$1204,MATCH(3,$S$5:$S$1204,0),1))} | B7: =IF(2>$S$1204,"",INDEX($T$5:$AJ$1204,MATCH(2,$S$5:$S$1204,0),2)) | C7: {=IF(3>$S$1204,"",INDEX($T$5:$AJ$1204,MATCH(3,$S$5:$S$1204,0),3))} | D7: {=IF(3>$S$1204,"",INDEX($T$5:$AJ$1204,MATCH(3,$S$5:$S$1204,0),4))} | E7: {=IF(3>$S$1204,"",INDEX($T$5:$AJ$1204,MATCH(3,$S$5:$S$1204,0),5))} | F7: {=IF(3>$S$1204,"",INDEX($T$5:$AJ$1204,MATCH(3,$S$5:$S$1204,0),6))} | G7: {=IF(3>$S$1204,"",INDEX($T$5:$AJ$1204,MATCH(3,$S$5:$S$1204,0),7))} | H7: {=IF(3>$S$1204,"",INDEX($T$5:$AJ$1204,MATCH(3,$S$5:$S$1204,0),8))} | I7: {=IF(3>$S$1204,"",INDEX($T$5:$AJ$1204,MATCH(3,$S$5:$S$1204,0),9))} | J7: {=IF(3>$S$1204,"",INDEX($T$5:$AJ$1204,MATCH(3,$S$5:$S$1204,0),10))} | K7: {=IF(3>$S$1204,"",INDEX($T$5:$AJ$1204,MATCH(3,$S$5:$S$1204,0),11))} | L7: {=IF(3>$S$1204,"",INDEX($T$5:$AJ$1204,MATCH(3,$S$5:$S$1204,0),12))} | M7: {=IF(3>$S$1204,"",INDEX($T$5:$AJ$1204,MATCH(3,$S$5:$S$1204,0),13))} | N7: {=IF(3>$S$1204,"",INDEX($T$5:$AJ$1204,MATCH(3,$S$5:$S$1204,0),14))} | O7: {=IF(3>$S$1204,"",INDEX($T$5:$AJ$1204,MATCH(3,$S$5:$S$1204,0),15))} | P7: {=IF(3>$S$1204,"",INDEX($T$5:$AJ$1204,MATCH(3,$S$5:$S$1204,0),16))} | Q7: {=IF(3>$S$1204,"",INDEX($T$5:$AJ$1204,MATCH(3,$S$5:$S$1204,0),17))} | S7: =S6+IF(M1_Administrativo!A11="",0,1) -> 0 | T7: =IF(M1_Administrativo!A11="","",IF(M1_Administrativo!A11="","",M1_Administrativo!A11)) | U7: =IF(M1_Administrativo!A11="","",IF(M1_Administrativo!R11="","",M1_Administrativo!R11)) | V7: =IF(M1_Administrativo!A11="","",IF(M1_Administrativo!D11="","",M1_Administrativo!D11)) | W7: =IF(M1_Administrativo!A11="","",IF(M1_Administrativo!B11="","",M1_Administrativo!B11)) | X7: =IF(M1_Administrativo!A11="","",IF(M1_Administrativo!C11="","",M1_Administrativo!C11)) | Y7: =IF(M1_Administrativo!A11="","",IF(M1_Administrativo!E11="","",M1_Administrativo!E11)) | Z7: =IF(M1_Administrativo!A11="","",IF(M1_Administrativo!F11="","",M1_Administrativo!F11)) | AA7: =IF(M1_Administrativo!A11="","","M1 Administrativo") | AB7: =IF(M1_Administrativo!A11="","",IF(M1_Administrativo!G11="","",M1_Administrativo!G11)) | AC7: =IF(M1_Administrativo!A11="","",IF(M1_Administrativo!M11="","",M1_Administrativo!M11)) | AD7: =IF(M1_Administrativo!A11="","","RA") | AE7: =IF(M1_Administrativo!A11="","",IF(M1_Administrativo!O11="","",M1_Administrativo!O11)) | AF7: =IF(M1_Administrativo!A11="","",IF(M1_Administrativo!P11="","",M1_Administrativo!P11)) | AG7: =IF(M1_Administrativo!A11="","",IF(M1_Administrativo!Q11="","",M1_Administrativo!Q11)) | AH7: =IF(M1_Administrativo!A11="","","") | AI7: =IF(M1_Administrativo!A11="","","M1_Administrativo!11") | AJ7: =IF(M1_Administrativo!A11="","",IF(M1_Administrativo!M11="","Pendiente de resultado","Disponible"))
A8: {=IF(4>$S$1204,"",INDEX($T$5:$AJ$1204,MATCH(4,$S$5:$S$1204,0),1))} | B8: =IF(2>$S$1204,"",INDEX($T$5:$AJ$1204,MATCH(2,$S$5:$S$1204,0),2)) | C8: {=IF(4>$S$1204,"",INDEX($T$5:$AJ$1204,MATCH(4,$S$5:$S$1204,0),3))} | D8: {=IF(4>$S$1204,"",INDEX($T$5:$AJ$1204,MATCH(4,$S$5:$S$1204,0),4))} | E8: {=IF(4>$S$1204,"",INDEX($T$5:$AJ$1204,MATCH(4,$S$5:$S$1204,0),5))} | F8: {=IF(4>$S$1204,"",INDEX($T$5:$AJ$1204,MATCH(4,$S$5:$S$1204,0),6))} | G8: {=IF(4>$S$1204,"",INDEX($T$5:$AJ$1204,MATCH(4,$S$5:$S$1204,0),7))} | H8: {=IF(4>$S$1204,"",INDEX($T$5:$AJ$1204,MATCH(4,$S$5:$S$1204,0),8))} | I8: {=IF(4>$S$1204,"",INDEX($T$5:$AJ$1204,MATCH(4,$S$5:$S$1204,0),9))} | J8: {=IF(4>$S$1204,"",INDEX($T$5:$AJ$1204,MATCH(4,$S$5:$S$1204,0),10))} | K8: {=IF(4>$S$1204,"",INDEX($T$5:$AJ$1204,MATCH(4,$S$5:$S$1204,0),11))} | L8: {=IF(4>$S$1204,"",INDEX($T$5:$AJ$1204,MATCH(4,$S$5:$S$1204,0),12))} | M8: {=IF(4>$S$1204,"",INDEX($T$5:$AJ$1204,MATCH(4,$S$5:$S$1204,0),13))} | N8: {=IF(4>$S$1204,"",INDEX($T$5:$AJ$1204,MATCH(4,$S$5:$S$1204,0),14))} | O8: {=IF(4>$S$1204,"",INDEX($T$5:$AJ$1204,MATCH(4,$S$5:$S$1204,0),15))} | P8: {=IF(4>$S$1204,"",INDEX($T$5:$AJ$1204,MATCH(4,$S$5:$S$1204,0),16))} | Q8: {=IF(4>$S$1204,"",INDEX($T$5:$AJ$1204,MATCH(4,$S$5:$S$1204,0),17))} | S8: =S7+IF(M1_Administrativo!A12="",0,1) -> 0 | T8: =IF(M1_Administrativo!A12="","",IF(M1_Administrativo!A12="","",M1_Administrativo!A12)) | U8: =IF(M1_Administrativo!A12="","",IF(M1_Administrativo!R12="","",M1_Administrativo!R12)) | V8: =IF(M1_Administrativo!A12="","",IF(M1_Administrativo!D12="","",M1_Administrativo!D12)) | W8: =IF(M1_Administrativo!A12="","",IF(M1_Administrativo!B12="","",M1_Administrativo!B12)) | X8: =IF(M1_Administrativo!A12="","",IF(M1_Administrativo!C12="","",M1_Administrativo!C12)) | Y8: =IF(M1_Administrativo!A12="","",IF(M1_Administrativo!E12="","",M1_Administrativo!E12)) | Z8: =IF(M1_Administrativo!A12="","",IF(M1_Administrativo!F12="","",M1_Administrativo!F12)) | AA8: =IF(M1_Administrativo!A12="","","M1 Administrativo") | AB8: =IF(M1_Administrativo!A12="","",IF(M1_Administrativo!G12="","",M1_Administrativo!G12)) | AC8: =IF(M1_Administrativo!A12="","",IF(M1_Administrativo!M12="","",M1_Administrativo!M12)) | AD8: =IF(M1_Administrativo!A12="","","RA") | AE8: =IF(M1_Administrativo!A12="","",IF(M1_Administrativo!O12="","",M1_Administrativo!O12)) | AF8: =IF(M1_Administrativo!A12="","",IF(M1_Administrativo!P12="","",M1_Administrativo!P12)) | AG8: =IF(M1_Administrativo!A12="","",IF(M1_Administrativo!Q12="","",M1_Administrativo!Q12)) | AH8: =IF(M1_Administrativo!A12="","","") | AI8: =IF(M1_Administrativo!A12="","","M1_Administrativo!12") | AJ8: =IF(M1_Administrativo!A12="","",IF(M1_Administrativo!M12="","Pendiente de resultado","Disponible"))
A9: {=IF(5>$S$1204,"",INDEX($T$5:$AJ$1204,MATCH(5,$S$5:$S$1204,0),1))} | B9: =IF(2>$S$1204,"",INDEX($T$5:$AJ$1204,MATCH(2,$S$5:$S$1204,0),2)) | C9: {=IF(5>$S$1204,"",INDEX($T$5:$AJ$1204,MATCH(5,$S$5:$S$1204,0),3))} | D9: {=IF(5>$S$1204,"",INDEX($T$5:$AJ$1204,MATCH(5,$S$5:$S$1204,0),4))} | E9: {=IF(5>$S$1204,"",INDEX($T$5:$AJ$1204,MATCH(5,$S$5:$S$1204,0),5))} | F9: {=IF(5>$S$1204,"",INDEX($T$5:$AJ$1204,MATCH(5,$S$5:$S$1204,0),6))} | G9: {=IF(5>$S$1204,"",INDEX($T$5:$AJ$1204,MATCH(5,$S$5:$S$1204,0),7))} | H9: {=IF(5>$S$1204,"",INDEX($T$5:$AJ$1204,MATCH(5,$S$5:$S$1204,0),8))} | I9: {=IF(5>$S$1204,"",INDEX($T$5:$AJ$1204,MATCH(5,$S$5:$S$1204,0),9))} | J9: {=IF(5>$S$1204,"",INDEX($T$5:$AJ$1204,MATCH(5,$S$5:$S$1204,0),10))} | K9: {=IF(5>$S$1204,"",INDEX($T$5:$AJ$1204,MATCH(5,$S$5:$S$1204,0),11))} | L9: {=IF(5>$S$1204,"",INDEX($T$5:$AJ$1204,MATCH(5,$S$5:$S$1204,0),12))} | M9: {=IF(5>$S$1204,"",INDEX($T$5:$AJ$1204,MATCH(5,$S$5:$S$1204,0),13))} | N9: {=IF(5>$S$1204,"",INDEX($T$5:$AJ$1204,MATCH(5,$S$5:$S$1204,0),14))} | O9: {=IF(5>$S$1204,"",INDEX($T$5:$AJ$1204,MATCH(5,$S$5:$S$1204,0),15))} | P9: {=IF(5>$S$1204,"",INDEX($T$5:$AJ$1204,MATCH(5,$S$5:$S$1204,0),16))} | Q9: {=IF(5>$S$1204,"",INDEX($T$5:$AJ$1204,MATCH(5,$S$5:$S$1204,0),17))} | S9: =S8+IF(M1_Administrativo!A13="",0,1) -> 0 | T9: =IF(M1_Administrativo!A13="","",IF(M1_Administrativo!A13="","",M1_Administrativo!A13)) | U9: =IF(M1_Administrativo!A13="","",IF(M1_Administrativo!R13="","",M1_Administrativo!R13)) | V9: =IF(M1_Administrativo!A13="","",IF(M1_Administrativo!D13="","",M1_Administrativo!D13)) | W9: =IF(M1_Administrativo!A13="","",IF(M1_Administrativo!B13="","",M1_Administrativo!B13)) | X9: =IF(M1_Administrativo!A13="","",IF(M1_Administrativo!C13="","",M1_Administrativo!C13)) | Y9: =IF(M1_Administrativo!A13="","",IF(M1_Administrativo!E13="","",M1_Administrativo!E13)) | Z9: =IF(M1_Administrativo!A13="","",IF(M1_Administrativo!F13="","",M1_Administrativo!F13)) | AA9: =IF(M1_Administrativo!A13="","","M1 Administrativo") | AB9: =IF(M1_Administrativo!A13="","",IF(M1_Administrativo!G13="","",M1_Administrativo!G13)) | AC9: =IF(M1_Administrativo!A13="","",IF(M1_Administrativo!M13="","",M1_Administrativo!M13)) | AD9: =IF(M1_Administrativo!A13="","","RA") | AE9: =IF(M1_Administrativo!A13="","",IF(M1_Administrativo!O13="","",M1_Administrativo!O13)) | AF9: =IF(M1_Administrativo!A13="","",IF(M1_Administrativo!P13="","",M1_Administrativo!P13)) | AG9: =IF(M1_Administrativo!A13="","",IF(M1_Administrativo!Q13="","",M1_Administrativo!Q13)) | AH9: =IF(M1_Administrativo!A13="","","") | AI9: =IF(M1_Administrativo!A13="","","M1_Administrativo!13") | AJ9: =IF(M1_Administrativo!A13="","",IF(M1_Administrativo!M13="","Pendiente de resultado","Disponible"))
A10: {=IF(6>$S$1204,"",INDEX($T$5:$AJ$1204,MATCH(6,$S$5:$S$1204,0),1))} | B10: {=IF(6>$S$1204,"",INDEX($T$5:$AJ$1204,MATCH(6,$S$5:$S$1204,0),2))} | C10: {=IF(6>$S$1204,"",INDEX($T$5:$AJ$1204,MATCH(6,$S$5:$S$1204,0),3))} | D10: {=IF(6>$S$1204,"",INDEX($T$5:$AJ$1204,MATCH(6,$S$5:$S$1204,0),4))} | E10: {=IF(6>$S$1204,"",INDEX($T$5:$AJ$1204,MATCH(6,$S$5:$S$1204,0),5))} | F10: {=IF(6>$S$1204,"",INDEX($T$5:$AJ$1204,MATCH(6,$S$5:$S$1204,0),6))} | G10: {=IF(6>$S$1204,"",INDEX($T$5:$AJ$1204,MATCH(6,$S$5:$S$1204,0),7))} | H10: {=IF(6>$S$1204,"",INDEX($T$5:$AJ$1204,MATCH(6,$S$5:$S$1204,0),8))} | I10: {=IF(6>$S$1204,"",INDEX($T$5:$AJ$1204,MATCH(6,$S$5:$S$1204,0),9))} | J10: {=IF(6>$S$1204,"",INDEX($T$5:$AJ$1204,MATCH(6,$S$5:$S$1204,0),10))} | K10: {=IF(6>$S$1204,"",INDEX($T$5:$AJ$1204,MATCH(6,$S$5:$S$1204,0),11))} | L10: {=IF(6>$S$1204,"",INDEX($T$5:$AJ$1204,MATCH(6,$S$5:$S$1204,0),12))} | M10: {=IF(6>$S$1204,"",INDEX($T$5:$AJ$1204,MATCH(6,$S$5:$S$1204,0),13))} | N10: {=IF(6>$S$1204,"",INDEX($T$5:$AJ$1204,MATCH(6,$S$5:$S$1204,0),14))} | O10: {=IF(6>$S$1204,"",INDEX($T$5:$AJ$1204,MATCH(6,$S$5:$S$1204,0),15))} | P10: {=IF(6>$S$1204,"",INDEX($T$5:$AJ$1204,MATCH(6,$S$5:$S$1204,0),16))} | Q10: {=IF(6>$S$1204,"",INDEX($T$5:$AJ$1204,MATCH(6,$S$5:$S$1204,0),17))} | S10: =S9+IF(M1_Administrativo!A14="",0,1) -> 0 | T10: =IF(M1_Administrativo!A14="","",IF(M1_Administrativo!A14="","",M1_Administrativo!A14)) | U10: =IF(M1_Administrativo!A14="","",IF(M1_Administrativo!R14="","",M1_Administrativo!R14)) | V10: =IF(M1_Administrativo!A14="","",IF(M1_Administrativo!D14="","",M1_Administrativo!D14)) | W10: =IF(M1_Administrativo!A14="","",IF(M1_Administrativo!B14="","",M1_Administrativo!B14)) | X10: =IF(M1_Administrativo!A14="","",IF(M1_Administrativo!C14="","",M1_Administrativo!C14)) | Y10: =IF(M1_Administrativo!A14="","",IF(M1_Administrativo!E14="","",M1_Administrativo!E14)) | Z10: =IF(M1_Administrativo!A14="","",IF(M1_Administrativo!F14="","",M1_Administrativo!F14)) | AA10: =IF(M1_Administrativo!A14="","","M1 Administrativo") | AB10: =IF(M1_Administrativo!A14="","",IF(M1_Administrativo!G14="","",M1_Administrativo!G14)) | AC10: =IF(M1_Administrativo!A14="","",IF(M1_Administrativo!M14="","",M1_Administrativo!M14)) | AD10: =IF(M1_Administrativo!A14="","","RA") | AE10: =IF(M1_Administrativo!A14="","",IF(M1_Administrativo!O14="","",M1_Administrativo!O14)) | AF10: =IF(M1_Administrativo!A14="","",IF(M1_Administrativo!P14="","",M1_Administrativo!P14)) | AG10: =IF(M1_Administrativo!A14="","",IF(M1_Administrativo!Q14="","",M1_Administrativo!Q14)) | AH10: =IF(M1_Administrativo!A14="","","") | AI10: =IF(M1_Administrativo!A14="","","M1_Administrativo!14") | AJ10: =IF(M1_Administrativo!A14="","",IF(M1_Administrativo!M14="","Pendiente de resultado","Disponible"))
A11: {=IF(7>$S$1204,"",INDEX($T$5:$AJ$1204,MATCH(7,$S$5:$S$1204,0),1))} | B11: {=IF(7>$S$1204,"",INDEX($T$5:$AJ$1204,MATCH(7,$S$5:$S$1204,0),2))} | C11: {=IF(7>$S$1204,"",INDEX($T$5:$AJ$1204,MATCH(7,$S$5:$S$1204,0),3))} | D11: {=IF(7>$S$1204,"",INDEX($T$5:$AJ$1204,MATCH(7,$S$5:$S$1204,0),4))} | E11: {=IF(7>$S$1204,"",INDEX($T$5:$AJ$1204,MATCH(7,$S$5:$S$1204,0),5))} | F11: {=IF(7>$S$1204,"",INDEX($T$5:$AJ$1204,MATCH(7,$S$5:$S$1204,0),6))} | G11: {=IF(7>$S$1204,"",INDEX($T$5:$AJ$1204,MATCH(7,$S$5:$S$1204,0),7))} | H11: {=IF(7>$S$1204,"",INDEX($T$5:$AJ$1204,MATCH(7,$S$5:$S$1204,0),8))} | I11: {=IF(7>$S$1204,"",INDEX($T$5:$AJ$1204,MATCH(7,$S$5:$S$1204,0),9))} | J11: {=IF(7>$S$1204,"",INDEX($T$5:$AJ$1204,MATCH(7,$S$5:$S$1204,0),10))} | K11: {=IF(7>$S$1204,"",INDEX($T$5:$AJ$1204,MATCH(7,$S$5:$S$1204,0),11))} | L11: {=IF(7>$S$1204,"",INDEX($T$5:$AJ$1204,MATCH(7,$S$5:$S$1204,0),12))} | M11: {=IF(7>$S$1204,"",INDEX($T$5:$AJ$1204,MATCH(7,$S$5:$S$1204,0),13))} | N11: {=IF(7>$S$1204,"",INDEX($T$5:$AJ$1204,MATCH(7,$S$5:$S$1204,0),14))} | O11: {=IF(7>$S$1204,"",INDEX($T$5:$AJ$1204,MATCH(7,$S$5:$S$1204,0),15))} | P11: {=IF(7>$S$1204,"",INDEX($T$5:$AJ$1204,MATCH(7,$S$5:$S$1204,0),16))} | Q11: {=IF(7>$S$1204,"",INDEX($T$5:$AJ$1204,MATCH(7,$S$5:$S$1204,0),17))} | S11: =S10+IF(M1_Administrativo!A15="",0,1) -> 0 | T11: =IF(M1_Administrativo!A15="","",IF(M1_Administrativo!A15="","",M1_Administrativo!A15)) | U11: =IF(M1_Administrativo!A15="","",IF(M1_Administrativo!R15="","",M1_Administrativo!R15)) | V11: =IF(M1_Administrativo!A15="","",IF(M1_Administrativo!D15="","",M1_Administrativo!D15)) | W11: =IF(M1_Administrativo!A15="","",IF(M1_Administrativo!B15="","",M1_Administrativo!B15)) | X11: =IF(M1_Administrativo!A15="","",IF(M1_Administrativo!C15="","",M1_Administrativo!C15)) | Y11: =IF(M1_Administrativo!A15="","",IF(M1_Administrativo!E15="","",M1_Administrativo!E15)) | Z11: =IF(M1_Administrativo!A15="","",IF(M1_Administrativo!F15="","",M1_Administrativo!F15)) | AA11: =IF(M1_Administrativo!A15="","","M1 Administrativo") | AB11: =IF(M1_Administrativo!A15="","",IF(M1_Administrativo!G15="","",M1_Administrativo!G15)) | AC11: =IF(M1_Administrativo!A15="","",IF(M1_Administrativo!M15="","",M1_Administrativo!M15)) | AD11: =IF(M1_Administrativo!A15="","","RA") | AE11: =IF(M1_Administrativo!A15="","",IF(M1_Administrativo!O15="","",M1_Administrativo!O15)) | AF11: =IF(M1_Administrativo!A15="","",IF(M1_Administrativo!P15="","",M1_Administrativo!P15)) | AG11: =IF(M1_Administrativo!A15="","",IF(M1_Administrativo!Q15="","",M1_Administrativo!Q15)) | AH11: =IF(M1_Administrativo!A15="","","") | AI11: =IF(M1_Administrativo!A15="","","M1_Administrativo!15") | AJ11: =IF(M1_Administrativo!A15="","",IF(M1_Administrativo!M15="","Pendiente de resultado","Disponible"))
A12: {=IF(8>$S$1204,"",INDEX($T$5:$AJ$1204,MATCH(8,$S$5:$S$1204,0),1))} | B12: {=IF(8>$S$1204,"",INDEX($T$5:$AJ$1204,MATCH(8,$S$5:$S$1204,0),2))} | C12: {=IF(8>$S$1204,"",INDEX($T$5:$AJ$1204,MATCH(8,$S$5:$S$1204,0),3))} | D12: {=IF(8>$S$1204,"",INDEX($T$5:$AJ$1204,MATCH(8,$S$5:$S$1204,0),4))} | E12: {=IF(8>$S$1204,"",INDEX($T$5:$AJ$1204,MATCH(8,$S$5:$S$1204,0),5))} | F12: {=IF(8>$S$1204,"",INDEX($T$5:$AJ$1204,MATCH(8,$S$5:$S$1204,0),6))} | G12: {=IF(8>$S$1204,"",INDEX($T$5:$AJ$1204,MATCH(8,$S$5:$S$1204,0),7))} | H12: {=IF(8>$S$1204,"",INDEX($T$5:$AJ$1204,MATCH(8,$S$5:$S$1204,0),8))} | I12: {=IF(8>$S$1204,"",INDEX($T$5:$AJ$1204,MATCH(8,$S$5:$S$1204,0),9))} | J12: {=IF(8>$S$1204,"",INDEX($T$5:$AJ$1204,MATCH(8,$S$5:$S$1204,0),10))} | K12: {=IF(8>$S$1204,"",INDEX($T$5:$AJ$1204,MATCH(8,$S$5:$S$1204,0),11))} | L12: {=IF(8>$S$1204,"",INDEX($T$5:$AJ$1204,MATCH(8,$S$5:$S$1204,0),12))} | M12: {=IF(8>$S$1204,"",INDEX($T$5:$AJ$1204,MATCH(8,$S$5:$S$1204,0),13))} | N12: {=IF(8>$S$1204,"",INDEX($T$5:$AJ$1204,MATCH(8,$S$5:$S$1204,0),14))} | O12: {=IF(8>$S$1204,"",INDEX($T$5:$AJ$1204,MATCH(8,$S$5:$S$1204,0),15))} | P12: {=IF(8>$S$1204,"",INDEX($T$5:$AJ$1204,MATCH(8,$S$5:$S$1204,0),16))} | Q12: {=IF(8>$S$1204,"",INDEX($T$5:$AJ$1204,MATCH(8,$S$5:$S$1204,0),17))} | S12: =S11+IF(M1_Administrativo!A16="",0,1) -> 0 | T12: =IF(M1_Administrativo!A16="","",IF(M1_Administrativo!A16="","",M1_Administrativo!A16)) | U12: =IF(M1_Administrativo!A16="","",IF(M1_Administrativo!R16="","",M1_Administrativo!R16)) | V12: =IF(M1_Administrativo!A16="","",IF(M1_Administrativo!D16="","",M1_Administrativo!D16)) | W12: =IF(M1_Administrativo!A16="","",IF(M1_Administrativo!B16="","",M1_Administrativo!B16)) | X12: =IF(M1_Administrativo!A16="","",IF(M1_Administrativo!C16="","",M1_Administrativo!C16)) | Y12: =IF(M1_Administrativo!A16="","",IF(M1_Administrativo!E16="","",M1_Administrativo!E16)) | Z12: =IF(M1_Administrativo!A16="","",IF(M1_Administrativo!F16="","",M1_Administrativo!F16)) | AA12: =IF(M1_Administrativo!A16="","","M1 Administrativo") | AB12: =IF(M1_Administrativo!A16="","",IF(M1_Administrativo!G16="","",M1_Administrativo!G16)) | AC12: =IF(M1_Administrativo!A16="","",IF(M1_Administrativo!M16="","",M1_Administrativo!M16)) | AD12: =IF(M1_Administrativo!A16="","","RA") | AE12: =IF(M1_Administrativo!A16="","",IF(M1_Administrativo!O16="","",M1_Administrativo!O16)) | AF12: =IF(M1_Administrativo!A16="","",IF(M1_Administrativo!P16="","",M1_Administrativo!P16)) | AG12: =IF(M1_Administrativo!A16="","",IF(M1_Administrativo!Q16="","",M1_Administrativo!Q16)) | AH12: =IF(M1_Administrativo!A16="","","") | AI12: =IF(M1_Administrativo!A16="","","M1_Administrativo!16") | AJ12: =IF(M1_Administrativo!A16="","",IF(M1_Administrativo!M16="","Pendiente de resultado","Disponible"))
A13: {=IF(9>$S$1204,"",INDEX($T$5:$AJ$1204,MATCH(9,$S$5:$S$1204,0),1))} | B13: {=IF(9>$S$1204,"",INDEX($T$5:$AJ$1204,MATCH(9,$S$5:$S$1204,0),2))} | C13: {=IF(9>$S$1204,"",INDEX($T$5:$AJ$1204,MATCH(9,$S$5:$S$1204,0),3))} | D13: {=IF(9>$S$1204,"",INDEX($T$5:$AJ$1204,MATCH(9,$S$5:$S$1204,0),4))} | E13: {=IF(9>$S$1204,"",INDEX($T$5:$AJ$1204,MATCH(9,$S$5:$S$1204,0),5))} | F13: {=IF(9>$S$1204,"",INDEX($T$5:$AJ$1204,MATCH(9,$S$5:$S$1204,0),6))} | G13: {=IF(9>$S$1204,"",INDEX($T$5:$AJ$1204,MATCH(9,$S$5:$S$1204,0),7))} | H13: {=IF(9>$S$1204,"",INDEX($T$5:$AJ$1204,MATCH(9,$S$5:$S$1204,0),8))} | I13: {=IF(9>$S$1204,"",INDEX($T$5:$AJ$1204,MATCH(9,$S$5:$S$1204,0),9))} | J13: {=IF(9>$S$1204,"",INDEX($T$5:$AJ$1204,MATCH(9,$S$5:$S$1204,0),10))} | K13: {=IF(9>$S$1204,"",INDEX($T$5:$AJ$1204,MATCH(9,$S$5:$S$1204,0),11))} | L13: {=IF(9>$S$1204,"",INDEX($T$5:$AJ$1204,MATCH(9,$S$5:$S$1204,0),12))} | M13: {=IF(9>$S$1204,"",INDEX($T$5:$AJ$1204,MATCH(9,$S$5:$S$1204,0),13))} | N13: {=IF(9>$S$1204,"",INDEX($T$5:$AJ$1204,MATCH(9,$S$5:$S$1204,0),14))} | O13: {=IF(9>$S$1204,"",INDEX($T$5:$AJ$1204,MATCH(9,$S$5:$S$1204,0),15))} | P13: {=IF(9>$S$1204,"",INDEX($T$5:$AJ$1204,MATCH(9,$S$5:$S$1204,0),16))} | Q13: {=IF(9>$S$1204,"",INDEX($T$5:$AJ$1204,MATCH(9,$S$5:$S$1204,0),17))} | S13: =S12+IF(M1_Administrativo!A17="",0,1) -> 0 | T13: =IF(M1_Administrativo!A17="","",IF(M1_Administrativo!A17="","",M1_Administrativo!A17)) | U13: =IF(M1_Administrativo!A17="","",IF(M1_Administrativo!R17="","",M1_Administrativo!R17)) | V13: =IF(M1_Administrativo!A17="","",IF(M1_Administrativo!D17="","",M1_Administrativo!D17)) | W13: =IF(M1_Administrativo!A17="","",IF(M1_Administrativo!B17="","",M1_Administrativo!B17)) | X13: =IF(M1_Administrativo!A17="","",IF(M1_Administrativo!C17="","",M1_Administrativo!C17)) | Y13: =IF(M1_Administrativo!A17="","",IF(M1_Administrativo!E17="","",M1_Administrativo!E17)) | Z13: =IF(M1_Administrativo!A17="","",IF(M1_Administrativo!F17="","",M1_Administrativo!F17)) | AA13: =IF(M1_Administrativo!A17="","","M1 Administrativo") | AB13: =IF(M1_Administrativo!A17="","",IF(M1_Administrativo!G17="","",M1_Administrativo!G17)) | AC13: =IF(M1_Administrativo!A17="","",IF(M1_Administrativo!M17="","",M1_Administrativo!M17)) | AD13: =IF(M1_Administrativo!A17="","","RA") | AE13: =IF(M1_Administrativo!A17="","",IF(M1_Administrativo!O17="","",M1_Administrativo!O17)) | AF13: =IF(M1_Administrativo!A17="","",IF(M1_Administrativo!P17="","",M1_Administrativo!P17)) | AG13: =IF(M1_Administrativo!A17="","",IF(M1_Administrativo!Q17="","",M1_Administrativo!Q17)) | AH13: =IF(M1_Administrativo!A17="","","") | AI13: =IF(M1_Administrativo!A17="","","M1_Administrativo!17") | AJ13: =IF(M1_Administrativo!A17="","",IF(M1_Administrativo!M17="","Pendiente de resultado","Disponible"))
A14: {=IF(10>$S$1204,"",INDEX($T$5:$AJ$1204,MATCH(10,$S$5:$S$1204,0),1))} | B14: {=IF(10>$S$1204,"",INDEX($T$5:$AJ$1204,MATCH(10,$S$5:$S$1204,0),2))} | C14: {=IF(10>$S$1204,"",INDEX($T$5:$AJ$1204,MATCH(10,$S$5:$S$1204,0),3))} | D14: {=IF(10>$S$1204,"",INDEX($T$5:$AJ$1204,MATCH(10,$S$5:$S$1204,0),4))} | E14: {=IF(10>$S$1204,"",INDEX($T$5:$AJ$1204,MATCH(10,$S$5:$S$1204,0),5))} | F14: {=IF(10>$S$1204,"",INDEX($T$5:$AJ$1204,MATCH(10,$S$5:$S$1204,0),6))} | G14: {=IF(10>$S$1204,"",INDEX($T$5:$AJ$1204,MATCH(10,$S$5:$S$1204,0),7))} | H14: {=IF(10>$S$1204,"",INDEX($T$5:$AJ$1204,MATCH(10,$S$5:$S$1204,0),8))} | I14: {=IF(10>$S$1204,"",INDEX($T$5:$AJ$1204,MATCH(10,$S$5:$S$1204,0),9))} | J14: {=IF(10>$S$1204,"",INDEX($T$5:$AJ$1204,MATCH(10,$S$5:$S$1204,0),10))} | K14: {=IF(10>$S$1204,"",INDEX($T$5:$AJ$1204,MATCH(10,$S$5:$S$1204,0),11))} | L14: {=IF(10>$S$1204,"",INDEX($T$5:$AJ$1204,MATCH(10,$S$5:$S$1204,0),12))} | M14: {=IF(10>$S$1204,"",INDEX($T$5:$AJ$1204,MATCH(10,$S$5:$S$1204,0),13))} | N14: {=IF(10>$S$1204,"",INDEX($T$5:$AJ$1204,MATCH(10,$S$5:$S$1204,0),14))} | O14: {=IF(10>$S$1204,"",INDEX($T$5:$AJ$1204,MATCH(10,$S$5:$S$1204,0),15))} | P14: {=IF(10>$S$1204,"",INDEX($T$5:$AJ$1204,MATCH(10,$S$5:$S$1204,0),16))} | Q14: {=IF(10>$S$1204,"",INDEX($T$5:$AJ$1204,MATCH(10,$S$5:$S$1204,0),17))} | S14: =S13+IF(M1_Administrativo!A18="",0,1) -> 0 | T14: =IF(M1_Administrativo!A18="","",IF(M1_Administrativo!A18="","",M1_Administrativo!A18)) | U14: =IF(M1_Administrativo!A18="","",IF(M1_Administrativo!R18="","",M1_Administrativo!R18)) | V14: =IF(M1_Administrativo!A18="","",IF(M1_Administrativo!D18="","",M1_Administrativo!D18)) | W14: =IF(M1_Administrativo!A18="","",IF(M1_Administrativo!B18="","",M1_Administrativo!B18)) | X14: =IF(M1_Administrativo!A18="","",IF(M1_Administrativo!C18="","",M1_Administrativo!C18)) | Y14: =IF(M1_Administrativo!A18="","",IF(M1_Administrativo!E18="","",M1_Administrativo!E18)) | Z14: =IF(M1_Administrativo!A18="","",IF(M1_Administrativo!F18="","",M1_Administrativo!F18)) | AA14: =IF(M1_Administrativo!A18="","","M1 Administrativo") | AB14: =IF(M1_Administrativo!A18="","",IF(M1_Administrativo!G18="","",M1_Administrativo!G18)) | AC14: =IF(M1_Administrativo!A18="","",IF(M1_Administrativo!M18="","",M1_Administrativo!M18)) | AD14: =IF(M1_Administrativo!A18="","","RA") | AE14: =IF(M1_Administrativo!A18="","",IF(M1_Administrativo!O18="","",M1_Administrativo!O18)) | AF14: =IF(M1_Administrativo!A18="","",IF(M1_Administrativo!P18="","",M1_Administrativo!P18)) | AG14: =IF(M1_Administrativo!A18="","",IF(M1_Administrativo!Q18="","",M1_Administrativo!Q18)) | AH14: =IF(M1_Administrativo!A18="","","") | AI14: =IF(M1_Administrativo!A18="","","M1_Administrativo!18") | AJ14: =IF(M1_Administrativo!A18="","",IF(M1_Administrativo!M18="","Pendiente de resultado","Disponible"))
A15: {=IF(11>$S$1204,"",INDEX($T$5:$AJ$1204,MATCH(11,$S$5:$S$1204,0),1))} | B15: {=IF(11>$S$1204,"",INDEX($T$5:$AJ$1204,MATCH(11,$S$5:$S$1204,0),2))} | C15: {=IF(11>$S$1204,"",INDEX($T$5:$AJ$1204,MATCH(11,$S$5:$S$1204,0),3))} | D15: {=IF(11>$S$1204,"",INDEX($T$5:$AJ$1204,MATCH(11,$S$5:$S$1204,0),4))} | E15: {=IF(11>$S$1204,"",INDEX($T$5:$AJ$1204,MATCH(11,$S$5:$S$1204,0),5))} | F15: {=IF(11>$S$1204,"",INDEX($T$5:$AJ$1204,MATCH(11,$S$5:$S$1204,0),6))} | G15: {=IF(11>$S$1204,"",INDEX($T$5:$AJ$1204,MATCH(11,$S$5:$S$1204,0),7))} | H15: {=IF(11>$S$1204,"",INDEX($T$5:$AJ$1204,MATCH(11,$S$5:$S$1204,0),8))} | I15: {=IF(11>$S$1204,"",INDEX($T$5:$AJ$1204,MATCH(11,$S$5:$S$1204,0),9))} | J15: {=IF(11>$S$1204,"",INDEX($T$5:$AJ$1204,MATCH(11,$S$5:$S$1204,0),10))} | K15: {=IF(11>$S$1204,"",INDEX($T$5:$AJ$1204,MATCH(11,$S$5:$S$1204,0),11))} | L15: {=IF(11>$S$1204,"",INDEX($T$5:$AJ$1204,MATCH(11,$S$5:$S$1204,0),12))} | M15: {=IF(11>$S$1204,"",INDEX($T$5:$AJ$1204,MATCH(11,$S$5:$S$1204,0),13))} | N15: {=IF(11>$S$1204,"",INDEX($T$5:$AJ$1204,MATCH(11,$S$5:$S$1204,0),14))} | O15: {=IF(11>$S$1204,"",INDEX($T$5:$AJ$1204,MATCH(11,$S$5:$S$1204,0),15))} | P15: {=IF(11>$S$1204,"",INDEX($T$5:$AJ$1204,MATCH(11,$S$5:$S$1204,0),16))} | Q15: {=IF(11>$S$1204,"",INDEX($T$5:$AJ$1204,MATCH(11,$S$5:$S$1204,0),17))} | S15: =S14+IF(M1_Administrativo!A19="",0,1) -> 0 | T15: =IF(M1_Administrativo!A19="","",IF(M1_Administrativo!A19="","",M1_Administrativo!A19)) | U15: =IF(M1_Administrativo!A19="","",IF(M1_Administrativo!R19="","",M1_Administrativo!R19)) | V15: =IF(M1_Administrativo!A19="","",IF(M1_Administrativo!D19="","",M1_Administrativo!D19)) | W15: =IF(M1_Administrativo!A19="","",IF(M1_Administrativo!B19="","",M1_Administrativo!B19)) | X15: =IF(M1_Administrativo!A19="","",IF(M1_Administrativo!C19="","",M1_Administrativo!C19)) | Y15: =IF(M1_Administrativo!A19="","",IF(M1_Administrativo!E19="","",M1_Administrativo!E19)) | Z15: =IF(M1_Administrativo!A19="","",IF(M1_Administrativo!F19="","",M1_Administrativo!F19)) | AA15: =IF(M1_Administrativo!A19="","","M1 Administrativo") | AB15: =IF(M1_Administrativo!A19="","",IF(M1_Administrativo!G19="","",M1_Administrativo!G19)) | AC15: =IF(M1_Administrativo!A19="","",IF(M1_Administrativo!M19="","",M1_Administrativo!M19)) | AD15: =IF(M1_Administrativo!A19="","","RA") | AE15: =IF(M1_Administrativo!A19="","",IF(M1_Administrativo!O19="","",M1_Administrativo!O19)) | AF15: =IF(M1_Administrativo!A19="","",IF(M1_Administrativo!P19="","",M1_Administrativo!P19)) | AG15: =IF(M1_Administrativo!A19="","",IF(M1_Administrativo!Q19="","",M1_Administrativo!Q19)) | AH15: =IF(M1_Administrativo!A19="","","") | AI15: =IF(M1_Administrativo!A19="","","M1_Administrativo!19") | AJ15: =IF(M1_Administrativo!A19="","",IF(M1_Administrativo!M19="","Pendiente de resultado","Disponible"))
A16: {=IF(12>$S$1204,"",INDEX($T$5:$AJ$1204,MATCH(12,$S$5:$S$1204,0),1))} | B16: {=IF(12>$S$1204,"",INDEX($T$5:$AJ$1204,MATCH(12,$S$5:$S$1204,0),2))} | C16: {=IF(12>$S$1204,"",INDEX($T$5:$AJ$1204,MATCH(12,$S$5:$S$1204,0),3))} | D16: {=IF(12>$S$1204,"",INDEX($T$5:$AJ$1204,MATCH(12,$S$5:$S$1204,0),4))} | E16: {=IF(12>$S$1204,"",INDEX($T$5:$AJ$1204,MATCH(12,$S$5:$S$1204,0),5))} | F16: {=IF(12>$S$1204,"",INDEX($T$5:$AJ$1204,MATCH(12,$S$5:$S$1204,0),6))} | G16: {=IF(12>$S$1204,"",INDEX($T$5:$AJ$1204,MATCH(12,$S$5:$S$1204,0),7))} | H16: {=IF(12>$S$1204,"",INDEX($T$5:$AJ$1204,MATCH(12,$S$5:$S$1204,0),8))} | I16: {=IF(12>$S$1204,"",INDEX($T$5:$AJ$1204,MATCH(12,$S$5:$S$1204,0),9))} | J16: {=IF(12>$S$1204,"",INDEX($T$5:$AJ$1204,MATCH(12,$S$5:$S$1204,0),10))} | K16: {=IF(12>$S$1204,"",INDEX($T$5:$AJ$1204,MATCH(12,$S$5:$S$1204,0),11))} | L16: {=IF(12>$S$1204,"",INDEX($T$5:$AJ$1204,MATCH(12,$S$5:$S$1204,0),12))} | M16: {=IF(12>$S$1204,"",INDEX($T$5:$AJ$1204,MATCH(12,$S$5:$S$1204,0),13))} | N16: {=IF(12>$S$1204,"",INDEX($T$5:$AJ$1204,MATCH(12,$S$5:$S$1204,0),14))} | O16: {=IF(12>$S$1204,"",INDEX($T$5:$AJ$1204,MATCH(12,$S$5:$S$1204,0),15))} | P16: {=IF(12>$S$1204,"",INDEX($T$5:$AJ$1204,MATCH(12,$S$5:$S$1204,0),16))} | Q16: {=IF(12>$S$1204,"",INDEX($T$5:$AJ$1204,MATCH(12,$S$5:$S$1204,0),17))} | S16: =S15+IF(M1_Administrativo!A20="",0,1) -> 0 | T16: =IF(M1_Administrativo!A20="","",IF(M1_Administrativo!A20="","",M1_Administrativo!A20)) | U16: =IF(M1_Administrativo!A20="","",IF(M1_Administrativo!R20="","",M1_Administrativo!R20)) | V16: =IF(M1_Administrativo!A20="","",IF(M1_Administrativo!D20="","",M1_Administrativo!D20)) | W16: =IF(M1_Administrativo!A20="","",IF(M1_Administrativo!B20="","",M1_Administrativo!B20)) | X16: =IF(M1_Administrativo!A20="","",IF(M1_Administrativo!C20="","",M1_Administrativo!C20)) | Y16: =IF(M1_Administrativo!A20="","",IF(M1_Administrativo!E20="","",M1_Administrativo!E20)) | Z16: =IF(M1_Administrativo!A20="","",IF(M1_Administrativo!F20="","",M1_Administrativo!F20)) | AA16: =IF(M1_Administrativo!A20="","","M1 Administrativo") | AB16: =IF(M1_Administrativo!A20="","",IF(M1_Administrativo!G20="","",M1_Administrativo!G20)) | AC16: =IF(M1_Administrativo!A20="","",IF(M1_Administrativo!M20="","",M1_Administrativo!M20)) | AD16: =IF(M1_Administrativo!A20="","","RA") | AE16: =IF(M1_Administrativo!A20="","",IF(M1_Administrativo!O20="","",M1_Administrativo!O20)) | AF16: =IF(M1_Administrativo!A20="","",IF(M1_Administrativo!P20="","",M1_Administrativo!P20)) | AG16: =IF(M1_Administrativo!A20="","",IF(M1_Administrativo!Q20="","",M1_Administrativo!Q20)) | AH16: =IF(M1_Administrativo!A20="","","") | AI16: =IF(M1_Administrativo!A20="","","M1_Administrativo!20") | AJ16: =IF(M1_Administrativo!A20="","",IF(M1_Administrativo!M20="","Pendiente de resultado","Disponible"))
A17: {=IF(13>$S$1204,"",INDEX($T$5:$AJ$1204,MATCH(13,$S$5:$S$1204,0),1))} | B17: {=IF(13>$S$1204,"",INDEX($T$5:$AJ$1204,MATCH(13,$S$5:$S$1204,0),2))} | C17: {=IF(13>$S$1204,"",INDEX($T$5:$AJ$1204,MATCH(13,$S$5:$S$1204,0),3))} | D17: {=IF(13>$S$1204,"",INDEX($T$5:$AJ$1204,MATCH(13,$S$5:$S$1204,0),4))} | E17: {=IF(13>$S$1204,"",INDEX($T$5:$AJ$1204,MATCH(13,$S$5:$S$1204,0),5))} | F17: {=IF(13>$S$1204,"",INDEX($T$5:$AJ$1204,MATCH(13,$S$5:$S$1204,0),6))} | G17: {=IF(13>$S$1204,"",INDEX($T$5:$AJ$1204,MATCH(13,$S$5:$S$1204,0),7))} | H17: {=IF(13>$S$1204,"",INDEX($T$5:$AJ$1204,MATCH(13,$S$5:$S$1204,0),8))} | I17: {=IF(13>$S$1204,"",INDEX($T$5:$AJ$1204,MATCH(13,$S$5:$S$1204,0),9))} | J17: {=IF(13>$S$1204,"",INDEX($T$5:$AJ$1204,MATCH(13,$S$5:$S$1204,0),10))} | K17: {=IF(13>$S$1204,"",INDEX($T$5:$AJ$1204,MATCH(13,$S$5:$S$1204,0),11))} | L17: {=IF(13>$S$1204,"",INDEX($T$5:$AJ$1204,MATCH(13,$S$5:$S$1204,0),12))} | M17: {=IF(13>$S$1204,"",INDEX($T$5:$AJ$1204,MATCH(13,$S$5:$S$1204,0),13))} | N17: {=IF(13>$S$1204,"",INDEX($T$5:$AJ$1204,MATCH(13,$S$5:$S$1204,0),14))} | O17: {=IF(13>$S$1204,"",INDEX($T$5:$AJ$1204,MATCH(13,$S$5:$S$1204,0),15))} | P17: {=IF(13>$S$1204,"",INDEX($T$5:$AJ$1204,MATCH(13,$S$5:$S$1204,0),16))} | Q17: {=IF(13>$S$1204,"",INDEX($T$5:$AJ$1204,MATCH(13,$S$5:$S$1204,0),17))} | S17: =S16+IF(M1_Administrativo!A21="",0,1) -> 0 | T17: =IF(M1_Administrativo!A21="","",IF(M1_Administrativo!A21="","",M1_Administrativo!A21)) | U17: =IF(M1_Administrativo!A21="","",IF(M1_Administrativo!R21="","",M1_Administrativo!R21)) | V17: =IF(M1_Administrativo!A21="","",IF(M1_Administrativo!D21="","",M1_Administrativo!D21)) | W17: =IF(M1_Administrativo!A21="","",IF(M1_Administrativo!B21="","",M1_Administrativo!B21)) | X17: =IF(M1_Administrativo!A21="","",IF(M1_Administrativo!C21="","",M1_Administrativo!C21)) | Y17: =IF(M1_Administrativo!A21="","",IF(M1_Administrativo!E21="","",M1_Administrativo!E21)) | Z17: =IF(M1_Administrativo!A21="","",IF(M1_Administrativo!F21="","",M1_Administrativo!F21)) | AA17: =IF(M1_Administrativo!A21="","","M1 Administrativo") | AB17: =IF(M1_Administrativo!A21="","",IF(M1_Administrativo!G21="","",M1_Administrativo!G21)) | AC17: =IF(M1_Administrativo!A21="","",IF(M1_Administrativo!M21="","",M1_Administrativo!M21)) | AD17: =IF(M1_Administrativo!A21="","","RA") | AE17: =IF(M1_Administrativo!A21="","",IF(M1_Administrativo!O21="","",M1_Administrativo!O21)) | AF17: =IF(M1_Administrativo!A21="","",IF(M1_Administrativo!P21="","",M1_Administrativo!P21)) | AG17: =IF(M1_Administrativo!A21="","",IF(M1_Administrativo!Q21="","",M1_Administrativo!Q21)) | AH17: =IF(M1_Administrativo!A21="","","") | AI17: =IF(M1_Administrativo!A21="","","M1_Administrativo!21") | AJ17: =IF(M1_Administrativo!A21="","",IF(M1_Administrativo!M21="","Pendiente de resultado","Disponible"))
A18: {=IF(14>$S$1204,"",INDEX($T$5:$AJ$1204,MATCH(14,$S$5:$S$1204,0),1))} | B18: {=IF(14>$S$1204,"",INDEX($T$5:$AJ$1204,MATCH(14,$S$5:$S$1204,0),2))} | C18: {=IF(14>$S$1204,"",INDEX($T$5:$AJ$1204,MATCH(14,$S$5:$S$1204,0),3))} | D18: {=IF(14>$S$1204,"",INDEX($T$5:$AJ$1204,MATCH(14,$S$5:$S$1204,0),4))} | E18: {=IF(14>$S$1204,"",INDEX($T$5:$AJ$1204,MATCH(14,$S$5:$S$1204,0),5))} | F18: {=IF(14>$S$1204,"",INDEX($T$5:$AJ$1204,MATCH(14,$S$5:$S$1204,0),6))} | G18: {=IF(14>$S$1204,"",INDEX($T$5:$AJ$1204,MATCH(14,$S$5:$S$1204,0),7))} | H18: {=IF(14>$S$1204,"",INDEX($T$5:$AJ$1204,MATCH(14,$S$5:$S$1204,0),8))} | I18: {=IF(14>$S$1204,"",INDEX($T$5:$AJ$1204,MATCH(14,$S$5:$S$1204,0),9))} | J18: {=IF(14>$S$1204,"",INDEX($T$5:$AJ$1204,MATCH(14,$S$5:$S$1204,0),10))} | K18: {=IF(14>$S$1204,"",INDEX($T$5:$AJ$1204,MATCH(14,$S$5:$S$1204,0),11))} | L18: {=IF(14>$S$1204,"",INDEX($T$5:$AJ$1204,MATCH(14,$S$5:$S$1204,0),12))} | M18: {=IF(14>$S$1204,"",INDEX($T$5:$AJ$1204,MATCH(14,$S$5:$S$1204,0),13))} | N18: {=IF(14>$S$1204,"",INDEX($T$5:$AJ$1204,MATCH(14,$S$5:$S$1204,0),14))} | O18: {=IF(14>$S$1204,"",INDEX($T$5:$AJ$1204,MATCH(14,$S$5:$S$1204,0),15))} | P18: {=IF(14>$S$1204,"",INDEX($T$5:$AJ$1204,MATCH(14,$S$5:$S$1204,0),16))} | Q18: {=IF(14>$S$1204,"",INDEX($T$5:$AJ$1204,MATCH(14,$S$5:$S$1204,0),17))} | S18: =S17+IF(M1_Administrativo!A22="",0,1) -> 0 | T18: =IF(M1_Administrativo!A22="","",IF(M1_Administrativo!A22="","",M1_Administrativo!A22)) | U18: =IF(M1_Administrativo!A22="","",IF(M1_Administrativo!R22="","",M1_Administrativo!R22)) | V18: =IF(M1_Administrativo!A22="","",IF(M1_Administrativo!D22="","",M1_Administrativo!D22)) | W18: =IF(M1_Administrativo!A22="","",IF(M1_Administrativo!B22="","",M1_Administrativo!B22)) | X18: =IF(M1_Administrativo!A22="","",IF(M1_Administrativo!C22="","",M1_Administrativo!C22)) | Y18: =IF(M1_Administrativo!A22="","",IF(M1_Administrativo!E22="","",M1_Administrativo!E22)) | Z18: =IF(M1_Administrativo!A22="","",IF(M1_Administrativo!F22="","",M1_Administrativo!F22)) | AA18: =IF(M1_Administrativo!A22="","","M1 Administrativo") | AB18: =IF(M1_Administrativo!A22="","",IF(M1_Administrativo!G22="","",M1_Administrativo!G22)) | AC18: =IF(M1_Administrativo!A22="","",IF(M1_Administrativo!M22="","",M1_Administrativo!M22)) | AD18: =IF(M1_Administrativo!A22="","","RA") | AE18: =IF(M1_Administrativo!A22="","",IF(M1_Administrativo!O22="","",M1_Administrativo!O22)) | AF18: =IF(M1_Administrativo!A22="","",IF(M1_Administrativo!P22="","",M1_Administrativo!P22)) | AG18: =IF(M1_Administrativo!A22="","",IF(M1_Administrativo!Q22="","",M1_Administrativo!Q22)) | AH18: =IF(M1_Administrativo!A22="","","") | AI18: =IF(M1_Administrativo!A22="","","M1_Administrativo!22") | AJ18: =IF(M1_Administrativo!A22="","",IF(M1_Administrativo!M22="","Pendiente de resultado","Disponible"))
A19: {=IF(15>$S$1204,"",INDEX($T$5:$AJ$1204,MATCH(15,$S$5:$S$1204,0),1))} | B19: {=IF(15>$S$1204,"",INDEX($T$5:$AJ$1204,MATCH(15,$S$5:$S$1204,0),2))} | C19: {=IF(15>$S$1204,"",INDEX($T$5:$AJ$1204,MATCH(15,$S$5:$S$1204,0),3))} | D19: {=IF(15>$S$1204,"",INDEX($T$5:$AJ$1204,MATCH(15,$S$5:$S$1204,0),4))} | E19: {=IF(15>$S$1204,"",INDEX($T$5:$AJ$1204,MATCH(15,$S$5:$S$1204,0),5))} | F19: {=IF(15>$S$1204,"",INDEX($T$5:$AJ$1204,MATCH(15,$S$5:$S$1204,0),6))} | G19: {=IF(15>$S$1204,"",INDEX($T$5:$AJ$1204,MATCH(15,$S$5:$S$1204,0),7))} | H19: {=IF(15>$S$1204,"",INDEX($T$5:$AJ$1204,MATCH(15,$S$5:$S$1204,0),8))} | I19: {=IF(15>$S$1204,"",INDEX($T$5:$AJ$1204,MATCH(15,$S$5:$S$1204,0),9))} | J19: {=IF(15>$S$1204,"",INDEX($T$5:$AJ$1204,MATCH(15,$S$5:$S$1204,0),10))} | K19: {=IF(15>$S$1204,"",INDEX($T$5:$AJ$1204,MATCH(15,$S$5:$S$1204,0),11))} | L19: {=IF(15>$S$1204,"",INDEX($T$5:$AJ$1204,MATCH(15,$S$5:$S$1204,0),12))} | M19: {=IF(15>$S$1204,"",INDEX($T$5:$AJ$1204,MATCH(15,$S$5:$S$1204,0),13))} | N19: {=IF(15>$S$1204,"",INDEX($T$5:$AJ$1204,MATCH(15,$S$5:$S$1204,0),14))} | O19: {=IF(15>$S$1204,"",INDEX($T$5:$AJ$1204,MATCH(15,$S$5:$S$1204,0),15))} | P19: {=IF(15>$S$1204,"",INDEX($T$5:$AJ$1204,MATCH(15,$S$5:$S$1204,0),16))} | Q19: {=IF(15>$S$1204,"",INDEX($T$5:$AJ$1204,MATCH(15,$S$5:$S$1204,0),17))} | S19: =S18+IF(M1_Administrativo!A23="",0,1) -> 0 | T19: =IF(M1_Administrativo!A23="","",IF(M1_Administrativo!A23="","",M1_Administrativo!A23)) | U19: =IF(M1_Administrativo!A23="","",IF(M1_Administrativo!R23="","",M1_Administrativo!R23)) | V19: =IF(M1_Administrativo!A23="","",IF(M1_Administrativo!D23="","",M1_Administrativo!D23)) | W19: =IF(M1_Administrativo!A23="","",IF(M1_Administrativo!B23="","",M1_Administrativo!B23)) | X19: =IF(M1_Administrativo!A23="","",IF(M1_Administrativo!C23="","",M1_Administrativo!C23)) | Y19: =IF(M1_Administrativo!A23="","",IF(M1_Administrativo!E23="","",M1_Administrativo!E23)) | Z19: =IF(M1_Administrativo!A23="","",IF(M1_Administrativo!F23="","",M1_Administrativo!F23)) | AA19: =IF(M1_Administrativo!A23="","","M1 Administrativo") | AB19: =IF(M1_Administrativo!A23="","",IF(M1_Administrativo!G23="","",M1_Administrativo!G23)) | AC19: =IF(M1_Administrativo!A23="","",IF(M1_Administrativo!M23="","",M1_Administrativo!M23)) | AD19: =IF(M1_Administrativo!A23="","","RA") | AE19: =IF(M1_Administrativo!A23="","",IF(M1_Administrativo!O23="","",M1_Administrativo!O23)) | AF19: =IF(M1_Administrativo!A23="","",IF(M1_Administrativo!P23="","",M1_Administrativo!P23)) | AG19: =IF(M1_Administrativo!A23="","",IF(M1_Administrativo!Q23="","",M1_Administrativo!Q23)) | AH19: =IF(M1_Administrativo!A23="","","") | AI19: =IF(M1_Administrativo!A23="","","M1_Administrativo!23") | AJ19: =IF(M1_Administrativo!A23="","",IF(M1_Administrativo!M23="","Pendiente de resultado","Disponible"))
A20: {=IF(16>$S$1204,"",INDEX($T$5:$AJ$1204,MATCH(16,$S$5:$S$1204,0),1))} | B20: {=IF(16>$S$1204,"",INDEX($T$5:$AJ$1204,MATCH(16,$S$5:$S$1204,0),2))} | C20: {=IF(16>$S$1204,"",INDEX($T$5:$AJ$1204,MATCH(16,$S$5:$S$1204,0),3))} | D20: {=IF(16>$S$1204,"",INDEX($T$5:$AJ$1204,MATCH(16,$S$5:$S$1204,0),4))} | E20: {=IF(16>$S$1204,"",INDEX($T$5:$AJ$1204,MATCH(16,$S$5:$S$1204,0),5))} | F20: {=IF(16>$S$1204,"",INDEX($T$5:$AJ$1204,MATCH(16,$S$5:$S$1204,0),6))} | G20: {=IF(16>$S$1204,"",INDEX($T$5:$AJ$1204,MATCH(16,$S$5:$S$1204,0),7))} | H20: {=IF(16>$S$1204,"",INDEX($T$5:$AJ$1204,MATCH(16,$S$5:$S$1204,0),8))} | I20: {=IF(16>$S$1204,"",INDEX($T$5:$AJ$1204,MATCH(16,$S$5:$S$1204,0),9))} | J20: {=IF(16>$S$1204,"",INDEX($T$5:$AJ$1204,MATCH(16,$S$5:$S$1204,0),10))} | K20: {=IF(16>$S$1204,"",INDEX($T$5:$AJ$1204,MATCH(16,$S$5:$S$1204,0),11))} | L20: {=IF(16>$S$1204,"",INDEX($T$5:$AJ$1204,MATCH(16,$S$5:$S$1204,0),12))} | M20: {=IF(16>$S$1204,"",INDEX($T$5:$AJ$1204,MATCH(16,$S$5:$S$1204,0),13))} | N20: {=IF(16>$S$1204,"",INDEX($T$5:$AJ$1204,MATCH(16,$S$5:$S$1204,0),14))} | O20: {=IF(16>$S$1204,"",INDEX($T$5:$AJ$1204,MATCH(16,$S$5:$S$1204,0),15))} | P20: {=IF(16>$S$1204,"",INDEX($T$5:$AJ$1204,MATCH(16,$S$5:$S$1204,0),16))} | Q20: {=IF(16>$S$1204,"",INDEX($T$5:$AJ$1204,MATCH(16,$S$5:$S$1204,0),17))} | S20: =S19+IF(M1_Administrativo!A24="",0,1) -> 0 | T20: =IF(M1_Administrativo!A24="","",IF(M1_Administrativo!A24="","",M1_Administrativo!A24)) | U20: =IF(M1_Administrativo!A24="","",IF(M1_Administrativo!R24="","",M1_Administrativo!R24)) | V20: =IF(M1_Administrativo!A24="","",IF(M1_Administrativo!D24="","",M1_Administrativo!D24)) | W20: =IF(M1_Administrativo!A24="","",IF(M1_Administrativo!B24="","",M1_Administrativo!B24)) | X20: =IF(M1_Administrativo!A24="","",IF(M1_Administrativo!C24="","",M1_Administrativo!C24)) | Y20: =IF(M1_Administrativo!A24="","",IF(M1_Administrativo!E24="","",M1_Administrativo!E24)) | Z20: =IF(M1_Administrativo!A24="","",IF(M1_Administrativo!F24="","",M1_Administrativo!F24)) | AA20: =IF(M1_Administrativo!A24="","","M1 Administrativo") | AB20: =IF(M1_Administrativo!A24="","",IF(M1_Administrativo!G24="","",M1_Administrativo!G24)) | AC20: =IF(M1_Administrativo!A24="","",IF(M1_Administrativo!M24="","",M1_Administrativo!M24)) | AD20: =IF(M1_Administrativo!A24="","","RA") | AE20: =IF(M1_Administrativo!A24="","",IF(M1_Administrativo!O24="","",M1_Administrativo!O24)) | AF20: =IF(M1_Administrativo!A24="","",IF(M1_Administrativo!P24="","",M1_Administrativo!P24)) | AG20: =IF(M1_Administrativo!A24="","",IF(M1_Administrativo!Q24="","",M1_Administrativo!Q24)) | AH20: =IF(M1_Administrativo!A24="","","") | AI20: =IF(M1_Administrativo!A24="","","M1_Administrativo!24") | AJ20: =IF(M1_Administrativo!A24="","",IF(M1_Administrativo!M24="","Pendiente de resultado","Disponible"))
A21: {=IF(17>$S$1204,"",INDEX($T$5:$AJ$1204,MATCH(17,$S$5:$S$1204,0),1))} | B21: {=IF(17>$S$1204,"",INDEX($T$5:$AJ$1204,MATCH(17,$S$5:$S$1204,0),2))} | C21: {=IF(17>$S$1204,"",INDEX($T$5:$AJ$1204,MATCH(17,$S$5:$S$1204,0),3))} | D21: {=IF(17>$S$1204,"",INDEX($T$5:$AJ$1204,MATCH(17,$S$5:$S$1204,0),4))} | E21: {=IF(17>$S$1204,"",INDEX($T$5:$AJ$1204,MATCH(17,$S$5:$S$1204,0),5))} | F21: {=IF(17>$S$1204,"",INDEX($T$5:$AJ$1204,MATCH(17,$S$5:$S$1204,0),6))} | G21: {=IF(17>$S$1204,"",INDEX($T$5:$AJ$1204,MATCH(17,$S$5:$S$1204,0),7))} | H21: {=IF(17>$S$1204,"",INDEX($T$5:$AJ$1204,MATCH(17,$S$5:$S$1204,0),8))} | I21: {=IF(17>$S$1204,"",INDEX($T$5:$AJ$1204,MATCH(17,$S$5:$S$1204,0),9))} | J21: {=IF(17>$S$1204,"",INDEX($T$5:$AJ$1204,MATCH(17,$S$5:$S$1204,0),10))} | K21: {=IF(17>$S$1204,"",INDEX($T$5:$AJ$1204,MATCH(17,$S$5:$S$1204,0),11))} | L21: {=IF(17>$S$1204,"",INDEX($T$5:$AJ$1204,MATCH(17,$S$5:$S$1204,0),12))} | M21: {=IF(17>$S$1204,"",INDEX($T$5:$AJ$1204,MATCH(17,$S$5:$S$1204,0),13))} | N21: {=IF(17>$S$1204,"",INDEX($T$5:$AJ$1204,MATCH(17,$S$5:$S$1204,0),14))} | O21: {=IF(17>$S$1204,"",INDEX($T$5:$AJ$1204,MATCH(17,$S$5:$S$1204,0),15))} | P21: {=IF(17>$S$1204,"",INDEX($T$5:$AJ$1204,MATCH(17,$S$5:$S$1204,0),16))} | Q21: {=IF(17>$S$1204,"",INDEX($T$5:$AJ$1204,MATCH(17,$S$5:$S$1204,0),17))} | S21: =S20+IF(M1_Administrativo!A25="",0,1) -> 0 | T21: =IF(M1_Administrativo!A25="","",IF(M1_Administrativo!A25="","",M1_Administrativo!A25)) | U21: =IF(M1_Administrativo!A25="","",IF(M1_Administrativo!R25="","",M1_Administrativo!R25)) | V21: =IF(M1_Administrativo!A25="","",IF(M1_Administrativo!D25="","",M1_Administrativo!D25)) | W21: =IF(M1_Administrativo!A25="","",IF(M1_Administrativo!B25="","",M1_Administrativo!B25)) | X21: =IF(M1_Administrativo!A25="","",IF(M1_Administrativo!C25="","",M1_Administrativo!C25)) | Y21: =IF(M1_Administrativo!A25="","",IF(M1_Administrativo!E25="","",M1_Administrativo!E25)) | Z21: =IF(M1_Administrativo!A25="","",IF(M1_Administrativo!F25="","",M1_Administrativo!F25)) | AA21: =IF(M1_Administrativo!A25="","","M1 Administrativo") | AB21: =IF(M1_Administrativo!A25="","",IF(M1_Administrativo!G25="","",M1_Administrativo!G25)) | AC21: =IF(M1_Administrativo!A25="","",IF(M1_Administrativo!M25="","",M1_Administrativo!M25)) | AD21: =IF(M1_Administrativo!A25="","","RA") | AE21: =IF(M1_Administrativo!A25="","",IF(M1_Administrativo!O25="","",M1_Administrativo!O25)) | AF21: =IF(M1_Administrativo!A25="","",IF(M1_Administrativo!P25="","",M1_Administrativo!P25)) | AG21: =IF(M1_Administrativo!A25="","",IF(M1_Administrativo!Q25="","",M1_Administrativo!Q25)) | AH21: =IF(M1_Administrativo!A25="","","") | AI21: =IF(M1_Administrativo!A25="","","M1_Administrativo!25") | AJ21: =IF(M1_Administrativo!A25="","",IF(M1_Administrativo!M25="","Pendiente de resultado","Disponible"))
A22: {=IF(18>$S$1204,"",INDEX($T$5:$AJ$1204,MATCH(18,$S$5:$S$1204,0),1))} | B22: {=IF(18>$S$1204,"",INDEX($T$5:$AJ$1204,MATCH(18,$S$5:$S$1204,0),2))} | C22: {=IF(18>$S$1204,"",INDEX($T$5:$AJ$1204,MATCH(18,$S$5:$S$1204,0),3))} | D22: {=IF(18>$S$1204,"",INDEX($T$5:$AJ$1204,MATCH(18,$S$5:$S$1204,0),4))} | E22: {=IF(18>$S$1204,"",INDEX($T$5:$AJ$1204,MATCH(18,$S$5:$S$1204,0),5))} | F22: {=IF(18>$S$1204,"",INDEX($T$5:$AJ$1204,MATCH(18,$S$5:$S$1204,0),6))} | G22: {=IF(18>$S$1204,"",INDEX($T$5:$AJ$1204,MATCH(18,$S$5:$S$1204,0),7))} | H22: {=IF(18>$S$1204,"",INDEX($T$5:$AJ$1204,MATCH(18,$S$5:$S$1204,0),8))} | I22: {=IF(18>$S$1204,"",INDEX($T$5:$AJ$1204,MATCH(18,$S$5:$S$1204,0),9))} | J22: {=IF(18>$S$1204,"",INDEX($T$5:$AJ$1204,MATCH(18,$S$5:$S$1204,0),10))} | K22: {=IF(18>$S$1204,"",INDEX($T$5:$AJ$1204,MATCH(18,$S$5:$S$1204,0),11))} | L22: {=IF(18>$S$1204,"",INDEX($T$5:$AJ$1204,MATCH(18,$S$5:$S$1204,0),12))} | M22: {=IF(18>$S$1204,"",INDEX($T$5:$AJ$1204,MATCH(18,$S$5:$S$1204,0),13))} | N22: {=IF(18>$S$1204,"",INDEX($T$5:$AJ$1204,MATCH(18,$S$5:$S$1204,0),14))} | O22: {=IF(18>$S$1204,"",INDEX($T$5:$AJ$1204,MATCH(18,$S$5:$S$1204,0),15))} | P22: {=IF(18>$S$1204,"",INDEX($T$5:$AJ$1204,MATCH(18,$S$5:$S$1204,0),16))} | Q22: {=IF(18>$S$1204,"",INDEX($T$5:$AJ$1204,MATCH(18,$S$5:$S$1204,0),17))} | S22: =S21+IF(M1_Administrativo!A26="",0,1) -> 0 | T22: =IF(M1_Administrativo!A26="","",IF(M1_Administrativo!A26="","",M1_Administrativo!A26)) | U22: =IF(M1_Administrativo!A26="","",IF(M1_Administrativo!R26="","",M1_Administrativo!R26)) | V22: =IF(M1_Administrativo!A26="","",IF(M1_Administrativo!D26="","",M1_Administrativo!D26)) | W22: =IF(M1_Administrativo!A26="","",IF(M1_Administrativo!B26="","",M1_Administrativo!B26)) | X22: =IF(M1_Administrativo!A26="","",IF(M1_Administrativo!C26="","",M1_Administrativo!C26)) | Y22: =IF(M1_Administrativo!A26="","",IF(M1_Administrativo!E26="","",M1_Administrativo!E26)) | Z22: =IF(M1_Administrativo!A26="","",IF(M1_Administrativo!F26="","",M1_Administrativo!F26)) | AA22: =IF(M1_Administrativo!A26="","","M1 Administrativo") | AB22: =IF(M1_Administrativo!A26="","",IF(M1_Administrativo!G26="","",M1_Administrativo!G26)) | AC22: =IF(M1_Administrativo!A26="","",IF(M1_Administrativo!M26="","",M1_Administrativo!M26)) | AD22: =IF(M1_Administrativo!A26="","","RA") | AE22: =IF(M1_Administrativo!A26="","",IF(M1_Administrativo!O26="","",M1_Administrativo!O26)) | AF22: =IF(M1_Administrativo!A26="","",IF(M1_Administrativo!P26="","",M1_Administrativo!P26)) | AG22: =IF(M1_Administrativo!A26="","",IF(M1_Administrativo!Q26="","",M1_Administrativo!Q26)) | AH22: =IF(M1_Administrativo!A26="","","") | AI22: =IF(M1_Administrativo!A26="","","M1_Administrativo!26") | AJ22: =IF(M1_Administrativo!A26="","",IF(M1_Administrativo!M26="","Pendiente de resultado","Disponible"))
A23: {=IF(19>$S$1204,"",INDEX($T$5:$AJ$1204,MATCH(19,$S$5:$S$1204,0),1))} | B23: {=IF(19>$S$1204,"",INDEX($T$5:$AJ$1204,MATCH(19,$S$5:$S$1204,0),2))} | C23: {=IF(19>$S$1204,"",INDEX($T$5:$AJ$1204,MATCH(19,$S$5:$S$1204,0),3))} | D23: {=IF(19>$S$1204,"",INDEX($T$5:$AJ$1204,MATCH(19,$S$5:$S$1204,0),4))} | E23: {=IF(19>$S$1204,"",INDEX($T$5:$AJ$1204,MATCH(19,$S$5:$S$1204,0),5))} | F23: {=IF(19>$S$1204,"",INDEX($T$5:$AJ$1204,MATCH(19,$S$5:$S$1204,0),6))} | G23: {=IF(19>$S$1204,"",INDEX($T$5:$AJ$1204,MATCH(19,$S$5:$S$1204,0),7))} | H23: {=IF(19>$S$1204,"",INDEX($T$5:$AJ$1204,MATCH(19,$S$5:$S$1204,0),8))} | I23: {=IF(19>$S$1204,"",INDEX($T$5:$AJ$1204,MATCH(19,$S$5:$S$1204,0),9))} | J23: {=IF(19>$S$1204,"",INDEX($T$5:$AJ$1204,MATCH(19,$S$5:$S$1204,0),10))} | K23: {=IF(19>$S$1204,"",INDEX($T$5:$AJ$1204,MATCH(19,$S$5:$S$1204,0),11))} | L23: {=IF(19>$S$1204,"",INDEX($T$5:$AJ$1204,MATCH(19,$S$5:$S$1204,0),12))} | M23: {=IF(19>$S$1204,"",INDEX($T$5:$AJ$1204,MATCH(19,$S$5:$S$1204,0),13))} | N23: {=IF(19>$S$1204,"",INDEX($T$5:$AJ$1204,MATCH(19,$S$5:$S$1204,0),14))} | O23: {=IF(19>$S$1204,"",INDEX($T$5:$AJ$1204,MATCH(19,$S$5:$S$1204,0),15))} | P23: {=IF(19>$S$1204,"",INDEX($T$5:$AJ$1204,MATCH(19,$S$5:$S$1204,0),16))} | Q23: {=IF(19>$S$1204,"",INDEX($T$5:$AJ$1204,MATCH(19,$S$5:$S$1204,0),17))} | S23: =S22+IF(M1_Administrativo!A27="",0,1) -> 0 | T23: =IF(M1_Administrativo!A27="","",IF(M1_Administrativo!A27="","",M1_Administrativo!A27)) | U23: =IF(M1_Administrativo!A27="","",IF(M1_Administrativo!R27="","",M1_Administrativo!R27)) | V23: =IF(M1_Administrativo!A27="","",IF(M1_Administrativo!D27="","",M1_Administrativo!D27)) | W23: =IF(M1_Administrativo!A27="","",IF(M1_Administrativo!B27="","",M1_Administrativo!B27)) | X23: =IF(M1_Administrativo!A27="","",IF(M1_Administrativo!C27="","",M1_Administrativo!C27)) | Y23: =IF(M1_Administrativo!A27="","",IF(M1_Administrativo!E27="","",M1_Administrativo!E27)) | Z23: =IF(M1_Administrativo!A27="","",IF(M1_Administrativo!F27="","",M1_Administrativo!F27)) | AA23: =IF(M1_Administrativo!A27="","","M1 Administrativo") | AB23: =IF(M1_Administrativo!A27="","",IF(M1_Administrativo!G27="","",M1_Administrativo!G27)) | AC23: =IF(M1_Administrativo!A27="","",IF(M1_Administrativo!M27="","",M1_Administrativo!M27)) | AD23: =IF(M1_Administrativo!A27="","","RA") | AE23: =IF(M1_Administrativo!A27="","",IF(M1_Administrativo!O27="","",M1_Administrativo!O27)) | AF23: =IF(M1_Administrativo!A27="","",IF(M1_Administrativo!P27="","",M1_Administrativo!P27)) | AG23: =IF(M1_Administrativo!A27="","",IF(M1_Administrativo!Q27="","",M1_Administrativo!Q27)) | AH23: =IF(M1_Administrativo!A27="","","") | AI23: =IF(M1_Administrativo!A27="","","M1_Administrativo!27") | AJ23: =IF(M1_Administrativo!A27="","",IF(M1_Administrativo!M27="","Pendiente de resultado","Disponible"))
A24: {=IF(20>$S$1204,"",INDEX($T$5:$AJ$1204,MATCH(20,$S$5:$S$1204,0),1))} | B24: {=IF(20>$S$1204,"",INDEX($T$5:$AJ$1204,MATCH(20,$S$5:$S$1204,0),2))} | C24: {=IF(20>$S$1204,"",INDEX($T$5:$AJ$1204,MATCH(20,$S$5:$S$1204,0),3))} | D24: {=IF(20>$S$1204,"",INDEX($T$5:$AJ$1204,MATCH(20,$S$5:$S$1204,0),4))} | E24: {=IF(20>$S$1204,"",INDEX($T$5:$AJ$1204,MATCH(20,$S$5:$S$1204,0),5))} | F24: {=IF(20>$S$1204,"",INDEX($T$5:$AJ$1204,MATCH(20,$S$5:$S$1204,0),6))} | G24: {=IF(20>$S$1204,"",INDEX($T$5:$AJ$1204,MATCH(20,$S$5:$S$1204,0),7))} | H24: {=IF(20>$S$1204,"",INDEX($T$5:$AJ$1204,MATCH(20,$S$5:$S$1204,0),8))} | I24: {=IF(20>$S$1204,"",INDEX($T$5:$AJ$1204,MATCH(20,$S$5:$S$1204,0),9))} | J24: {=IF(20>$S$1204,"",INDEX($T$5:$AJ$1204,MATCH(20,$S$5:$S$1204,0),10))} | K24: {=IF(20>$S$1204,"",INDEX($T$5:$AJ$1204,MATCH(20,$S$5:$S$1204,0),11))} | L24: {=IF(20>$S$1204,"",INDEX($T$5:$AJ$1204,MATCH(20,$S$5:$S$1204,0),12))} | M24: {=IF(20>$S$1204,"",INDEX($T$5:$AJ$1204,MATCH(20,$S$5:$S$1204,0),13))} | N24: {=IF(20>$S$1204,"",INDEX($T$5:$AJ$1204,MATCH(20,$S$5:$S$1204,0),14))} | O24: {=IF(20>$S$1204,"",INDEX($T$5:$AJ$1204,MATCH(20,$S$5:$S$1204,0),15))} | P24: {=IF(20>$S$1204,"",INDEX($T$5:$AJ$1204,MATCH(20,$S$5:$S$1204,0),16))} | Q24: {=IF(20>$S$1204,"",INDEX($T$5:$AJ$1204,MATCH(20,$S$5:$S$1204,0),17))} | S24: =S23+IF(M1_Administrativo!A28="",0,1) -> 0 | T24: =IF(M1_Administrativo!A28="","",IF(M1_Administrativo!A28="","",M1_Administrativo!A28)) | U24: =IF(M1_Administrativo!A28="","",IF(M1_Administrativo!R28="","",M1_Administrativo!R28)) | V24: =IF(M1_Administrativo!A28="","",IF(M1_Administrativo!D28="","",M1_Administrativo!D28)) | W24: =IF(M1_Administrativo!A28="","",IF(M1_Administrativo!B28="","",M1_Administrativo!B28)) | X24: =IF(M1_Administrativo!A28="","",IF(M1_Administrativo!C28="","",M1_Administrativo!C28)) | Y24: =IF(M1_Administrativo!A28="","",IF(M1_Administrativo!E28="","",M1_Administrativo!E28)) | Z24: =IF(M1_Administrativo!A28="","",IF(M1_Administrativo!F28="","",M1_Administrativo!F28)) | AA24: =IF(M1_Administrativo!A28="","","M1 Administrativo") | AB24: =IF(M1_Administrativo!A28="","",IF(M1_Administrativo!G28="","",M1_Administrativo!G28)) | AC24: =IF(M1_Administrativo!A28="","",IF(M1_Administrativo!M28="","",M1_Administrativo!M28)) | AD24: =IF(M1_Administrativo!A28="","","RA") | AE24: =IF(M1_Administrativo!A28="","",IF(M1_Administrativo!O28="","",M1_Administrativo!O28)) | AF24: =IF(M1_Administrativo!A28="","",IF(M1_Administrativo!P28="","",M1_Administrativo!P28)) | AG24: =IF(M1_Administrativo!A28="","",IF(M1_Administrativo!Q28="","",M1_Administrativo!Q28)) | AH24: =IF(M1_Administrativo!A28="","","") | AI24: =IF(M1_Administrativo!A28="","","M1_Administrativo!28") | AJ24: =IF(M1_Administrativo!A28="","",IF(M1_Administrativo!M28="","Pendiente de resultado","Disponible"))
A25: {=IF(21>$S$1204,"",INDEX($T$5:$AJ$1204,MATCH(21,$S$5:$S$1204,0),1))} | B25: {=IF(21>$S$1204,"",INDEX($T$5:$AJ$1204,MATCH(21,$S$5:$S$1204,0),2))} | C25: {=IF(21>$S$1204,"",INDEX($T$5:$AJ$1204,MATCH(21,$S$5:$S$1204,0),3))} | D25: {=IF(21>$S$1204,"",INDEX($T$5:$AJ$1204,MATCH(21,$S$5:$S$1204,0),4))} | E25: {=IF(21>$S$1204,"",INDEX($T$5:$AJ$1204,MATCH(21,$S$5:$S$1204,0),5))} | F25: {=IF(21>$S$1204,"",INDEX($T$5:$AJ$1204,MATCH(21,$S$5:$S$1204,0),6))} | G25: {=IF(21>$S$1204,"",INDEX($T$5:$AJ$1204,MATCH(21,$S$5:$S$1204,0),7))} | H25: {=IF(21>$S$1204,"",INDEX($T$5:$AJ$1204,MATCH(21,$S$5:$S$1204,0),8))} | I25: {=IF(21>$S$1204,"",INDEX($T$5:$AJ$1204,MATCH(21,$S$5:$S$1204,0),9))} | J25: {=IF(21>$S$1204,"",INDEX($T$5:$AJ$1204,MATCH(21,$S$5:$S$1204,0),10))} | K25: {=IF(21>$S$1204,"",INDEX($T$5:$AJ$1204,MATCH(21,$S$5:$S$1204,0),11))} | L25: {=IF(21>$S$1204,"",INDEX($T$5:$AJ$1204,MATCH(21,$S$5:$S$1204,0),12))} | M25: {=IF(21>$S$1204,"",INDEX($T$5:$AJ$1204,MATCH(21,$S$5:$S$1204,0),13))} | N25: {=IF(21>$S$1204,"",INDEX($T$5:$AJ$1204,MATCH(21,$S$5:$S$1204,0),14))} | O25: {=IF(21>$S$1204,"",INDEX($T$5:$AJ$1204,MATCH(21,$S$5:$S$1204,0),15))} | P25: {=IF(21>$S$1204,"",INDEX($T$5:$AJ$1204,MATCH(21,$S$5:$S$1204,0),16))} | Q25: {=IF(21>$S$1204,"",INDEX($T$5:$AJ$1204,MATCH(21,$S$5:$S$1204,0),17))} | S25: =S24+IF(M1_Administrativo!A29="",0,1) -> 0 | T25: =IF(M1_Administrativo!A29="","",IF(M1_Administrativo!A29="","",M1_Administrativo!A29)) | U25: =IF(M1_Administrativo!A29="","",IF(M1_Administrativo!R29="","",M1_Administrativo!R29)) | V25: =IF(M1_Administrativo!A29="","",IF(M1_Administrativo!D29="","",M1_Administrativo!D29)) | W25: =IF(M1_Administrativo!A29="","",IF(M1_Administrativo!B29="","",M1_Administrativo!B29)) | X25: =IF(M1_Administrativo!A29="","",IF(M1_Administrativo!C29="","",M1_Administrativo!C29)) | Y25: =IF(M1_Administrativo!A29="","",IF(M1_Administrativo!E29="","",M1_Administrativo!E29)) | Z25: =IF(M1_Administrativo!A29="","",IF(M1_Administrativo!F29="","",M1_Administrativo!F29)) | AA25: =IF(M1_Administrativo!A29="","","M1 Administrativo") | AB25: =IF(M1_Administrativo!A29="","",IF(M1_Administrativo!G29="","",M1_Administrativo!G29)) | AC25: =IF(M1_Administrativo!A29="","",IF(M1_Administrativo!M29="","",M1_Administrativo!M29)) | AD25: =IF(M1_Administrativo!A29="","","RA") | AE25: =IF(M1_Administrativo!A29="","",IF(M1_Administrativo!O29="","",M1_Administrativo!O29)) | AF25: =IF(M1_Administrativo!A29="","",IF(M1_Administrativo!P29="","",M1_Administrativo!P29)) | AG25: =IF(M1_Administrativo!A29="","",IF(M1_Administrativo!Q29="","",M1_Administrativo!Q29)) | AH25: =IF(M1_Administrativo!A29="","","") | AI25: =IF(M1_Administrativo!A29="","","M1_Administrativo!29") | AJ25: =IF(M1_Administrativo!A29="","",IF(M1_Administrativo!M29="","Pendiente de resultado","Disponible"))
A26: {=IF(22>$S$1204,"",INDEX($T$5:$AJ$1204,MATCH(22,$S$5:$S$1204,0),1))} | B26: {=IF(22>$S$1204,"",INDEX($T$5:$AJ$1204,MATCH(22,$S$5:$S$1204,0),2))} | C26: {=IF(22>$S$1204,"",INDEX($T$5:$AJ$1204,MATCH(22,$S$5:$S$1204,0),3))} | D26: {=IF(22>$S$1204,"",INDEX($T$5:$AJ$1204,MATCH(22,$S$5:$S$1204,0),4))} | E26: {=IF(22>$S$1204,"",INDEX($T$5:$AJ$1204,MATCH(22,$S$5:$S$1204,0),5))} | F26: {=IF(22>$S$1204,"",INDEX($T$5:$AJ$1204,MATCH(22,$S$5:$S$1204,0),6))} | G26: {=IF(22>$S$1204,"",INDEX($T$5:$AJ$1204,MATCH(22,$S$5:$S$1204,0),7))} | H26: {=IF(22>$S$1204,"",INDEX($T$5:$AJ$1204,MATCH(22,$S$5:$S$1204,0),8))} | I26: {=IF(22>$S$1204,"",INDEX($T$5:$AJ$1204,MATCH(22,$S$5:$S$1204,0),9))} | J26: {=IF(22>$S$1204,"",INDEX($T$5:$AJ$1204,MATCH(22,$S$5:$S$1204,0),10))} | K26: {=IF(22>$S$1204,"",INDEX($T$5:$AJ$1204,MATCH(22,$S$5:$S$1204,0),11))} | L26: {=IF(22>$S$1204,"",INDEX($T$5:$AJ$1204,MATCH(22,$S$5:$S$1204,0),12))} | M26: {=IF(22>$S$1204,"",INDEX($T$5:$AJ$1204,MATCH(22,$S$5:$S$1204,0),13))} | N26: {=IF(22>$S$1204,"",INDEX($T$5:$AJ$1204,MATCH(22,$S$5:$S$1204,0),14))} | O26: {=IF(22>$S$1204,"",INDEX($T$5:$AJ$1204,MATCH(22,$S$5:$S$1204,0),15))} | P26: {=IF(22>$S$1204,"",INDEX($T$5:$AJ$1204,MATCH(22,$S$5:$S$1204,0),16))} | Q26: {=IF(22>$S$1204,"",INDEX($T$5:$AJ$1204,MATCH(22,$S$5:$S$1204,0),17))} | S26: =S25+IF(M1_Administrativo!A30="",0,1) -> 0 | T26: =IF(M1_Administrativo!A30="","",IF(M1_Administrativo!A30="","",M1_Administrativo!A30)) | U26: =IF(M1_Administrativo!A30="","",IF(M1_Administrativo!R30="","",M1_Administrativo!R30)) | V26: =IF(M1_Administrativo!A30="","",IF(M1_Administrativo!D30="","",M1_Administrativo!D30)) | W26: =IF(M1_Administrativo!A30="","",IF(M1_Administrativo!B30="","",M1_Administrativo!B30)) | X26: =IF(M1_Administrativo!A30="","",IF(M1_Administrativo!C30="","",M1_Administrativo!C30)) | Y26: =IF(M1_Administrativo!A30="","",IF(M1_Administrativo!E30="","",M1_Administrativo!E30)) | Z26: =IF(M1_Administrativo!A30="","",IF(M1_Administrativo!F30="","",M1_Administrativo!F30)) | AA26: =IF(M1_Administrativo!A30="","","M1 Administrativo") | AB26: =IF(M1_Administrativo!A30="","",IF(M1_Administrativo!G30="","",M1_Administrativo!G30)) | AC26: =IF(M1_Administrativo!A30="","",IF(M1_Administrativo!M30="","",M1_Administrativo!M30)) | AD26: =IF(M1_Administrativo!A30="","","RA") | AE26: =IF(M1_Administrativo!A30="","",IF(M1_Administrativo!O30="","",M1_Administrativo!O30)) | AF26: =IF(M1_Administrativo!A30="","",IF(M1_Administrativo!P30="","",M1_Administrativo!P30)) | AG26: =IF(M1_Administrativo!A30="","",IF(M1_Administrativo!Q30="","",M1_Administrativo!Q30)) | AH26: =IF(M1_Administrativo!A30="","","") | AI26: =IF(M1_Administrativo!A30="","","M1_Administrativo!30") | AJ26: =IF(M1_Administrativo!A30="","",IF(M1_Administrativo!M30="","Pendiente de resultado","Disponible"))
A27: {=IF(23>$S$1204,"",INDEX($T$5:$AJ$1204,MATCH(23,$S$5:$S$1204,0),1))} | B27: {=IF(23>$S$1204,"",INDEX($T$5:$AJ$1204,MATCH(23,$S$5:$S$1204,0),2))} | C27: {=IF(23>$S$1204,"",INDEX($T$5:$AJ$1204,MATCH(23,$S$5:$S$1204,0),3))} | D27: {=IF(23>$S$1204,"",INDEX($T$5:$AJ$1204,MATCH(23,$S$5:$S$1204,0),4))} | E27: {=IF(23>$S$1204,"",INDEX($T$5:$AJ$1204,MATCH(23,$S$5:$S$1204,0),5))} | F27: {=IF(23>$S$1204,"",INDEX($T$5:$AJ$1204,MATCH(23,$S$5:$S$1204,0),6))} | G27: {=IF(23>$S$1204,"",INDEX($T$5:$AJ$1204,MATCH(23,$S$5:$S$1204,0),7))} | H27: {=IF(23>$S$1204,"",INDEX($T$5:$AJ$1204,MATCH(23,$S$5:$S$1204,0),8))} | I27: {=IF(23>$S$1204,"",INDEX($T$5:$AJ$1204,MATCH(23,$S$5:$S$1204,0),9))} | J27: {=IF(23>$S$1204,"",INDEX($T$5:$AJ$1204,MATCH(23,$S$5:$S$1204,0),10))} | K27: {=IF(23>$S$1204,"",INDEX($T$5:$AJ$1204,MATCH(23,$S$5:$S$1204,0),11))} | L27: {=IF(23>$S$1204,"",INDEX($T$5:$AJ$1204,MATCH(23,$S$5:$S$1204,0),12))} | M27: {=IF(23>$S$1204,"",INDEX($T$5:$AJ$1204,MATCH(23,$S$5:$S$1204,0),13))} | N27: {=IF(23>$S$1204,"",INDEX($T$5:$AJ$1204,MATCH(23,$S$5:$S$1204,0),14))} | O27: {=IF(23>$S$1204,"",INDEX($T$5:$AJ$1204,MATCH(23,$S$5:$S$1204,0),15))} | P27: {=IF(23>$S$1204,"",INDEX($T$5:$AJ$1204,MATCH(23,$S$5:$S$1204,0),16))} | Q27: {=IF(23>$S$1204,"",INDEX($T$5:$AJ$1204,MATCH(23,$S$5:$S$1204,0),17))} | S27: =S26+IF(M1_Administrativo!A31="",0,1) -> 0 | T27: =IF(M1_Administrativo!A31="","",IF(M1_Administrativo!A31="","",M1_Administrativo!A31)) | U27: =IF(M1_Administrativo!A31="","",IF(M1_Administrativo!R31="","",M1_Administrativo!R31)) | V27: =IF(M1_Administrativo!A31="","",IF(M1_Administrativo!D31="","",M1_Administrativo!D31)) | W27: =IF(M1_Administrativo!A31="","",IF(M1_Administrativo!B31="","",M1_Administrativo!B31)) | X27: =IF(M1_Administrativo!A31="","",IF(M1_Administrativo!C31="","",M1_Administrativo!C31)) | Y27: =IF(M1_Administrativo!A31="","",IF(M1_Administrativo!E31="","",M1_Administrativo!E31)) | Z27: =IF(M1_Administrativo!A31="","",IF(M1_Administrativo!F31="","",M1_Administrativo!F31)) | AA27: =IF(M1_Administrativo!A31="","","M1 Administrativo") | AB27: =IF(M1_Administrativo!A31="","",IF(M1_Administrativo!G31="","",M1_Administrativo!G31)) | AC27: =IF(M1_Administrativo!A31="","",IF(M1_Administrativo!M31="","",M1_Administrativo!M31)) | AD27: =IF(M1_Administrativo!A31="","","RA") | AE27: =IF(M1_Administrativo!A31="","",IF(M1_Administrativo!O31="","",M1_Administrativo!O31)) | AF27: =IF(M1_Administrativo!A31="","",IF(M1_Administrativo!P31="","",M1_Administrativo!P31)) | AG27: =IF(M1_Administrativo!A31="","",IF(M1_Administrativo!Q31="","",M1_Administrativo!Q31)) | AH27: =IF(M1_Administrativo!A31="","","") | AI27: =IF(M1_Administrativo!A31="","","M1_Administrativo!31") | AJ27: =IF(M1_Administrativo!A31="","",IF(M1_Administrativo!M31="","Pendiente de resultado","Disponible"))
A28: {=IF(24>$S$1204,"",INDEX($T$5:$AJ$1204,MATCH(24,$S$5:$S$1204,0),1))} | B28: {=IF(24>$S$1204,"",INDEX($T$5:$AJ$1204,MATCH(24,$S$5:$S$1204,0),2))} | C28: {=IF(24>$S$1204,"",INDEX($T$5:$AJ$1204,MATCH(24,$S$5:$S$1204,0),3))} | D28: {=IF(24>$S$1204,"",INDEX($T$5:$AJ$1204,MATCH(24,$S$5:$S$1204,0),4))} | E28: {=IF(24>$S$1204,"",INDEX($T$5:$AJ$1204,MATCH(24,$S$5:$S$1204,0),5))} | F28: {=IF(24>$S$1204,"",INDEX($T$5:$AJ$1204,MATCH(24,$S$5:$S$1204,0),6))} | G28: {=IF(24>$S$1204,"",INDEX($T$5:$AJ$1204,MATCH(24,$S$5:$S$1204,0),7))} | H28: {=IF(24>$S$1204,"",INDEX($T$5:$AJ$1204,MATCH(24,$S$5:$S$1204,0),8))} | I28: {=IF(24>$S$1204,"",INDEX($T$5:$AJ$1204,MATCH(24,$S$5:$S$1204,0),9))} | J28: {=IF(24>$S$1204,"",INDEX($T$5:$AJ$1204,MATCH(24,$S$5:$S$1204,0),10))} | K28: {=IF(24>$S$1204,"",INDEX($T$5:$AJ$1204,MATCH(24,$S$5:$S$1204,0),11))} | L28: {=IF(24>$S$1204,"",INDEX($T$5:$AJ$1204,MATCH(24,$S$5:$S$1204,0),12))} | M28: {=IF(24>$S$1204,"",INDEX($T$5:$AJ$1204,MATCH(24,$S$5:$S$1204,0),13))} | N28: {=IF(24>$S$1204,"",INDEX($T$5:$AJ$1204,MATCH(24,$S$5:$S$1204,0),14))} | O28: {=IF(24>$S$1204,"",INDEX($T$5:$AJ$1204,MATCH(24,$S$5:$S$1204,0),15))} | P28: {=IF(24>$S$1204,"",INDEX($T$5:$AJ$1204,MATCH(24,$S$5:$S$1204,0),16))} | Q28: {=IF(24>$S$1204,"",INDEX($T$5:$AJ$1204,MATCH(24,$S$5:$S$1204,0),17))} | S28: =S27+IF(M1_Administrativo!A32="",0,1) -> 0 | T28: =IF(M1_Administrativo!A32="","",IF(M1_Administrativo!A32="","",M1_Administrativo!A32)) | U28: =IF(M1_Administrativo!A32="","",IF(M1_Administrativo!R32="","",M1_Administrativo!R32)) | V28: =IF(M1_Administrativo!A32="","",IF(M1_Administrativo!D32="","",M1_Administrativo!D32)) | W28: =IF(M1_Administrativo!A32="","",IF(M1_Administrativo!B32="","",M1_Administrativo!B32)) | X28: =IF(M1_Administrativo!A32="","",IF(M1_Administrativo!C32="","",M1_Administrativo!C32)) | Y28: =IF(M1_Administrativo!A32="","",IF(M1_Administrativo!E32="","",M1_Administrativo!E32)) | Z28: =IF(M1_Administrativo!A32="","",IF(M1_Administrativo!F32="","",M1_Administrativo!F32)) | AA28: =IF(M1_Administrativo!A32="","","M1 Administrativo") | AB28: =IF(M1_Administrativo!A32="","",IF(M1_Administrativo!G32="","",M1_Administrativo!G32)) | AC28: =IF(M1_Administrativo!A32="","",IF(M1_Administrativo!M32="","",M1_Administrativo!M32)) | AD28: =IF(M1_Administrativo!A32="","","RA") | AE28: =IF(M1_Administrativo!A32="","",IF(M1_Administrativo!O32="","",M1_Administrativo!O32)) | AF28: =IF(M1_Administrativo!A32="","",IF(M1_Administrativo!P32="","",M1_Administrativo!P32)) | AG28: =IF(M1_Administrativo!A32="","",IF(M1_Administrativo!Q32="","",M1_Administrativo!Q32)) | AH28: =IF(M1_Administrativo!A32="","","") | AI28: =IF(M1_Administrativo!A32="","","M1_Administrativo!32") | AJ28: =IF(M1_Administrativo!A32="","",IF(M1_Administrativo!M32="","Pendiente de resultado","Disponible"))
A29: {=IF(25>$S$1204,"",INDEX($T$5:$AJ$1204,MATCH(25,$S$5:$S$1204,0),1))} | B29: {=IF(25>$S$1204,"",INDEX($T$5:$AJ$1204,MATCH(25,$S$5:$S$1204,0),2))} | C29: {=IF(25>$S$1204,"",INDEX($T$5:$AJ$1204,MATCH(25,$S$5:$S$1204,0),3))} | D29: {=IF(25>$S$1204,"",INDEX($T$5:$AJ$1204,MATCH(25,$S$5:$S$1204,0),4))} | E29: {=IF(25>$S$1204,"",INDEX($T$5:$AJ$1204,MATCH(25,$S$5:$S$1204,0),5))} | F29: {=IF(25>$S$1204,"",INDEX($T$5:$AJ$1204,MATCH(25,$S$5:$S$1204,0),6))} | G29: {=IF(25>$S$1204,"",INDEX($T$5:$AJ$1204,MATCH(25,$S$5:$S$1204,0),7))} | H29: {=IF(25>$S$1204,"",INDEX($T$5:$AJ$1204,MATCH(25,$S$5:$S$1204,0),8))} | I29: {=IF(25>$S$1204,"",INDEX($T$5:$AJ$1204,MATCH(25,$S$5:$S$1204,0),9))} | J29: {=IF(25>$S$1204,"",INDEX($T$5:$AJ$1204,MATCH(25,$S$5:$S$1204,0),10))} | K29: {=IF(25>$S$1204,"",INDEX($T$5:$AJ$1204,MATCH(25,$S$5:$S$1204,0),11))} | L29: {=IF(25>$S$1204,"",INDEX($T$5:$AJ$1204,MATCH(25,$S$5:$S$1204,0),12))} | M29: {=IF(25>$S$1204,"",INDEX($T$5:$AJ$1204,MATCH(25,$S$5:$S$1204,0),13))} | N29: {=IF(25>$S$1204,"",INDEX($T$5:$AJ$1204,MATCH(25,$S$5:$S$1204,0),14))} | O29: {=IF(25>$S$1204,"",INDEX($T$5:$AJ$1204,MATCH(25,$S$5:$S$1204,0),15))} | P29: {=IF(25>$S$1204,"",INDEX($T$5:$AJ$1204,MATCH(25,$S$5:$S$1204,0),16))} | Q29: {=IF(25>$S$1204,"",INDEX($T$5:$AJ$1204,MATCH(25,$S$5:$S$1204,0),17))} | S29: =S28+IF(M1_Administrativo!A33="",0,1) -> 0 | T29: =IF(M1_Administrativo!A33="","",IF(M1_Administrativo!A33="","",M1_Administrativo!A33)) | U29: =IF(M1_Administrativo!A33="","",IF(M1_Administrativo!R33="","",M1_Administrativo!R33)) | V29: =IF(M1_Administrativo!A33="","",IF(M1_Administrativo!D33="","",M1_Administrativo!D33)) | W29: =IF(M1_Administrativo!A33="","",IF(M1_Administrativo!B33="","",M1_Administrativo!B33)) | X29: =IF(M1_Administrativo!A33="","",IF(M1_Administrativo!C33="","",M1_Administrativo!C33)) | Y29: =IF(M1_Administrativo!A33="","",IF(M1_Administrativo!E33="","",M1_Administrativo!E33)) | Z29: =IF(M1_Administrativo!A33="","",IF(M1_Administrativo!F33="","",M1_Administrativo!F33)) | AA29: =IF(M1_Administrativo!A33="","","M1 Administrativo") | AB29: =IF(M1_Administrativo!A33="","",IF(M1_Administrativo!G33="","",M1_Administrativo!G33)) | AC29: =IF(M1_Administrativo!A33="","",IF(M1_Administrativo!M33="","",M1_Administrativo!M33)) | AD29: =IF(M1_Administrativo!A33="","","RA") | AE29: =IF(M1_Administrativo!A33="","",IF(M1_Administrativo!O33="","",M1_Administrativo!O33)) | AF29: =IF(M1_Administrativo!A33="","",IF(M1_Administrativo!P33="","",M1_Administrativo!P33)) | AG29: =IF(M1_Administrativo!A33="","",IF(M1_Administrativo!Q33="","",M1_Administrativo!Q33)) | AH29: =IF(M1_Administrativo!A33="","","") | AI29: =IF(M1_Administrativo!A33="","","M1_Administrativo!33") | AJ29: =IF(M1_Administrativo!A33="","",IF(M1_Administrativo!M33="","Pendiente de resultado","Disponible"))
A30: {=IF(26>$S$1204,"",INDEX($T$5:$AJ$1204,MATCH(26,$S$5:$S$1204,0),1))} | B30: {=IF(26>$S$1204,"",INDEX($T$5:$AJ$1204,MATCH(26,$S$5:$S$1204,0),2))} | C30: {=IF(26>$S$1204,"",INDEX($T$5:$AJ$1204,MATCH(26,$S$5:$S$1204,0),3))} | D30: {=IF(26>$S$1204,"",INDEX($T$5:$AJ$1204,MATCH(26,$S$5:$S$1204,0),4))} | E30: {=IF(26>$S$1204,"",INDEX($T$5:$AJ$1204,MATCH(26,$S$5:$S$1204,0),5))} | F30: {=IF(26>$S$1204,"",INDEX($T$5:$AJ$1204,MATCH(26,$S$5:$S$1204,0),6))} | G30: {=IF(26>$S$1204,"",INDEX($T$5:$AJ$1204,MATCH(26,$S$5:$S$1204,0),7))} | H30: {=IF(26>$S$1204,"",INDEX($T$5:$AJ$1204,MATCH(26,$S$5:$S$1204,0),8))} | I30: {=IF(26>$S$1204,"",INDEX($T$5:$AJ$1204,MATCH(26,$S$5:$S$1204,0),9))} | J30: {=IF(26>$S$1204,"",INDEX($T$5:$AJ$1204,MATCH(26,$S$5:$S$1204,0),10))} | K30: {=IF(26>$S$1204,"",INDEX($T$5:$AJ$1204,MATCH(26,$S$5:$S$1204,0),11))} | L30: {=IF(26>$S$1204,"",INDEX($T$5:$AJ$1204,MATCH(26,$S$5:$S$1204,0),12))} | M30: {=IF(26>$S$1204,"",INDEX($T$5:$AJ$1204,MATCH(26,$S$5:$S$1204,0),13))} | N30: {=IF(26>$S$1204,"",INDEX($T$5:$AJ$1204,MATCH(26,$S$5:$S$1204,0),14))} | O30: {=IF(26>$S$1204,"",INDEX($T$5:$AJ$1204,MATCH(26,$S$5:$S$1204,0),15))} | P30: {=IF(26>$S$1204,"",INDEX($T$5:$AJ$1204,MATCH(26,$S$5:$S$1204,0),16))} | Q30: {=IF(26>$S$1204,"",INDEX($T$5:$AJ$1204,MATCH(26,$S$5:$S$1204,0),17))} | S30: =S29+IF(M1_Administrativo!A34="",0,1) -> 0 | T30: =IF(M1_Administrativo!A34="","",IF(M1_Administrativo!A34="","",M1_Administrativo!A34)) | U30: =IF(M1_Administrativo!A34="","",IF(M1_Administrativo!R34="","",M1_Administrativo!R34)) | V30: =IF(M1_Administrativo!A34="","",IF(M1_Administrativo!D34="","",M1_Administrativo!D34)) | W30: =IF(M1_Administrativo!A34="","",IF(M1_Administrativo!B34="","",M1_Administrativo!B34)) | X30: =IF(M1_Administrativo!A34="","",IF(M1_Administrativo!C34="","",M1_Administrativo!C34)) | Y30: =IF(M1_Administrativo!A34="","",IF(M1_Administrativo!E34="","",M1_Administrativo!E34)) | Z30: =IF(M1_Administrativo!A34="","",IF(M1_Administrativo!F34="","",M1_Administrativo!F34)) | AA30: =IF(M1_Administrativo!A34="","","M1 Administrativo") | AB30: =IF(M1_Administrativo!A34="","",IF(M1_Administrativo!G34="","",M1_Administrativo!G34)) | AC30: =IF(M1_Administrativo!A34="","",IF(M1_Administrativo!M34="","",M1_Administrativo!M34)) | AD30: =IF(M1_Administrativo!A34="","","RA") | AE30: =IF(M1_Administrativo!A34="","",IF(M1_Administrativo!O34="","",M1_Administrativo!O34)) | AF30: =IF(M1_Administrativo!A34="","",IF(M1_Administrativo!P34="","",M1_Administrativo!P34)) | AG30: =IF(M1_Administrativo!A34="","",IF(M1_Administrativo!Q34="","",M1_Administrativo!Q34)) | AH30: =IF(M1_Administrativo!A34="","","") | AI30: =IF(M1_Administrativo!A34="","","M1_Administrativo!34") | AJ30: =IF(M1_Administrativo!A34="","",IF(M1_Administrativo!M34="","Pendiente de resultado","Disponible"))
A31: {=IF(27>$S$1204,"",INDEX($T$5:$AJ$1204,MATCH(27,$S$5:$S$1204,0),1))} | B31: {=IF(27>$S$1204,"",INDEX($T$5:$AJ$1204,MATCH(27,$S$5:$S$1204,0),2))} | C31: {=IF(27>$S$1204,"",INDEX($T$5:$AJ$1204,MATCH(27,$S$5:$S$1204,0),3))} | D31: {=IF(27>$S$1204,"",INDEX($T$5:$AJ$1204,MATCH(27,$S$5:$S$1204,0),4))} | E31: {=IF(27>$S$1204,"",INDEX($T$5:$AJ$1204,MATCH(27,$S$5:$S$1204,0),5))} | F31: {=IF(27>$S$1204,"",INDEX($T$5:$AJ$1204,MATCH(27,$S$5:$S$1204,0),6))} | G31: {=IF(27>$S$1204,"",INDEX($T$5:$AJ$1204,MATCH(27,$S$5:$S$1204,0),7))} | H31: {=IF(27>$S$1204,"",INDEX($T$5:$AJ$1204,MATCH(27,$S$5:$S$1204,0),8))} | I31: {=IF(27>$S$1204,"",INDEX($T$5:$AJ$1204,MATCH(27,$S$5:$S$1204,0),9))} | J31: {=IF(27>$S$1204,"",INDEX($T$5:$AJ$1204,MATCH(27,$S$5:$S$1204,0),10))} | K31: {=IF(27>$S$1204,"",INDEX($T$5:$AJ$1204,MATCH(27,$S$5:$S$1204,0),11))} | L31: {=IF(27>$S$1204,"",INDEX($T$5:$AJ$1204,MATCH(27,$S$5:$S$1204,0),12))} | M31: {=IF(27>$S$1204,"",INDEX($T$5:$AJ$1204,MATCH(27,$S$5:$S$1204,0),13))} | N31: {=IF(27>$S$1204,"",INDEX($T$5:$AJ$1204,MATCH(27,$S$5:$S$1204,0),14))} | O31: {=IF(27>$S$1204,"",INDEX($T$5:$AJ$1204,MATCH(27,$S$5:$S$1204,0),15))} | P31: {=IF(27>$S$1204,"",INDEX($T$5:$AJ$1204,MATCH(27,$S$5:$S$1204,0),16))} | Q31: {=IF(27>$S$1204,"",INDEX($T$5:$AJ$1204,MATCH(27,$S$5:$S$1204,0),17))} | S31: =S30+IF(M1_Administrativo!A35="",0,1) -> 0 | T31: =IF(M1_Administrativo!A35="","",IF(M1_Administrativo!A35="","",M1_Administrativo!A35)) | U31: =IF(M1_Administrativo!A35="","",IF(M1_Administrativo!R35="","",M1_Administrativo!R35)) | V31: =IF(M1_Administrativo!A35="","",IF(M1_Administrativo!D35="","",M1_Administrativo!D35)) | W31: =IF(M1_Administrativo!A35="","",IF(M1_Administrativo!B35="","",M1_Administrativo!B35)) | X31: =IF(M1_Administrativo!A35="","",IF(M1_Administrativo!C35="","",M1_Administrativo!C35)) | Y31: =IF(M1_Administrativo!A35="","",IF(M1_Administrativo!E35="","",M1_Administrativo!E35)) | Z31: =IF(M1_Administrativo!A35="","",IF(M1_Administrativo!F35="","",M1_Administrativo!F35)) | AA31: =IF(M1_Administrativo!A35="","","M1 Administrativo") | AB31: =IF(M1_Administrativo!A35="","",IF(M1_Administrativo!G35="","",M1_Administrativo!G35)) | AC31: =IF(M1_Administrativo!A35="","",IF(M1_Administrativo!M35="","",M1_Administrativo!M35)) | AD31: =IF(M1_Administrativo!A35="","","RA") | AE31: =IF(M1_Administrativo!A35="","",IF(M1_Administrativo!O35="","",M1_Administrativo!O35)) | AF31: =IF(M1_Administrativo!A35="","",IF(M1_Administrativo!P35="","",M1_Administrativo!P35)) | AG31: =IF(M1_Administrativo!A35="","",IF(M1_Administrativo!Q35="","",M1_Administrativo!Q35)) | AH31: =IF(M1_Administrativo!A35="","","") | AI31: =IF(M1_Administrativo!A35="","","M1_Administrativo!35") | AJ31: =IF(M1_Administrativo!A35="","",IF(M1_Administrativo!M35="","Pendiente de resultado","Disponible"))
A32: {=IF(28>$S$1204,"",INDEX($T$5:$AJ$1204,MATCH(28,$S$5:$S$1204,0),1))} | B32: {=IF(28>$S$1204,"",INDEX($T$5:$AJ$1204,MATCH(28,$S$5:$S$1204,0),2))} | C32: {=IF(28>$S$1204,"",INDEX($T$5:$AJ$1204,MATCH(28,$S$5:$S$1204,0),3))} | D32: {=IF(28>$S$1204,"",INDEX($T$5:$AJ$1204,MATCH(28,$S$5:$S$1204,0),4))} | E32: {=IF(28>$S$1204,"",INDEX($T$5:$AJ$1204,MATCH(28,$S$5:$S$1204,0),5))} | F32: {=IF(28>$S$1204,"",INDEX($T$5:$AJ$1204,MATCH(28,$S$5:$S$1204,0),6))} | G32: {=IF(28>$S$1204,"",INDEX($T$5:$AJ$1204,MATCH(28,$S$5:$S$1204,0),7))} | H32: {=IF(28>$S$1204,"",INDEX($T$5:$AJ$1204,MATCH(28,$S$5:$S$1204,0),8))} | I32: {=IF(28>$S$1204,"",INDEX($T$5:$AJ$1204,MATCH(28,$S$5:$S$1204,0),9))} | J32: {=IF(28>$S$1204,"",INDEX($T$5:$AJ$1204,MATCH(28,$S$5:$S$1204,0),10))} | K32: {=IF(28>$S$1204,"",INDEX($T$5:$AJ$1204,MATCH(28,$S$5:$S$1204,0),11))} | L32: {=IF(28>$S$1204,"",INDEX($T$5:$AJ$1204,MATCH(28,$S$5:$S$1204,0),12))} | M32: {=IF(28>$S$1204,"",INDEX($T$5:$AJ$1204,MATCH(28,$S$5:$S$1204,0),13))} | N32: {=IF(28>$S$1204,"",INDEX($T$5:$AJ$1204,MATCH(28,$S$5:$S$1204,0),14))} | O32: {=IF(28>$S$1204,"",INDEX($T$5:$AJ$1204,MATCH(28,$S$5:$S$1204,0),15))} | P32: {=IF(28>$S$1204,"",INDEX($T$5:$AJ$1204,MATCH(28,$S$5:$S$1204,0),16))} | Q32: {=IF(28>$S$1204,"",INDEX($T$5:$AJ$1204,MATCH(28,$S$5:$S$1204,0),17))} | S32: =S31+IF(M1_Administrativo!A36="",0,1) -> 0 | T32: =IF(M1_Administrativo!A36="","",IF(M1_Administrativo!A36="","",M1_Administrativo!A36)) | U32: =IF(M1_Administrativo!A36="","",IF(M1_Administrativo!R36="","",M1_Administrativo!R36)) | V32: =IF(M1_Administrativo!A36="","",IF(M1_Administrativo!D36="","",M1_Administrativo!D36)) | W32: =IF(M1_Administrativo!A36="","",IF(M1_Administrativo!B36="","",M1_Administrativo!B36)) | X32: =IF(M1_Administrativo!A36="","",IF(M1_Administrativo!C36="","",M1_Administrativo!C36)) | Y32: =IF(M1_Administrativo!A36="","",IF(M1_Administrativo!E36="","",M1_Administrativo!E36)) | Z32: =IF(M1_Administrativo!A36="","",IF(M1_Administrativo!F36="","",M1_Administrativo!F36)) | AA32: =IF(M1_Administrativo!A36="","","M1 Administrativo") | AB32: =IF(M1_Administrativo!A36="","",IF(M1_Administrativo!G36="","",M1_Administrativo!G36)) | AC32: =IF(M1_Administrativo!A36="","",IF(M1_Administrativo!M36="","",M1_Administrativo!M36)) | AD32: =IF(M1_Administrativo!A36="","","RA") | AE32: =IF(M1_Administrativo!A36="","",IF(M1_Administrativo!O36="","",M1_Administrativo!O36)) | AF32: =IF(M1_Administrativo!A36="","",IF(M1_Administrativo!P36="","",M1_Administrativo!P36)) | AG32: =IF(M1_Administrativo!A36="","",IF(M1_Administrativo!Q36="","",M1_Administrativo!Q36)) | AH32: =IF(M1_Administrativo!A36="","","") | AI32: =IF(M1_Administrativo!A36="","","M1_Administrativo!36") | AJ32: =IF(M1_Administrativo!A36="","",IF(M1_Administrativo!M36="","Pendiente de resultado","Disponible"))
A33: {=IF(29>$S$1204,"",INDEX($T$5:$AJ$1204,MATCH(29,$S$5:$S$1204,0),1))} | B33: {=IF(29>$S$1204,"",INDEX($T$5:$AJ$1204,MATCH(29,$S$5:$S$1204,0),2))} | C33: {=IF(29>$S$1204,"",INDEX($T$5:$AJ$1204,MATCH(29,$S$5:$S$1204,0),3))} | D33: {=IF(29>$S$1204,"",INDEX($T$5:$AJ$1204,MATCH(29,$S$5:$S$1204,0),4))} | E33: {=IF(29>$S$1204,"",INDEX($T$5:$AJ$1204,MATCH(29,$S$5:$S$1204,0),5))} | F33: {=IF(29>$S$1204,"",INDEX($T$5:$AJ$1204,MATCH(29,$S$5:$S$1204,0),6))} | G33: {=IF(29>$S$1204,"",INDEX($T$5:$AJ$1204,MATCH(29,$S$5:$S$1204,0),7))} | H33: {=IF(29>$S$1204,"",INDEX($T$5:$AJ$1204,MATCH(29,$S$5:$S$1204,0),8))} | I33: {=IF(29>$S$1204,"",INDEX($T$5:$AJ$1204,MATCH(29,$S$5:$S$1204,0),9))} | J33: {=IF(29>$S$1204,"",INDEX($T$5:$AJ$1204,MATCH(29,$S$5:$S$1204,0),10))} | K33: {=IF(29>$S$1204,"",INDEX($T$5:$AJ$1204,MATCH(29,$S$5:$S$1204,0),11))} | L33: {=IF(29>$S$1204,"",INDEX($T$5:$AJ$1204,MATCH(29,$S$5:$S$1204,0),12))} | M33: {=IF(29>$S$1204,"",INDEX($T$5:$AJ$1204,MATCH(29,$S$5:$S$1204,0),13))} | N33: {=IF(29>$S$1204,"",INDEX($T$5:$AJ$1204,MATCH(29,$S$5:$S$1204,0),14))} | O33: {=IF(29>$S$1204,"",INDEX($T$5:$AJ$1204,MATCH(29,$S$5:$S$1204,0),15))} | P33: {=IF(29>$S$1204,"",INDEX($T$5:$AJ$1204,MATCH(29,$S$5:$S$1204,0),16))} | Q33: {=IF(29>$S$1204,"",INDEX($T$5:$AJ$1204,MATCH(29,$S$5:$S$1204,0),17))} | S33: =S32+IF(M1_Administrativo!A37="",0,1) -> 0 | T33: =IF(M1_Administrativo!A37="","",IF(M1_Administrativo!A37="","",M1_Administrativo!A37)) | U33: =IF(M1_Administrativo!A37="","",IF(M1_Administrativo!R37="","",M1_Administrativo!R37)) | V33: =IF(M1_Administrativo!A37="","",IF(M1_Administrativo!D37="","",M1_Administrativo!D37)) | W33: =IF(M1_Administrativo!A37="","",IF(M1_Administrativo!B37="","",M1_Administrativo!B37)) | X33: =IF(M1_Administrativo!A37="","",IF(M1_Administrativo!C37="","",M1_Administrativo!C37)) | Y33: =IF(M1_Administrativo!A37="","",IF(M1_Administrativo!E37="","",M1_Administrativo!E37)) | Z33: =IF(M1_Administrativo!A37="","",IF(M1_Administrativo!F37="","",M1_Administrativo!F37)) | AA33: =IF(M1_Administrativo!A37="","","M1 Administrativo") | AB33: =IF(M1_Administrativo!A37="","",IF(M1_Administrativo!G37="","",M1_Administrativo!G37)) | AC33: =IF(M1_Administrativo!A37="","",IF(M1_Administrativo!M37="","",M1_Administrativo!M37)) | AD33: =IF(M1_Administrativo!A37="","","RA") | AE33: =IF(M1_Administrativo!A37="","",IF(M1_Administrativo!O37="","",M1_Administrativo!O37)) | AF33: =IF(M1_Administrativo!A37="","",IF(M1_Administrativo!P37="","",M1_Administrativo!P37)) | AG33: =IF(M1_Administrativo!A37="","",IF(M1_Administrativo!Q37="","",M1_Administrativo!Q37)) | AH33: =IF(M1_Administrativo!A37="","","") | AI33: =IF(M1_Administrativo!A37="","","M1_Administrativo!37") | AJ33: =IF(M1_Administrativo!A37="","",IF(M1_Administrativo!M37="","Pendiente de resultado","Disponible"))
A34: {=IF(30>$S$1204,"",INDEX($T$5:$AJ$1204,MATCH(30,$S$5:$S$1204,0),1))} | B34: {=IF(30>$S$1204,"",INDEX($T$5:$AJ$1204,MATCH(30,$S$5:$S$1204,0),2))} | C34: {=IF(30>$S$1204,"",INDEX($T$5:$AJ$1204,MATCH(30,$S$5:$S$1204,0),3))} | D34: {=IF(30>$S$1204,"",INDEX($T$5:$AJ$1204,MATCH(30,$S$5:$S$1204,0),4))} | E34: {=IF(30>$S$1204,"",INDEX($T$5:$AJ$1204,MATCH(30,$S$5:$S$1204,0),5))} | F34: {=IF(30>$S$1204,"",INDEX($T$5:$AJ$1204,MATCH(30,$S$5:$S$1204,0),6))} | G34: {=IF(30>$S$1204,"",INDEX($T$5:$AJ$1204,MATCH(30,$S$5:$S$1204,0),7))} | H34: {=IF(30>$S$1204,"",INDEX($T$5:$AJ$1204,MATCH(30,$S$5:$S$1204,0),8))} | I34: {=IF(30>$S$1204,"",INDEX($T$5:$AJ$1204,MATCH(30,$S$5:$S$1204,0),9))} | J34: {=IF(30>$S$1204,"",INDEX($T$5:$AJ$1204,MATCH(30,$S$5:$S$1204,0),10))} | K34: {=IF(30>$S$1204,"",INDEX($T$5:$AJ$1204,MATCH(30,$S$5:$S$1204,0),11))} | L34: {=IF(30>$S$1204,"",INDEX($T$5:$AJ$1204,MATCH(30,$S$5:$S$1204,0),12))} | M34: {=IF(30>$S$1204,"",INDEX($T$5:$AJ$1204,MATCH(30,$S$5:$S$1204,0),13))} | N34: {=IF(30>$S$1204,"",INDEX($T$5:$AJ$1204,MATCH(30,$S$5:$S$1204,0),14))} | O34: {=IF(30>$S$1204,"",INDEX($T$5:$AJ$1204,MATCH(30,$S$5:$S$1204,0),15))} | P34: {=IF(30>$S$1204,"",INDEX($T$5:$AJ$1204,MATCH(30,$S$5:$S$1204,0),16))} | Q34: {=IF(30>$S$1204,"",INDEX($T$5:$AJ$1204,MATCH(30,$S$5:$S$1204,0),17))} | S34: =S33+IF(M1_Administrativo!A38="",0,1) -> 0 | T34: =IF(M1_Administrativo!A38="","",IF(M1_Administrativo!A38="","",M1_Administrativo!A38)) | U34: =IF(M1_Administrativo!A38="","",IF(M1_Administrativo!R38="","",M1_Administrativo!R38)) | V34: =IF(M1_Administrativo!A38="","",IF(M1_Administrativo!D38="","",M1_Administrativo!D38)) | W34: =IF(M1_Administrativo!A38="","",IF(M1_Administrativo!B38="","",M1_Administrativo!B38)) | X34: =IF(M1_Administrativo!A38="","",IF(M1_Administrativo!C38="","",M1_Administrativo!C38)) | Y34: =IF(M1_Administrativo!A38="","",IF(M1_Administrativo!E38="","",M1_Administrativo!E38)) | Z34: =IF(M1_Administrativo!A38="","",IF(M1_Administrativo!F38="","",M1_Administrativo!F38)) | AA34: =IF(M1_Administrativo!A38="","","M1 Administrativo") | AB34: =IF(M1_Administrativo!A38="","",IF(M1_Administrativo!G38="","",M1_Administrativo!G38)) | AC34: =IF(M1_Administrativo!A38="","",IF(M1_Administrativo!M38="","",M1_Administrativo!M38)) | AD34: =IF(M1_Administrativo!A38="","","RA") | AE34: =IF(M1_Administrativo!A38="","",IF(M1_Administrativo!O38="","",M1_Administrativo!O38)) | AF34: =IF(M1_Administrativo!A38="","",IF(M1_Administrativo!P38="","",M1_Administrativo!P38)) | AG34: =IF(M1_Administrativo!A38="","",IF(M1_Administrativo!Q38="","",M1_Administrativo!Q38)) | AH34: =IF(M1_Administrativo!A38="","","") | AI34: =IF(M1_Administrativo!A38="","","M1_Administrativo!38") | AJ34: =IF(M1_Administrativo!A38="","",IF(M1_Administrativo!M38="","Pendiente de resultado","Disponible"))
A35: {=IF(31>$S$1204,"",INDEX($T$5:$AJ$1204,MATCH(31,$S$5:$S$1204,0),1))} | B35: {=IF(31>$S$1204,"",INDEX($T$5:$AJ$1204,MATCH(31,$S$5:$S$1204,0),2))} | C35: {=IF(31>$S$1204,"",INDEX($T$5:$AJ$1204,MATCH(31,$S$5:$S$1204,0),3))} | D35: {=IF(31>$S$1204,"",INDEX($T$5:$AJ$1204,MATCH(31,$S$5:$S$1204,0),4))} | E35: {=IF(31>$S$1204,"",INDEX($T$5:$AJ$1204,MATCH(31,$S$5:$S$1204,0),5))} | F35: {=IF(31>$S$1204,"",INDEX($T$5:$AJ$1204,MATCH(31,$S$5:$S$1204,0),6))} | G35: {=IF(31>$S$1204,"",INDEX($T$5:$AJ$1204,MATCH(31,$S$5:$S$1204,0),7))} | H35: {=IF(31>$S$1204,"",INDEX($T$5:$AJ$1204,MATCH(31,$S$5:$S$1204,0),8))} | I35: {=IF(31>$S$1204,"",INDEX($T$5:$AJ$1204,MATCH(31,$S$5:$S$1204,0),9))} | J35: {=IF(31>$S$1204,"",INDEX($T$5:$AJ$1204,MATCH(31,$S$5:$S$1204,0),10))} | K35: {=IF(31>$S$1204,"",INDEX($T$5:$AJ$1204,MATCH(31,$S$5:$S$1204,0),11))} | L35: {=IF(31>$S$1204,"",INDEX($T$5:$AJ$1204,MATCH(31,$S$5:$S$1204,0),12))} | M35: {=IF(31>$S$1204,"",INDEX($T$5:$AJ$1204,MATCH(31,$S$5:$S$1204,0),13))} | N35: {=IF(31>$S$1204,"",INDEX($T$5:$AJ$1204,MATCH(31,$S$5:$S$1204,0),14))} | O35: {=IF(31>$S$1204,"",INDEX($T$5:$AJ$1204,MATCH(31,$S$5:$S$1204,0),15))} | P35: {=IF(31>$S$1204,"",INDEX($T$5:$AJ$1204,MATCH(31,$S$5:$S$1204,0),16))} | Q35: {=IF(31>$S$1204,"",INDEX($T$5:$AJ$1204,MATCH(31,$S$5:$S$1204,0),17))} | S35: =S34+IF(M1_Administrativo!A39="",0,1) -> 0 | T35: =IF(M1_Administrativo!A39="","",IF(M1_Administrativo!A39="","",M1_Administrativo!A39)) | U35: =IF(M1_Administrativo!A39="","",IF(M1_Administrativo!R39="","",M1_Administrativo!R39)) | V35: =IF(M1_Administrativo!A39="","",IF(M1_Administrativo!D39="","",M1_Administrativo!D39)) | W35: =IF(M1_Administrativo!A39="","",IF(M1_Administrativo!B39="","",M1_Administrativo!B39)) | X35: =IF(M1_Administrativo!A39="","",IF(M1_Administrativo!C39="","",M1_Administrativo!C39)) | Y35: =IF(M1_Administrativo!A39="","",IF(M1_Administrativo!E39="","",M1_Administrativo!E39)) | Z35: =IF(M1_Administrativo!A39="","",IF(M1_Administrativo!F39="","",M1_Administrativo!F39)) | AA35: =IF(M1_Administrativo!A39="","","M1 Administrativo") | AB35: =IF(M1_Administrativo!A39="","",IF(M1_Administrativo!G39="","",M1_Administrativo!G39)) | AC35: =IF(M1_Administrativo!A39="","",IF(M1_Administrativo!M39="","",M1_Administrativo!M39)) | AD35: =IF(M1_Administrativo!A39="","","RA") | AE35: =IF(M1_Administrativo!A39="","",IF(M1_Administrativo!O39="","",M1_Administrativo!O39)) | AF35: =IF(M1_Administrativo!A39="","",IF(M1_Administrativo!P39="","",M1_Administrativo!P39)) | AG35: =IF(M1_Administrativo!A39="","",IF(M1_Administrativo!Q39="","",M1_Administrativo!Q39)) | AH35: =IF(M1_Administrativo!A39="","","") | AI35: =IF(M1_Administrativo!A39="","","M1_Administrativo!39") | AJ35: =IF(M1_Administrativo!A39="","",IF(M1_Administrativo!M39="","Pendiente de resultado","Disponible"))
A36: {=IF(32>$S$1204,"",INDEX($T$5:$AJ$1204,MATCH(32,$S$5:$S$1204,0),1))} | B36: {=IF(32>$S$1204,"",INDEX($T$5:$AJ$1204,MATCH(32,$S$5:$S$1204,0),2))} | C36: {=IF(32>$S$1204,"",INDEX($T$5:$AJ$1204,MATCH(32,$S$5:$S$1204,0),3))} | D36: {=IF(32>$S$1204,"",INDEX($T$5:$AJ$1204,MATCH(32,$S$5:$S$1204,0),4))} | E36: {=IF(32>$S$1204,"",INDEX($T$5:$AJ$1204,MATCH(32,$S$5:$S$1204,0),5))} | F36: {=IF(32>$S$1204,"",INDEX($T$5:$AJ$1204,MATCH(32,$S$5:$S$1204,0),6))} | G36: {=IF(32>$S$1204,"",INDEX($T$5:$AJ$1204,MATCH(32,$S$5:$S$1204,0),7))} | H36: {=IF(32>$S$1204,"",INDEX($T$5:$AJ$1204,MATCH(32,$S$5:$S$1204,0),8))} | I36: {=IF(32>$S$1204,"",INDEX($T$5:$AJ$1204,MATCH(32,$S$5:$S$1204,0),9))} | J36: {=IF(32>$S$1204,"",INDEX($T$5:$AJ$1204,MATCH(32,$S$5:$S$1204,0),10))} | K36: {=IF(32>$S$1204,"",INDEX($T$5:$AJ$1204,MATCH(32,$S$5:$S$1204,0),11))} | L36: {=IF(32>$S$1204,"",INDEX($T$5:$AJ$1204,MATCH(32,$S$5:$S$1204,0),12))} | M36: {=IF(32>$S$1204,"",INDEX($T$5:$AJ$1204,MATCH(32,$S$5:$S$1204,0),13))} | N36: {=IF(32>$S$1204,"",INDEX($T$5:$AJ$1204,MATCH(32,$S$5:$S$1204,0),14))} | O36: {=IF(32>$S$1204,"",INDEX($T$5:$AJ$1204,MATCH(32,$S$5:$S$1204,0),15))} | P36: {=IF(32>$S$1204,"",INDEX($T$5:$AJ$1204,MATCH(32,$S$5:$S$1204,0),16))} | Q36: {=IF(32>$S$1204,"",INDEX($T$5:$AJ$1204,MATCH(32,$S$5:$S$1204,0),17))} | S36: =S35+IF(M1_Administrativo!A40="",0,1) -> 0 | T36: =IF(M1_Administrativo!A40="","",IF(M1_Administrativo!A40="","",M1_Administrativo!A40)) | U36: =IF(M1_Administrativo!A40="","",IF(M1_Administrativo!R40="","",M1_Administrativo!R40)) | V36: =IF(M1_Administrativo!A40="","",IF(M1_Administrativo!D40="","",M1_Administrativo!D40)) | W36: =IF(M1_Administrativo!A40="","",IF(M1_Administrativo!B40="","",M1_Administrativo!B40)) | X36: =IF(M1_Administrativo!A40="","",IF(M1_Administrativo!C40="","",M1_Administrativo!C40)) | Y36: =IF(M1_Administrativo!A40="","",IF(M1_Administrativo!E40="","",M1_Administrativo!E40)) | Z36: =IF(M1_Administrativo!A40="","",IF(M1_Administrativo!F40="","",M1_Administrativo!F40)) | AA36: =IF(M1_Administrativo!A40="","","M1 Administrativo") | AB36: =IF(M1_Administrativo!A40="","",IF(M1_Administrativo!G40="","",M1_Administrativo!G40)) | AC36: =IF(M1_Administrativo!A40="","",IF(M1_Administrativo!M40="","",M1_Administrativo!M40)) | AD36: =IF(M1_Administrativo!A40="","","RA") | AE36: =IF(M1_Administrativo!A40="","",IF(M1_Administrativo!O40="","",M1_Administrativo!O40)) | AF36: =IF(M1_Administrativo!A40="","",IF(M1_Administrativo!P40="","",M1_Administrativo!P40)) | AG36: =IF(M1_Administrativo!A40="","",IF(M1_Administrativo!Q40="","",M1_Administrativo!Q40)) | AH36: =IF(M1_Administrativo!A40="","","") | AI36: =IF(M1_Administrativo!A40="","","M1_Administrativo!40") | AJ36: =IF(M1_Administrativo!A40="","",IF(M1_Administrativo!M40="","Pendiente de resultado","Disponible"))
A37: {=IF(33>$S$1204,"",INDEX($T$5:$AJ$1204,MATCH(33,$S$5:$S$1204,0),1))} | B37: {=IF(33>$S$1204,"",INDEX($T$5:$AJ$1204,MATCH(33,$S$5:$S$1204,0),2))} | C37: {=IF(33>$S$1204,"",INDEX($T$5:$AJ$1204,MATCH(33,$S$5:$S$1204,0),3))} | D37: {=IF(33>$S$1204,"",INDEX($T$5:$AJ$1204,MATCH(33,$S$5:$S$1204,0),4))} | E37: {=IF(33>$S$1204,"",INDEX($T$5:$AJ$1204,MATCH(33,$S$5:$S$1204,0),5))} | F37: {=IF(33>$S$1204,"",INDEX($T$5:$AJ$1204,MATCH(33,$S$5:$S$1204,0),6))} | G37: {=IF(33>$S$1204,"",INDEX($T$5:$AJ$1204,MATCH(33,$S$5:$S$1204,0),7))} | H37: {=IF(33>$S$1204,"",INDEX($T$5:$AJ$1204,MATCH(33,$S$5:$S$1204,0),8))} | I37: {=IF(33>$S$1204,"",INDEX($T$5:$AJ$1204,MATCH(33,$S$5:$S$1204,0),9))} | J37: {=IF(33>$S$1204,"",INDEX($T$5:$AJ$1204,MATCH(33,$S$5:$S$1204,0),10))} | K37: {=IF(33>$S$1204,"",INDEX($T$5:$AJ$1204,MATCH(33,$S$5:$S$1204,0),11))} | L37: {=IF(33>$S$1204,"",INDEX($T$5:$AJ$1204,MATCH(33,$S$5:$S$1204,0),12))} | M37: {=IF(33>$S$1204,"",INDEX($T$5:$AJ$1204,MATCH(33,$S$5:$S$1204,0),13))} | N37: {=IF(33>$S$1204,"",INDEX($T$5:$AJ$1204,MATCH(33,$S$5:$S$1204,0),14))} | O37: {=IF(33>$S$1204,"",INDEX($T$5:$AJ$1204,MATCH(33,$S$5:$S$1204,0),15))} | P37: {=IF(33>$S$1204,"",INDEX($T$5:$AJ$1204,MATCH(33,$S$5:$S$1204,0),16))} | Q37: {=IF(33>$S$1204,"",INDEX($T$5:$AJ$1204,MATCH(33,$S$5:$S$1204,0),17))} | S37: =S36+IF(M1_Administrativo!A41="",0,1) -> 0 | T37: =IF(M1_Administrativo!A41="","",IF(M1_Administrativo!A41="","",M1_Administrativo!A41)) | U37: =IF(M1_Administrativo!A41="","",IF(M1_Administrativo!R41="","",M1_Administrativo!R41)) | V37: =IF(M1_Administrativo!A41="","",IF(M1_Administrativo!D41="","",M1_Administrativo!D41)) | W37: =IF(M1_Administrativo!A41="","",IF(M1_Administrativo!B41="","",M1_Administrativo!B41)) | X37: =IF(M1_Administrativo!A41="","",IF(M1_Administrativo!C41="","",M1_Administrativo!C41)) | Y37: =IF(M1_Administrativo!A41="","",IF(M1_Administrativo!E41="","",M1_Administrativo!E41)) | Z37: =IF(M1_Administrativo!A41="","",IF(M1_Administrativo!F41="","",M1_Administrativo!F41)) | AA37: =IF(M1_Administrativo!A41="","","M1 Administrativo") | AB37: =IF(M1_Administrativo!A41="","",IF(M1_Administrativo!G41="","",M1_Administrativo!G41)) | AC37: =IF(M1_Administrativo!A41="","",IF(M1_Administrativo!M41="","",M1_Administrativo!M41)) | AD37: =IF(M1_Administrativo!A41="","","RA") | AE37: =IF(M1_Administrativo!A41="","",IF(M1_Administrativo!O41="","",M1_Administrativo!O41)) | AF37: =IF(M1_Administrativo!A41="","",IF(M1_Administrativo!P41="","",M1_Administrativo!P41)) | AG37: =IF(M1_Administrativo!A41="","",IF(M1_Administrativo!Q41="","",M1_Administrativo!Q41)) | AH37: =IF(M1_Administrativo!A41="","","") | AI37: =IF(M1_Administrativo!A41="","","M1_Administrativo!41") | AJ37: =IF(M1_Administrativo!A41="","",IF(M1_Administrativo!M41="","Pendiente de resultado","Disponible"))
A38: {=IF(34>$S$1204,"",INDEX($T$5:$AJ$1204,MATCH(34,$S$5:$S$1204,0),1))} | B38: {=IF(34>$S$1204,"",INDEX($T$5:$AJ$1204,MATCH(34,$S$5:$S$1204,0),2))} | C38: {=IF(34>$S$1204,"",INDEX($T$5:$AJ$1204,MATCH(34,$S$5:$S$1204,0),3))} | D38: {=IF(34>$S$1204,"",INDEX($T$5:$AJ$1204,MATCH(34,$S$5:$S$1204,0),4))} | E38: {=IF(34>$S$1204,"",INDEX($T$5:$AJ$1204,MATCH(34,$S$5:$S$1204,0),5))} | F38: {=IF(34>$S$1204,"",INDEX($T$5:$AJ$1204,MATCH(34,$S$5:$S$1204,0),6))} | G38: {=IF(34>$S$1204,"",INDEX($T$5:$AJ$1204,MATCH(34,$S$5:$S$1204,0),7))} | H38: {=IF(34>$S$1204,"",INDEX($T$5:$AJ$1204,MATCH(34,$S$5:$S$1204,0),8))} | I38: {=IF(34>$S$1204,"",INDEX($T$5:$AJ$1204,MATCH(34,$S$5:$S$1204,0),9))} | J38: {=IF(34>$S$1204,"",INDEX($T$5:$AJ$1204,MATCH(34,$S$5:$S$1204,0),10))} | K38: {=IF(34>$S$1204,"",INDEX($T$5:$AJ$1204,MATCH(34,$S$5:$S$1204,0),11))} | L38: {=IF(34>$S$1204,"",INDEX($T$5:$AJ$1204,MATCH(34,$S$5:$S$1204,0),12))} | M38: {=IF(34>$S$1204,"",INDEX($T$5:$AJ$1204,MATCH(34,$S$5:$S$1204,0),13))} | N38: {=IF(34>$S$1204,"",INDEX($T$5:$AJ$1204,MATCH(34,$S$5:$S$1204,0),14))} | O38: {=IF(34>$S$1204,"",INDEX($T$5:$AJ$1204,MATCH(34,$S$5:$S$1204,0),15))} | P38: {=IF(34>$S$1204,"",INDEX($T$5:$AJ$1204,MATCH(34,$S$5:$S$1204,0),16))} | Q38: {=IF(34>$S$1204,"",INDEX($T$5:$AJ$1204,MATCH(34,$S$5:$S$1204,0),17))} | S38: =S37+IF(M1_Administrativo!A42="",0,1) -> 0 | T38: =IF(M1_Administrativo!A42="","",IF(M1_Administrativo!A42="","",M1_Administrativo!A42)) | U38: =IF(M1_Administrativo!A42="","",IF(M1_Administrativo!R42="","",M1_Administrativo!R42)) | V38: =IF(M1_Administrativo!A42="","",IF(M1_Administrativo!D42="","",M1_Administrativo!D42)) | W38: =IF(M1_Administrativo!A42="","",IF(M1_Administrativo!B42="","",M1_Administrativo!B42)) | X38: =IF(M1_Administrativo!A42="","",IF(M1_Administrativo!C42="","",M1_Administrativo!C42)) | Y38: =IF(M1_Administrativo!A42="","",IF(M1_Administrativo!E42="","",M1_Administrativo!E42)) | Z38: =IF(M1_Administrativo!A42="","",IF(M1_Administrativo!F42="","",M1_Administrativo!F42)) | AA38: =IF(M1_Administrativo!A42="","","M1 Administrativo") | AB38: =IF(M1_Administrativo!A42="","",IF(M1_Administrativo!G42="","",M1_Administrativo!G42)) | AC38: =IF(M1_Administrativo!A42="","",IF(M1_Administrativo!M42="","",M1_Administrativo!M42)) | AD38: =IF(M1_Administrativo!A42="","","RA") | AE38: =IF(M1_Administrativo!A42="","",IF(M1_Administrativo!O42="","",M1_Administrativo!O42)) | AF38: =IF(M1_Administrativo!A42="","",IF(M1_Administrativo!P42="","",M1_Administrativo!P42)) | AG38: =IF(M1_Administrativo!A42="","",IF(M1_Administrativo!Q42="","",M1_Administrativo!Q42)) | AH38: =IF(M1_Administrativo!A42="","","") | AI38: =IF(M1_Administrativo!A42="","","M1_Administrativo!42") | AJ38: =IF(M1_Administrativo!A42="","",IF(M1_Administrativo!M42="","Pendiente de resultado","Disponible"))
A39: {=IF(35>$S$1204,"",INDEX($T$5:$AJ$1204,MATCH(35,$S$5:$S$1204,0),1))} | B39: {=IF(35>$S$1204,"",INDEX($T$5:$AJ$1204,MATCH(35,$S$5:$S$1204,0),2))} | C39: {=IF(35>$S$1204,"",INDEX($T$5:$AJ$1204,MATCH(35,$S$5:$S$1204,0),3))} | D39: {=IF(35>$S$1204,"",INDEX($T$5:$AJ$1204,MATCH(35,$S$5:$S$1204,0),4))} | E39: {=IF(35>$S$1204,"",INDEX($T$5:$AJ$1204,MATCH(35,$S$5:$S$1204,0),5))} | F39: {=IF(35>$S$1204,"",INDEX($T$5:$AJ$1204,MATCH(35,$S$5:$S$1204,0),6))} | G39: {=IF(35>$S$1204,"",INDEX($T$5:$AJ$1204,MATCH(35,$S$5:$S$1204,0),7))} | H39: {=IF(35>$S$1204,"",INDEX($T$5:$AJ$1204,MATCH(35,$S$5:$S$1204,0),8))} | I39: {=IF(35>$S$1204,"",INDEX($T$5:$AJ$1204,MATCH(35,$S$5:$S$1204,0),9))} | J39: {=IF(35>$S$1204,"",INDEX($T$5:$AJ$1204,MATCH(35,$S$5:$S$1204,0),10))} | K39: {=IF(35>$S$1204,"",INDEX($T$5:$AJ$1204,MATCH(35,$S$5:$S$1204,0),11))} | L39: {=IF(35>$S$1204,"",INDEX($T$5:$AJ$1204,MATCH(35,$S$5:$S$1204,0),12))} | M39: {=IF(35>$S$1204,"",INDEX($T$5:$AJ$1204,MATCH(35,$S$5:$S$1204,0),13))} | N39: {=IF(35>$S$1204,"",INDEX($T$5:$AJ$1204,MATCH(35,$S$5:$S$1204,0),14))} | O39: {=IF(35>$S$1204,"",INDEX($T$5:$AJ$1204,MATCH(35,$S$5:$S$1204,0),15))} | P39: {=IF(35>$S$1204,"",INDEX($T$5:$AJ$1204,MATCH(35,$S$5:$S$1204,0),16))} | Q39: {=IF(35>$S$1204,"",INDEX($T$5:$AJ$1204,MATCH(35,$S$5:$S$1204,0),17))} | S39: =S38+IF(M1_Administrativo!A43="",0,1) -> 0 | T39: =IF(M1_Administrativo!A43="","",IF(M1_Administrativo!A43="","",M1_Administrativo!A43)) | U39: =IF(M1_Administrativo!A43="","",IF(M1_Administrativo!R43="","",M1_Administrativo!R43)) | V39: =IF(M1_Administrativo!A43="","",IF(M1_Administrativo!D43="","",M1_Administrativo!D43)) | W39: =IF(M1_Administrativo!A43="","",IF(M1_Administrativo!B43="","",M1_Administrativo!B43)) | X39: =IF(M1_Administrativo!A43="","",IF(M1_Administrativo!C43="","",M1_Administrativo!C43)) | Y39: =IF(M1_Administrativo!A43="","",IF(M1_Administrativo!E43="","",M1_Administrativo!E43)) | Z39: =IF(M1_Administrativo!A43="","",IF(M1_Administrativo!F43="","",M1_Administrativo!F43)) | AA39: =IF(M1_Administrativo!A43="","","M1 Administrativo") | AB39: =IF(M1_Administrativo!A43="","",IF(M1_Administrativo!G43="","",M1_Administrativo!G43)) | AC39: =IF(M1_Administrativo!A43="","",IF(M1_Administrativo!M43="","",M1_Administrativo!M43)) | AD39: =IF(M1_Administrativo!A43="","","RA") | AE39: =IF(M1_Administrativo!A43="","",IF(M1_Administrativo!O43="","",M1_Administrativo!O43)) | AF39: =IF(M1_Administrativo!A43="","",IF(M1_Administrativo!P43="","",M1_Administrativo!P43)) | AG39: =IF(M1_Administrativo!A43="","",IF(M1_Administrativo!Q43="","",M1_Administrativo!Q43)) | AH39: =IF(M1_Administrativo!A43="","","") | AI39: =IF(M1_Administrativo!A43="","","M1_Administrativo!43") | AJ39: =IF(M1_Administrativo!A43="","",IF(M1_Administrativo!M43="","Pendiente de resultado","Disponible"))
A40: {=IF(36>$S$1204,"",INDEX($T$5:$AJ$1204,MATCH(36,$S$5:$S$1204,0),1))} | B40: {=IF(36>$S$1204,"",INDEX($T$5:$AJ$1204,MATCH(36,$S$5:$S$1204,0),2))} | C40: {=IF(36>$S$1204,"",INDEX($T$5:$AJ$1204,MATCH(36,$S$5:$S$1204,0),3))} | D40: {=IF(36>$S$1204,"",INDEX($T$5:$AJ$1204,MATCH(36,$S$5:$S$1204,0),4))} | E40: {=IF(36>$S$1204,"",INDEX($T$5:$AJ$1204,MATCH(36,$S$5:$S$1204,0),5))} | F40: {=IF(36>$S$1204,"",INDEX($T$5:$AJ$1204,MATCH(36,$S$5:$S$1204,0),6))} | G40: {=IF(36>$S$1204,"",INDEX($T$5:$AJ$1204,MATCH(36,$S$5:$S$1204,0),7))} | H40: {=IF(36>$S$1204,"",INDEX($T$5:$AJ$1204,MATCH(36,$S$5:$S$1204,0),8))} | I40: {=IF(36>$S$1204,"",INDEX($T$5:$AJ$1204,MATCH(36,$S$5:$S$1204,0),9))} | J40: {=IF(36>$S$1204,"",INDEX($T$5:$AJ$1204,MATCH(36,$S$5:$S$1204,0),10))} | K40: {=IF(36>$S$1204,"",INDEX($T$5:$AJ$1204,MATCH(36,$S$5:$S$1204,0),11))} | L40: {=IF(36>$S$1204,"",INDEX($T$5:$AJ$1204,MATCH(36,$S$5:$S$1204,0),12))} | M40: {=IF(36>$S$1204,"",INDEX($T$5:$AJ$1204,MATCH(36,$S$5:$S$1204,0),13))} | N40: {=IF(36>$S$1204,"",INDEX($T$5:$AJ$1204,MATCH(36,$S$5:$S$1204,0),14))} | O40: {=IF(36>$S$1204,"",INDEX($T$5:$AJ$1204,MATCH(36,$S$5:$S$1204,0),15))} | P40: {=IF(36>$S$1204,"",INDEX($T$5:$AJ$1204,MATCH(36,$S$5:$S$1204,0),16))} | Q40: {=IF(36>$S$1204,"",INDEX($T$5:$AJ$1204,MATCH(36,$S$5:$S$1204,0),17))} | S40: =S39+IF(M1_Administrativo!A44="",0,1) -> 0 | T40: =IF(M1_Administrativo!A44="","",IF(M1_Administrativo!A44="","",M1_Administrativo!A44)) | U40: =IF(M1_Administrativo!A44="","",IF(M1_Administrativo!R44="","",M1_Administrativo!R44)) | V40: =IF(M1_Administrativo!A44="","",IF(M1_Administrativo!D44="","",M1_Administrativo!D44)) | W40: =IF(M1_Administrativo!A44="","",IF(M1_Administrativo!B44="","",M1_Administrativo!B44)) | X40: =IF(M1_Administrativo!A44="","",IF(M1_Administrativo!C44="","",M1_Administrativo!C44)) | Y40: =IF(M1_Administrativo!A44="","",IF(M1_Administrativo!E44="","",M1_Administrativo!E44)) | Z40: =IF(M1_Administrativo!A44="","",IF(M1_Administrativo!F44="","",M1_Administrativo!F44)) | AA40: =IF(M1_Administrativo!A44="","","M1 Administrativo") | AB40: =IF(M1_Administrativo!A44="","",IF(M1_Administrativo!G44="","",M1_Administrativo!G44)) | AC40: =IF(M1_Administrativo!A44="","",IF(M1_Administrativo!M44="","",M1_Administrativo!M44)) | AD40: =IF(M1_Administrativo!A44="","","RA") | AE40: =IF(M1_Administrativo!A44="","",IF(M1_Administrativo!O44="","",M1_Administrativo!O44)) | AF40: =IF(M1_Administrativo!A44="","",IF(M1_Administrativo!P44="","",M1_Administrativo!P44)) | AG40: =IF(M1_Administrativo!A44="","",IF(M1_Administrativo!Q44="","",M1_Administrativo!Q44)) | AH40: =IF(M1_Administrativo!A44="","","") | AI40: =IF(M1_Administrativo!A44="","","M1_Administrativo!44") | AJ40: =IF(M1_Administrativo!A44="","",IF(M1_Administrativo!M44="","Pendiente de resultado","Disponible"))
A41: {=IF(37>$S$1204,"",INDEX($T$5:$AJ$1204,MATCH(37,$S$5:$S$1204,0),1))} | B41: {=IF(37>$S$1204,"",INDEX($T$5:$AJ$1204,MATCH(37,$S$5:$S$1204,0),2))} | C41: {=IF(37>$S$1204,"",INDEX($T$5:$AJ$1204,MATCH(37,$S$5:$S$1204,0),3))} | D41: {=IF(37>$S$1204,"",INDEX($T$5:$AJ$1204,MATCH(37,$S$5:$S$1204,0),4))} | E41: {=IF(37>$S$1204,"",INDEX($T$5:$AJ$1204,MATCH(37,$S$5:$S$1204,0),5))} | F41: {=IF(37>$S$1204,"",INDEX($T$5:$AJ$1204,MATCH(37,$S$5:$S$1204,0),6))} | G41: {=IF(37>$S$1204,"",INDEX($T$5:$AJ$1204,MATCH(37,$S$5:$S$1204,0),7))} | H41: {=IF(37>$S$1204,"",INDEX($T$5:$AJ$1204,MATCH(37,$S$5:$S$1204,0),8))} | I41: {=IF(37>$S$1204,"",INDEX($T$5:$AJ$1204,MATCH(37,$S$5:$S$1204,0),9))} | J41: {=IF(37>$S$1204,"",INDEX($T$5:$AJ$1204,MATCH(37,$S$5:$S$1204,0),10))} | K41: {=IF(37>$S$1204,"",INDEX($T$5:$AJ$1204,MATCH(37,$S$5:$S$1204,0),11))} | L41: {=IF(37>$S$1204,"",INDEX($T$5:$AJ$1204,MATCH(37,$S$5:$S$1204,0),12))} | M41: {=IF(37>$S$1204,"",INDEX($T$5:$AJ$1204,MATCH(37,$S$5:$S$1204,0),13))} | N41: {=IF(37>$S$1204,"",INDEX($T$5:$AJ$1204,MATCH(37,$S$5:$S$1204,0),14))} | O41: {=IF(37>$S$1204,"",INDEX($T$5:$AJ$1204,MATCH(37,$S$5:$S$1204,0),15))} | P41: {=IF(37>$S$1204,"",INDEX($T$5:$AJ$1204,MATCH(37,$S$5:$S$1204,0),16))} | Q41: {=IF(37>$S$1204,"",INDEX($T$5:$AJ$1204,MATCH(37,$S$5:$S$1204,0),17))} | S41: =S40+IF(M1_Administrativo!A45="",0,1) -> 0 | T41: =IF(M1_Administrativo!A45="","",IF(M1_Administrativo!A45="","",M1_Administrativo!A45)) | U41: =IF(M1_Administrativo!A45="","",IF(M1_Administrativo!R45="","",M1_Administrativo!R45)) | V41: =IF(M1_Administrativo!A45="","",IF(M1_Administrativo!D45="","",M1_Administrativo!D45)) | W41: =IF(M1_Administrativo!A45="","",IF(M1_Administrativo!B45="","",M1_Administrativo!B45)) | X41: =IF(M1_Administrativo!A45="","",IF(M1_Administrativo!C45="","",M1_Administrativo!C45)) | Y41: =IF(M1_Administrativo!A45="","",IF(M1_Administrativo!E45="","",M1_Administrativo!E45)) | Z41: =IF(M1_Administrativo!A45="","",IF(M1_Administrativo!F45="","",M1_Administrativo!F45)) | AA41: =IF(M1_Administrativo!A45="","","M1 Administrativo") | AB41: =IF(M1_Administrativo!A45="","",IF(M1_Administrativo!G45="","",M1_Administrativo!G45)) | AC41: =IF(M1_Administrativo!A45="","",IF(M1_Administrativo!M45="","",M1_Administrativo!M45)) | AD41: =IF(M1_Administrativo!A45="","","RA") | AE41: =IF(M1_Administrativo!A45="","",IF(M1_Administrativo!O45="","",M1_Administrativo!O45)) | AF41: =IF(M1_Administrativo!A45="","",IF(M1_Administrativo!P45="","",M1_Administrativo!P45)) | AG41: =IF(M1_Administrativo!A45="","",IF(M1_Administrativo!Q45="","",M1_Administrativo!Q45)) | AH41: =IF(M1_Administrativo!A45="","","") | AI41: =IF(M1_Administrativo!A45="","","M1_Administrativo!45") | AJ41: =IF(M1_Administrativo!A45="","",IF(M1_Administrativo!M45="","Pendiente de resultado","Disponible"))
A42: {=IF(38>$S$1204,"",INDEX($T$5:$AJ$1204,MATCH(38,$S$5:$S$1204,0),1))} | B42: {=IF(38>$S$1204,"",INDEX($T$5:$AJ$1204,MATCH(38,$S$5:$S$1204,0),2))} | C42: {=IF(38>$S$1204,"",INDEX($T$5:$AJ$1204,MATCH(38,$S$5:$S$1204,0),3))} | D42: {=IF(38>$S$1204,"",INDEX($T$5:$AJ$1204,MATCH(38,$S$5:$S$1204,0),4))} | E42: {=IF(38>$S$1204,"",INDEX($T$5:$AJ$1204,MATCH(38,$S$5:$S$1204,0),5))} | F42: {=IF(38>$S$1204,"",INDEX($T$5:$AJ$1204,MATCH(38,$S$5:$S$1204,0),6))} | G42: {=IF(38>$S$1204,"",INDEX($T$5:$AJ$1204,MATCH(38,$S$5:$S$1204,0),7))} | H42: {=IF(38>$S$1204,"",INDEX($T$5:$AJ$1204,MATCH(38,$S$5:$S$1204,0),8))} | I42: {=IF(38>$S$1204,"",INDEX($T$5:$AJ$1204,MATCH(38,$S$5:$S$1204,0),9))} | J42: {=IF(38>$S$1204,"",INDEX($T$5:$AJ$1204,MATCH(38,$S$5:$S$1204,0),10))} | K42: {=IF(38>$S$1204,"",INDEX($T$5:$AJ$1204,MATCH(38,$S$5:$S$1204,0),11))} | L42: {=IF(38>$S$1204,"",INDEX($T$5:$AJ$1204,MATCH(38,$S$5:$S$1204,0),12))} | M42: {=IF(38>$S$1204,"",INDEX($T$5:$AJ$1204,MATCH(38,$S$5:$S$1204,0),13))} | N42: {=IF(38>$S$1204,"",INDEX($T$5:$AJ$1204,MATCH(38,$S$5:$S$1204,0),14))} | O42: {=IF(38>$S$1204,"",INDEX($T$5:$AJ$1204,MATCH(38,$S$5:$S$1204,0),15))} | P42: {=IF(38>$S$1204,"",INDEX($T$5:$AJ$1204,MATCH(38,$S$5:$S$1204,0),16))} | Q42: {=IF(38>$S$1204,"",INDEX($T$5:$AJ$1204,MATCH(38,$S$5:$S$1204,0),17))} | S42: =S41+IF(M1_Administrativo!A46="",0,1) -> 0 | T42: =IF(M1_Administrativo!A46="","",IF(M1_Administrativo!A46="","",M1_Administrativo!A46)) | U42: =IF(M1_Administrativo!A46="","",IF(M1_Administrativo!R46="","",M1_Administrativo!R46)) | V42: =IF(M1_Administrativo!A46="","",IF(M1_Administrativo!D46="","",M1_Administrativo!D46)) | W42: =IF(M1_Administrativo!A46="","",IF(M1_Administrativo!B46="","",M1_Administrativo!B46)) | X42: =IF(M1_Administrativo!A46="","",IF(M1_Administrativo!C46="","",M1_Administrativo!C46)) | Y42: =IF(M1_Administrativo!A46="","",IF(M1_Administrativo!E46="","",M1_Administrativo!E46)) | Z42: =IF(M1_Administrativo!A46="","",IF(M1_Administrativo!F46="","",M1_Administrativo!F46)) | AA42: =IF(M1_Administrativo!A46="","","M1 Administrativo") | AB42: =IF(M1_Administrativo!A46="","",IF(M1_Administrativo!G46="","",M1_Administrativo!G46)) | AC42: =IF(M1_Administrativo!A46="","",IF(M1_Administrativo!M46="","",M1_Administrativo!M46)) | AD42: =IF(M1_Administrativo!A46="","","RA") | AE42: =IF(M1_Administrativo!A46="","",IF(M1_Administrativo!O46="","",M1_Administrativo!O46)) | AF42: =IF(M1_Administrativo!A46="","",IF(M1_Administrativo!P46="","",M1_Administrativo!P46)) | AG42: =IF(M1_Administrativo!A46="","",IF(M1_Administrativo!Q46="","",M1_Administrativo!Q46)) | AH42: =IF(M1_Administrativo!A46="","","") | AI42: =IF(M1_Administrativo!A46="","","M1_Administrativo!46") | AJ42: =IF(M1_Administrativo!A46="","",IF(M1_Administrativo!M46="","Pendiente de resultado","Disponible"))
A43: {=IF(39>$S$1204,"",INDEX($T$5:$AJ$1204,MATCH(39,$S$5:$S$1204,0),1))} | B43: {=IF(39>$S$1204,"",INDEX($T$5:$AJ$1204,MATCH(39,$S$5:$S$1204,0),2))} | C43: {=IF(39>$S$1204,"",INDEX($T$5:$AJ$1204,MATCH(39,$S$5:$S$1204,0),3))} | D43: {=IF(39>$S$1204,"",INDEX($T$5:$AJ$1204,MATCH(39,$S$5:$S$1204,0),4))} | E43: {=IF(39>$S$1204,"",INDEX($T$5:$AJ$1204,MATCH(39,$S$5:$S$1204,0),5))} | F43: {=IF(39>$S$1204,"",INDEX($T$5:$AJ$1204,MATCH(39,$S$5:$S$1204,0),6))} | G43: {=IF(39>$S$1204,"",INDEX($T$5:$AJ$1204,MATCH(39,$S$5:$S$1204,0),7))} | H43: {=IF(39>$S$1204,"",INDEX($T$5:$AJ$1204,MATCH(39,$S$5:$S$1204,0),8))} | I43: {=IF(39>$S$1204,"",INDEX($T$5:$AJ$1204,MATCH(39,$S$5:$S$1204,0),9))} | J43: {=IF(39>$S$1204,"",INDEX($T$5:$AJ$1204,MATCH(39,$S$5:$S$1204,0),10))} | K43: {=IF(39>$S$1204,"",INDEX($T$5:$AJ$1204,MATCH(39,$S$5:$S$1204,0),11))} | L43: {=IF(39>$S$1204,"",INDEX($T$5:$AJ$1204,MATCH(39,$S$5:$S$1204,0),12))} | M43: {=IF(39>$S$1204,"",INDEX($T$5:$AJ$1204,MATCH(39,$S$5:$S$1204,0),13))} | N43: {=IF(39>$S$1204,"",INDEX($T$5:$AJ$1204,MATCH(39,$S$5:$S$1204,0),14))} | O43: {=IF(39>$S$1204,"",INDEX($T$5:$AJ$1204,MATCH(39,$S$5:$S$1204,0),15))} | P43: {=IF(39>$S$1204,"",INDEX($T$5:$AJ$1204,MATCH(39,$S$5:$S$1204,0),16))} | Q43: {=IF(39>$S$1204,"",INDEX($T$5:$AJ$1204,MATCH(39,$S$5:$S$1204,0),17))} | S43: =S42+IF(M1_Administrativo!A47="",0,1) -> 0 | T43: =IF(M1_Administrativo!A47="","",IF(M1_Administrativo!A47="","",M1_Administrativo!A47)) | U43: =IF(M1_Administrativo!A47="","",IF(M1_Administrativo!R47="","",M1_Administrativo!R47)) | V43: =IF(M1_Administrativo!A47="","",IF(M1_Administrativo!D47="","",M1_Administrativo!D47)) | W43: =IF(M1_Administrativo!A47="","",IF(M1_Administrativo!B47="","",M1_Administrativo!B47)) | X43: =IF(M1_Administrativo!A47="","",IF(M1_Administrativo!C47="","",M1_Administrativo!C47)) | Y43: =IF(M1_Administrativo!A47="","",IF(M1_Administrativo!E47="","",M1_Administrativo!E47)) | Z43: =IF(M1_Administrativo!A47="","",IF(M1_Administrativo!F47="","",M1_Administrativo!F47)) | AA43: =IF(M1_Administrativo!A47="","","M1 Administrativo") | AB43: =IF(M1_Administrativo!A47="","",IF(M1_Administrativo!G47="","",M1_Administrativo!G47)) | AC43: =IF(M1_Administrativo!A47="","",IF(M1_Administrativo!M47="","",M1_Administrativo!M47)) | AD43: =IF(M1_Administrativo!A47="","","RA") | AE43: =IF(M1_Administrativo!A47="","",IF(M1_Administrativo!O47="","",M1_Administrativo!O47)) | AF43: =IF(M1_Administrativo!A47="","",IF(M1_Administrativo!P47="","",M1_Administrativo!P47)) | AG43: =IF(M1_Administrativo!A47="","",IF(M1_Administrativo!Q47="","",M1_Administrativo!Q47)) | AH43: =IF(M1_Administrativo!A47="","","") | AI43: =IF(M1_Administrativo!A47="","","M1_Administrativo!47") | AJ43: =IF(M1_Administrativo!A47="","",IF(M1_Administrativo!M47="","Pendiente de resultado","Disponible"))
A44: {=IF(40>$S$1204,"",INDEX($T$5:$AJ$1204,MATCH(40,$S$5:$S$1204,0),1))} | B44: {=IF(40>$S$1204,"",INDEX($T$5:$AJ$1204,MATCH(40,$S$5:$S$1204,0),2))} | C44: {=IF(40>$S$1204,"",INDEX($T$5:$AJ$1204,MATCH(40,$S$5:$S$1204,0),3))} | D44: {=IF(40>$S$1204,"",INDEX($T$5:$AJ$1204,MATCH(40,$S$5:$S$1204,0),4))} | E44: {=IF(40>$S$1204,"",INDEX($T$5:$AJ$1204,MATCH(40,$S$5:$S$1204,0),5))} | F44: {=IF(40>$S$1204,"",INDEX($T$5:$AJ$1204,MATCH(40,$S$5:$S$1204,0),6))} | G44: {=IF(40>$S$1204,"",INDEX($T$5:$AJ$1204,MATCH(40,$S$5:$S$1204,0),7))} | H44: {=IF(40>$S$1204,"",INDEX($T$5:$AJ$1204,MATCH(40,$S$5:$S$1204,0),8))} | I44: {=IF(40>$S$1204,"",INDEX($T$5:$AJ$1204,MATCH(40,$S$5:$S$1204,0),9))} | J44: {=IF(40>$S$1204,"",INDEX($T$5:$AJ$1204,MATCH(40,$S$5:$S$1204,0),10))} | K44: {=IF(40>$S$1204,"",INDEX($T$5:$AJ$1204,MATCH(40,$S$5:$S$1204,0),11))} | L44: {=IF(40>$S$1204,"",INDEX($T$5:$AJ$1204,MATCH(40,$S$5:$S$1204,0),12))} | M44: {=IF(40>$S$1204,"",INDEX($T$5:$AJ$1204,MATCH(40,$S$5:$S$1204,0),13))} | N44: {=IF(40>$S$1204,"",INDEX($T$5:$AJ$1204,MATCH(40,$S$5:$S$1204,0),14))} | O44: {=IF(40>$S$1204,"",INDEX($T$5:$AJ$1204,MATCH(40,$S$5:$S$1204,0),15))} | P44: {=IF(40>$S$1204,"",INDEX($T$5:$AJ$1204,MATCH(40,$S$5:$S$1204,0),16))} | Q44: {=IF(40>$S$1204,"",INDEX($T$5:$AJ$1204,MATCH(40,$S$5:$S$1204,0),17))} | S44: =S43+IF(M1_Administrativo!A48="",0,1) -> 0 | T44: =IF(M1_Administrativo!A48="","",IF(M1_Administrativo!A48="","",M1_Administrativo!A48)) | U44: =IF(M1_Administrativo!A48="","",IF(M1_Administrativo!R48="","",M1_Administrativo!R48)) | V44: =IF(M1_Administrativo!A48="","",IF(M1_Administrativo!D48="","",M1_Administrativo!D48)) | W44: =IF(M1_Administrativo!A48="","",IF(M1_Administrativo!B48="","",M1_Administrativo!B48)) | X44: =IF(M1_Administrativo!A48="","",IF(M1_Administrativo!C48="","",M1_Administrativo!C48)) | Y44: =IF(M1_Administrativo!A48="","",IF(M1_Administrativo!E48="","",M1_Administrativo!E48)) | Z44: =IF(M1_Administrativo!A48="","",IF(M1_Administrativo!F48="","",M1_Administrativo!F48)) | AA44: =IF(M1_Administrativo!A48="","","M1 Administrativo") | AB44: =IF(M1_Administrativo!A48="","",IF(M1_Administrativo!G48="","",M1_Administrativo!G48)) | AC44: =IF(M1_Administrativo!A48="","",IF(M1_Administrativo!M48="","",M1_Administrativo!M48)) | AD44: =IF(M1_Administrativo!A48="","","RA") | AE44: =IF(M1_Administrativo!A48="","",IF(M1_Administrativo!O48="","",M1_Administrativo!O48)) | AF44: =IF(M1_Administrativo!A48="","",IF(M1_Administrativo!P48="","",M1_Administrativo!P48)) | AG44: =IF(M1_Administrativo!A48="","",IF(M1_Administrativo!Q48="","",M1_Administrativo!Q48)) | AH44: =IF(M1_Administrativo!A48="","","") | AI44: =IF(M1_Administrativo!A48="","","M1_Administrativo!48") | AJ44: =IF(M1_Administrativo!A48="","",IF(M1_Administrativo!M48="","Pendiente de resultado","Disponible"))
A45: {=IF(41>$S$1204,"",INDEX($T$5:$AJ$1204,MATCH(41,$S$5:$S$1204,0),1))} | B45: {=IF(41>$S$1204,"",INDEX($T$5:$AJ$1204,MATCH(41,$S$5:$S$1204,0),2))} | C45: {=IF(41>$S$1204,"",INDEX($T$5:$AJ$1204,MATCH(41,$S$5:$S$1204,0),3))} | D45: {=IF(41>$S$1204,"",INDEX($T$5:$AJ$1204,MATCH(41,$S$5:$S$1204,0),4))} | E45: {=IF(41>$S$1204,"",INDEX($T$5:$AJ$1204,MATCH(41,$S$5:$S$1204,0),5))} | F45: {=IF(41>$S$1204,"",INDEX($T$5:$AJ$1204,MATCH(41,$S$5:$S$1204,0),6))} | G45: {=IF(41>$S$1204,"",INDEX($T$5:$AJ$1204,MATCH(41,$S$5:$S$1204,0),7))} | H45: {=IF(41>$S$1204,"",INDEX($T$5:$AJ$1204,MATCH(41,$S$5:$S$1204,0),8))} | I45: {=IF(41>$S$1204,"",INDEX($T$5:$AJ$1204,MATCH(41,$S$5:$S$1204,0),9))} | J45: {=IF(41>$S$1204,"",INDEX($T$5:$AJ$1204,MATCH(41,$S$5:$S$1204,0),10))} | K45: {=IF(41>$S$1204,"",INDEX($T$5:$AJ$1204,MATCH(41,$S$5:$S$1204,0),11))} | L45: {=IF(41>$S$1204,"",INDEX($T$5:$AJ$1204,MATCH(41,$S$5:$S$1204,0),12))} | M45: {=IF(41>$S$1204,"",INDEX($T$5:$AJ$1204,MATCH(41,$S$5:$S$1204,0),13))} | N45: {=IF(41>$S$1204,"",INDEX($T$5:$AJ$1204,MATCH(41,$S$5:$S$1204,0),14))} | O45: {=IF(41>$S$1204,"",INDEX($T$5:$AJ$1204,MATCH(41,$S$5:$S$1204,0),15))} | P45: {=IF(41>$S$1204,"",INDEX($T$5:$AJ$1204,MATCH(41,$S$5:$S$1204,0),16))} | Q45: {=IF(41>$S$1204,"",INDEX($T$5:$AJ$1204,MATCH(41,$S$5:$S$1204,0),17))} | S45: =S44+IF(M1_Administrativo!A49="",0,1) -> 0 | T45: =IF(M1_Administrativo!A49="","",IF(M1_Administrativo!A49="","",M1_Administrativo!A49)) | U45: =IF(M1_Administrativo!A49="","",IF(M1_Administrativo!R49="","",M1_Administrativo!R49)) | V45: =IF(M1_Administrativo!A49="","",IF(M1_Administrativo!D49="","",M1_Administrativo!D49)) | W45: =IF(M1_Administrativo!A49="","",IF(M1_Administrativo!B49="","",M1_Administrativo!B49)) | X45: =IF(M1_Administrativo!A49="","",IF(M1_Administrativo!C49="","",M1_Administrativo!C49)) | Y45: =IF(M1_Administrativo!A49="","",IF(M1_Administrativo!E49="","",M1_Administrativo!E49)) | Z45: =IF(M1_Administrativo!A49="","",IF(M1_Administrativo!F49="","",M1_Administrativo!F49)) | AA45: =IF(M1_Administrativo!A49="","","M1 Administrativo") | AB45: =IF(M1_Administrativo!A49="","",IF(M1_Administrativo!G49="","",M1_Administrativo!G49)) | AC45: =IF(M1_Administrativo!A49="","",IF(M1_Administrativo!M49="","",M1_Administrativo!M49)) | AD45: =IF(M1_Administrativo!A49="","","RA") | AE45: =IF(M1_Administrativo!A49="","",IF(M1_Administrativo!O49="","",M1_Administrativo!O49)) | AF45: =IF(M1_Administrativo!A49="","",IF(M1_Administrativo!P49="","",M1_Administrativo!P49)) | AG45: =IF(M1_Administrativo!A49="","",IF(M1_Administrativo!Q49="","",M1_Administrativo!Q49)) | AH45: =IF(M1_Administrativo!A49="","","") | AI45: =IF(M1_Administrativo!A49="","","M1_Administrativo!49") | AJ45: =IF(M1_Administrativo!A49="","",IF(M1_Administrativo!M49="","Pendiente de resultado","Disponible"))
A46: {=IF(42>$S$1204,"",INDEX($T$5:$AJ$1204,MATCH(42,$S$5:$S$1204,0),1))} | B46: {=IF(42>$S$1204,"",INDEX($T$5:$AJ$1204,MATCH(42,$S$5:$S$1204,0),2))} | C46: {=IF(42>$S$1204,"",INDEX($T$5:$AJ$1204,MATCH(42,$S$5:$S$1204,0),3))} | D46: {=IF(42>$S$1204,"",INDEX($T$5:$AJ$1204,MATCH(42,$S$5:$S$1204,0),4))} | E46: {=IF(42>$S$1204,"",INDEX($T$5:$AJ$1204,MATCH(42,$S$5:$S$1204,0),5))} | F46: {=IF(42>$S$1204,"",INDEX($T$5:$AJ$1204,MATCH(42,$S$5:$S$1204,0),6))} | G46: {=IF(42>$S$1204,"",INDEX($T$5:$AJ$1204,MATCH(42,$S$5:$S$1204,0),7))} | H46: {=IF(42>$S$1204,"",INDEX($T$5:$AJ$1204,MATCH(42,$S$5:$S$1204,0),8))} | I46: {=IF(42>$S$1204,"",INDEX($T$5:$AJ$1204,MATCH(42,$S$5:$S$1204,0),9))} | J46: {=IF(42>$S$1204,"",INDEX($T$5:$AJ$1204,MATCH(42,$S$5:$S$1204,0),10))} | K46: {=IF(42>$S$1204,"",INDEX($T$5:$AJ$1204,MATCH(42,$S$5:$S$1204,0),11))} | L46: {=IF(42>$S$1204,"",INDEX($T$5:$AJ$1204,MATCH(42,$S$5:$S$1204,0),12))} | M46: {=IF(42>$S$1204,"",INDEX($T$5:$AJ$1204,MATCH(42,$S$5:$S$1204,0),13))} | N46: {=IF(42>$S$1204,"",INDEX($T$5:$AJ$1204,MATCH(42,$S$5:$S$1204,0),14))} | O46: {=IF(42>$S$1204,"",INDEX($T$5:$AJ$1204,MATCH(42,$S$5:$S$1204,0),15))} | P46: {=IF(42>$S$1204,"",INDEX($T$5:$AJ$1204,MATCH(42,$S$5:$S$1204,0),16))} | Q46: {=IF(42>$S$1204,"",INDEX($T$5:$AJ$1204,MATCH(42,$S$5:$S$1204,0),17))} | S46: =S45+IF(M1_Administrativo!A50="",0,1) -> 0 | T46: =IF(M1_Administrativo!A50="","",IF(M1_Administrativo!A50="","",M1_Administrativo!A50)) | U46: =IF(M1_Administrativo!A50="","",IF(M1_Administrativo!R50="","",M1_Administrativo!R50)) | V46: =IF(M1_Administrativo!A50="","",IF(M1_Administrativo!D50="","",M1_Administrativo!D50)) | W46: =IF(M1_Administrativo!A50="","",IF(M1_Administrativo!B50="","",M1_Administrativo!B50)) | X46: =IF(M1_Administrativo!A50="","",IF(M1_Administrativo!C50="","",M1_Administrativo!C50)) | Y46: =IF(M1_Administrativo!A50="","",IF(M1_Administrativo!E50="","",M1_Administrativo!E50)) | Z46: =IF(M1_Administrativo!A50="","",IF(M1_Administrativo!F50="","",M1_Administrativo!F50)) | AA46: =IF(M1_Administrativo!A50="","","M1 Administrativo") | AB46: =IF(M1_Administrativo!A50="","",IF(M1_Administrativo!G50="","",M1_Administrativo!G50)) | AC46: =IF(M1_Administrativo!A50="","",IF(M1_Administrativo!M50="","",M1_Administrativo!M50)) | AD46: =IF(M1_Administrativo!A50="","","RA") | AE46: =IF(M1_Administrativo!A50="","",IF(M1_Administrativo!O50="","",M1_Administrativo!O50)) | AF46: =IF(M1_Administrativo!A50="","",IF(M1_Administrativo!P50="","",M1_Administrativo!P50)) | AG46: =IF(M1_Administrativo!A50="","",IF(M1_Administrativo!Q50="","",M1_Administrativo!Q50)) | AH46: =IF(M1_Administrativo!A50="","","") | AI46: =IF(M1_Administrativo!A50="","","M1_Administrativo!50") | AJ46: =IF(M1_Administrativo!A50="","",IF(M1_Administrativo!M50="","Pendiente de resultado","Disponible"))
A47: {=IF(43>$S$1204,"",INDEX($T$5:$AJ$1204,MATCH(43,$S$5:$S$1204,0),1))} | B47: {=IF(43>$S$1204,"",INDEX($T$5:$AJ$1204,MATCH(43,$S$5:$S$1204,0),2))} | C47: {=IF(43>$S$1204,"",INDEX($T$5:$AJ$1204,MATCH(43,$S$5:$S$1204,0),3))} | D47: {=IF(43>$S$1204,"",INDEX($T$5:$AJ$1204,MATCH(43,$S$5:$S$1204,0),4))} | E47: {=IF(43>$S$1204,"",INDEX($T$5:$AJ$1204,MATCH(43,$S$5:$S$1204,0),5))} | F47: {=IF(43>$S$1204,"",INDEX($T$5:$AJ$1204,MATCH(43,$S$5:$S$1204,0),6))} | G47: {=IF(43>$S$1204,"",INDEX($T$5:$AJ$1204,MATCH(43,$S$5:$S$1204,0),7))} | H47: {=IF(43>$S$1204,"",INDEX($T$5:$AJ$1204,MATCH(43,$S$5:$S$1204,0),8))} | I47: {=IF(43>$S$1204,"",INDEX($T$5:$AJ$1204,MATCH(43,$S$5:$S$1204,0),9))} | J47: {=IF(43>$S$1204,"",INDEX($T$5:$AJ$1204,MATCH(43,$S$5:$S$1204,0),10))} | K47: {=IF(43>$S$1204,"",INDEX($T$5:$AJ$1204,MATCH(43,$S$5:$S$1204,0),11))} | L47: {=IF(43>$S$1204,"",INDEX($T$5:$AJ$1204,MATCH(43,$S$5:$S$1204,0),12))} | M47: {=IF(43>$S$1204,"",INDEX($T$5:$AJ$1204,MATCH(43,$S$5:$S$1204,0),13))} | N47: {=IF(43>$S$1204,"",INDEX($T$5:$AJ$1204,MATCH(43,$S$5:$S$1204,0),14))} | O47: {=IF(43>$S$1204,"",INDEX($T$5:$AJ$1204,MATCH(43,$S$5:$S$1204,0),15))} | P47: {=IF(43>$S$1204,"",INDEX($T$5:$AJ$1204,MATCH(43,$S$5:$S$1204,0),16))} | Q47: {=IF(43>$S$1204,"",INDEX($T$5:$AJ$1204,MATCH(43,$S$5:$S$1204,0),17))} | S47: =S46+IF(M1_Administrativo!A51="",0,1) -> 0 | T47: =IF(M1_Administrativo!A51="","",IF(M1_Administrativo!A51="","",M1_Administrativo!A51)) | U47: =IF(M1_Administrativo!A51="","",IF(M1_Administrativo!R51="","",M1_Administrativo!R51)) | V47: =IF(M1_Administrativo!A51="","",IF(M1_Administrativo!D51="","",M1_Administrativo!D51)) | W47: =IF(M1_Administrativo!A51="","",IF(M1_Administrativo!B51="","",M1_Administrativo!B51)) | X47: =IF(M1_Administrativo!A51="","",IF(M1_Administrativo!C51="","",M1_Administrativo!C51)) | Y47: =IF(M1_Administrativo!A51="","",IF(M1_Administrativo!E51="","",M1_Administrativo!E51)) | Z47: =IF(M1_Administrativo!A51="","",IF(M1_Administrativo!F51="","",M1_Administrativo!F51)) | AA47: =IF(M1_Administrativo!A51="","","M1 Administrativo") | AB47: =IF(M1_Administrativo!A51="","",IF(M1_Administrativo!G51="","",M1_Administrativo!G51)) | AC47: =IF(M1_Administrativo!A51="","",IF(M1_Administrativo!M51="","",M1_Administrativo!M51)) | AD47: =IF(M1_Administrativo!A51="","","RA") | AE47: =IF(M1_Administrativo!A51="","",IF(M1_Administrativo!O51="","",M1_Administrativo!O51)) | AF47: =IF(M1_Administrativo!A51="","",IF(M1_Administrativo!P51="","",M1_Administrativo!P51)) | AG47: =IF(M1_Administrativo!A51="","",IF(M1_Administrativo!Q51="","",M1_Administrativo!Q51)) | AH47: =IF(M1_Administrativo!A51="","","") | AI47: =IF(M1_Administrativo!A51="","","M1_Administrativo!51") | AJ47: =IF(M1_Administrativo!A51="","",IF(M1_Administrativo!M51="","Pendiente de resultado","Disponible"))
A48: {=IF(44>$S$1204,"",INDEX($T$5:$AJ$1204,MATCH(44,$S$5:$S$1204,0),1))} | B48: {=IF(44>$S$1204,"",INDEX($T$5:$AJ$1204,MATCH(44,$S$5:$S$1204,0),2))} | C48: {=IF(44>$S$1204,"",INDEX($T$5:$AJ$1204,MATCH(44,$S$5:$S$1204,0),3))} | D48: {=IF(44>$S$1204,"",INDEX($T$5:$AJ$1204,MATCH(44,$S$5:$S$1204,0),4))} | E48: {=IF(44>$S$1204,"",INDEX($T$5:$AJ$1204,MATCH(44,$S$5:$S$1204,0),5))} | F48: {=IF(44>$S$1204,"",INDEX($T$5:$AJ$1204,MATCH(44,$S$5:$S$1204,0),6))} | G48: {=IF(44>$S$1204,"",INDEX($T$5:$AJ$1204,MATCH(44,$S$5:$S$1204,0),7))} | H48: {=IF(44>$S$1204,"",INDEX($T$5:$AJ$1204,MATCH(44,$S$5:$S$1204,0),8))} | I48: {=IF(44>$S$1204,"",INDEX($T$5:$AJ$1204,MATCH(44,$S$5:$S$1204,0),9))} | J48: {=IF(44>$S$1204,"",INDEX($T$5:$AJ$1204,MATCH(44,$S$5:$S$1204,0),10))} | K48: {=IF(44>$S$1204,"",INDEX($T$5:$AJ$1204,MATCH(44,$S$5:$S$1204,0),11))} | L48: {=IF(44>$S$1204,"",INDEX($T$5:$AJ$1204,MATCH(44,$S$5:$S$1204,0),12))} | M48: {=IF(44>$S$1204,"",INDEX($T$5:$AJ$1204,MATCH(44,$S$5:$S$1204,0),13))} | N48: {=IF(44>$S$1204,"",INDEX($T$5:$AJ$1204,MATCH(44,$S$5:$S$1204,0),14))} | O48: {=IF(44>$S$1204,"",INDEX($T$5:$AJ$1204,MATCH(44,$S$5:$S$1204,0),15))} | P48: {=IF(44>$S$1204,"",INDEX($T$5:$AJ$1204,MATCH(44,$S$5:$S$1204,0),16))} | Q48: {=IF(44>$S$1204,"",INDEX($T$5:$AJ$1204,MATCH(44,$S$5:$S$1204,0),17))} | S48: =S47+IF(M1_Administrativo!A52="",0,1) -> 0 | T48: =IF(M1_Administrativo!A52="","",IF(M1_Administrativo!A52="","",M1_Administrativo!A52)) | U48: =IF(M1_Administrativo!A52="","",IF(M1_Administrativo!R52="","",M1_Administrativo!R52)) | V48: =IF(M1_Administrativo!A52="","",IF(M1_Administrativo!D52="","",M1_Administrativo!D52)) | W48: =IF(M1_Administrativo!A52="","",IF(M1_Administrativo!B52="","",M1_Administrativo!B52)) | X48: =IF(M1_Administrativo!A52="","",IF(M1_Administrativo!C52="","",M1_Administrativo!C52)) | Y48: =IF(M1_Administrativo!A52="","",IF(M1_Administrativo!E52="","",M1_Administrativo!E52)) | Z48: =IF(M1_Administrativo!A52="","",IF(M1_Administrativo!F52="","",M1_Administrativo!F52)) | AA48: =IF(M1_Administrativo!A52="","","M1 Administrativo") | AB48: =IF(M1_Administrativo!A52="","",IF(M1_Administrativo!G52="","",M1_Administrativo!G52)) | AC48: =IF(M1_Administrativo!A52="","",IF(M1_Administrativo!M52="","",M1_Administrativo!M52)) | AD48: =IF(M1_Administrativo!A52="","","RA") | AE48: =IF(M1_Administrativo!A52="","",IF(M1_Administrativo!O52="","",M1_Administrativo!O52)) | AF48: =IF(M1_Administrativo!A52="","",IF(M1_Administrativo!P52="","",M1_Administrativo!P52)) | AG48: =IF(M1_Administrativo!A52="","",IF(M1_Administrativo!Q52="","",M1_Administrativo!Q52)) | AH48: =IF(M1_Administrativo!A52="","","") | AI48: =IF(M1_Administrativo!A52="","","M1_Administrativo!52") | AJ48: =IF(M1_Administrativo!A52="","",IF(M1_Administrativo!M52="","Pendiente de resultado","Disponible"))
A49: {=IF(45>$S$1204,"",INDEX($T$5:$AJ$1204,MATCH(45,$S$5:$S$1204,0),1))} | B49: {=IF(45>$S$1204,"",INDEX($T$5:$AJ$1204,MATCH(45,$S$5:$S$1204,0),2))} | C49: {=IF(45>$S$1204,"",INDEX($T$5:$AJ$1204,MATCH(45,$S$5:$S$1204,0),3))} | D49: {=IF(45>$S$1204,"",INDEX($T$5:$AJ$1204,MATCH(45,$S$5:$S$1204,0),4))} | E49: {=IF(45>$S$1204,"",INDEX($T$5:$AJ$1204,MATCH(45,$S$5:$S$1204,0),5))} | F49: {=IF(45>$S$1204,"",INDEX($T$5:$AJ$1204,MATCH(45,$S$5:$S$1204,0),6))} | G49: {=IF(45>$S$1204,"",INDEX($T$5:$AJ$1204,MATCH(45,$S$5:$S$1204,0),7))} | H49: {=IF(45>$S$1204,"",INDEX($T$5:$AJ$1204,MATCH(45,$S$5:$S$1204,0),8))} | I49: {=IF(45>$S$1204,"",INDEX($T$5:$AJ$1204,MATCH(45,$S$5:$S$1204,0),9))} | J49: {=IF(45>$S$1204,"",INDEX($T$5:$AJ$1204,MATCH(45,$S$5:$S$1204,0),10))} | K49: {=IF(45>$S$1204,"",INDEX($T$5:$AJ$1204,MATCH(45,$S$5:$S$1204,0),11))} | L49: {=IF(45>$S$1204,"",INDEX($T$5:$AJ$1204,MATCH(45,$S$5:$S$1204,0),12))} | M49: {=IF(45>$S$1204,"",INDEX($T$5:$AJ$1204,MATCH(45,$S$5:$S$1204,0),13))} | N49: {=IF(45>$S$1204,"",INDEX($T$5:$AJ$1204,MATCH(45,$S$5:$S$1204,0),14))} | O49: {=IF(45>$S$1204,"",INDEX($T$5:$AJ$1204,MATCH(45,$S$5:$S$1204,0),15))} | P49: {=IF(45>$S$1204,"",INDEX($T$5:$AJ$1204,MATCH(45,$S$5:$S$1204,0),16))} | Q49: {=IF(45>$S$1204,"",INDEX($T$5:$AJ$1204,MATCH(45,$S$5:$S$1204,0),17))} | S49: =S48+IF(M1_Administrativo!A53="",0,1) -> 0 | T49: =IF(M1_Administrativo!A53="","",IF(M1_Administrativo!A53="","",M1_Administrativo!A53)) | U49: =IF(M1_Administrativo!A53="","",IF(M1_Administrativo!R53="","",M1_Administrativo!R53)) | V49: =IF(M1_Administrativo!A53="","",IF(M1_Administrativo!D53="","",M1_Administrativo!D53)) | W49: =IF(M1_Administrativo!A53="","",IF(M1_Administrativo!B53="","",M1_Administrativo!B53)) | X49: =IF(M1_Administrativo!A53="","",IF(M1_Administrativo!C53="","",M1_Administrativo!C53)) | Y49: =IF(M1_Administrativo!A53="","",IF(M1_Administrativo!E53="","",M1_Administrativo!E53)) | Z49: =IF(M1_Administrativo!A53="","",IF(M1_Administrativo!F53="","",M1_Administrativo!F53)) | AA49: =IF(M1_Administrativo!A53="","","M1 Administrativo") | AB49: =IF(M1_Administrativo!A53="","",IF(M1_Administrativo!G53="","",M1_Administrativo!G53)) | AC49: =IF(M1_Administrativo!A53="","",IF(M1_Administrativo!M53="","",M1_Administrativo!M53)) | AD49: =IF(M1_Administrativo!A53="","","RA") | AE49: =IF(M1_Administrativo!A53="","",IF(M1_Administrativo!O53="","",M1_Administrativo!O53)) | AF49: =IF(M1_Administrativo!A53="","",IF(M1_Administrativo!P53="","",M1_Administrativo!P53)) | AG49: =IF(M1_Administrativo!A53="","",IF(M1_Administrativo!Q53="","",M1_Administrativo!Q53)) | AH49: =IF(M1_Administrativo!A53="","","") | AI49: =IF(M1_Administrativo!A53="","","M1_Administrativo!53") | AJ49: =IF(M1_Administrativo!A53="","",IF(M1_Administrativo!M53="","Pendiente de resultado","Disponible"))
A50: {=IF(46>$S$1204,"",INDEX($T$5:$AJ$1204,MATCH(46,$S$5:$S$1204,0),1))} | B50: {=IF(46>$S$1204,"",INDEX($T$5:$AJ$1204,MATCH(46,$S$5:$S$1204,0),2))} | C50: {=IF(46>$S$1204,"",INDEX($T$5:$AJ$1204,MATCH(46,$S$5:$S$1204,0),3))} | D50: {=IF(46>$S$1204,"",INDEX($T$5:$AJ$1204,MATCH(46,$S$5:$S$1204,0),4))} | E50: {=IF(46>$S$1204,"",INDEX($T$5:$AJ$1204,MATCH(46,$S$5:$S$1204,0),5))} | F50: {=IF(46>$S$1204,"",INDEX($T$5:$AJ$1204,MATCH(46,$S$5:$S$1204,0),6))} | G50: {=IF(46>$S$1204,"",INDEX($T$5:$AJ$1204,MATCH(46,$S$5:$S$1204,0),7))} | H50: {=IF(46>$S$1204,"",INDEX($T$5:$AJ$1204,MATCH(46,$S$5:$S$1204,0),8))} | I50: {=IF(46>$S$1204,"",INDEX($T$5:$AJ$1204,MATCH(46,$S$5:$S$1204,0),9))} | J50: {=IF(46>$S$1204,"",INDEX($T$5:$AJ$1204,MATCH(46,$S$5:$S$1204,0),10))} | K50: {=IF(46>$S$1204,"",INDEX($T$5:$AJ$1204,MATCH(46,$S$5:$S$1204,0),11))} | L50: {=IF(46>$S$1204,"",INDEX($T$5:$AJ$1204,MATCH(46,$S$5:$S$1204,0),12))} | M50: {=IF(46>$S$1204,"",INDEX($T$5:$AJ$1204,MATCH(46,$S$5:$S$1204,0),13))} | N50: {=IF(46>$S$1204,"",INDEX($T$5:$AJ$1204,MATCH(46,$S$5:$S$1204,0),14))} | O50: {=IF(46>$S$1204,"",INDEX($T$5:$AJ$1204,MATCH(46,$S$5:$S$1204,0),15))} | P50: {=IF(46>$S$1204,"",INDEX($T$5:$AJ$1204,MATCH(46,$S$5:$S$1204,0),16))} | Q50: {=IF(46>$S$1204,"",INDEX($T$5:$AJ$1204,MATCH(46,$S$5:$S$1204,0),17))} | S50: =S49+IF(M1_Administrativo!A54="",0,1) -> 0 | T50: =IF(M1_Administrativo!A54="","",IF(M1_Administrativo!A54="","",M1_Administrativo!A54)) | U50: =IF(M1_Administrativo!A54="","",IF(M1_Administrativo!R54="","",M1_Administrativo!R54)) | V50: =IF(M1_Administrativo!A54="","",IF(M1_Administrativo!D54="","",M1_Administrativo!D54)) | W50: =IF(M1_Administrativo!A54="","",IF(M1_Administrativo!B54="","",M1_Administrativo!B54)) | X50: =IF(M1_Administrativo!A54="","",IF(M1_Administrativo!C54="","",M1_Administrativo!C54)) | Y50: =IF(M1_Administrativo!A54="","",IF(M1_Administrativo!E54="","",M1_Administrativo!E54)) | Z50: =IF(M1_Administrativo!A54="","",IF(M1_Administrativo!F54="","",M1_Administrativo!F54)) | AA50: =IF(M1_Administrativo!A54="","","M1 Administrativo") | AB50: =IF(M1_Administrativo!A54="","",IF(M1_Administrativo!G54="","",M1_Administrativo!G54)) | AC50: =IF(M1_Administrativo!A54="","",IF(M1_Administrativo!M54="","",M1_Administrativo!M54)) | AD50: =IF(M1_Administrativo!A54="","","RA") | AE50: =IF(M1_Administrativo!A54="","",IF(M1_Administrativo!O54="","",M1_Administrativo!O54)) | AF50: =IF(M1_Administrativo!A54="","",IF(M1_Administrativo!P54="","",M1_Administrativo!P54)) | AG50: =IF(M1_Administrativo!A54="","",IF(M1_Administrativo!Q54="","",M1_Administrativo!Q54)) | AH50: =IF(M1_Administrativo!A54="","","") | AI50: =IF(M1_Administrativo!A54="","","M1_Administrativo!54") | AJ50: =IF(M1_Administrativo!A54="","",IF(M1_Administrativo!M54="","Pendiente de resultado","Disponible"))
A51: {=IF(47>$S$1204,"",INDEX($T$5:$AJ$1204,MATCH(47,$S$5:$S$1204,0),1))} | B51: {=IF(47>$S$1204,"",INDEX($T$5:$AJ$1204,MATCH(47,$S$5:$S$1204,0),2))} | C51: {=IF(47>$S$1204,"",INDEX($T$5:$AJ$1204,MATCH(47,$S$5:$S$1204,0),3))} | D51: {=IF(47>$S$1204,"",INDEX($T$5:$AJ$1204,MATCH(47,$S$5:$S$1204,0),4))} | E51: {=IF(47>$S$1204,"",INDEX($T$5:$AJ$1204,MATCH(47,$S$5:$S$1204,0),5))} | F51: {=IF(47>$S$1204,"",INDEX($T$5:$AJ$1204,MATCH(47,$S$5:$S$1204,0),6))} | G51: {=IF(47>$S$1204,"",INDEX($T$5:$AJ$1204,MATCH(47,$S$5:$S$1204,0),7))} | H51: {=IF(47>$S$1204,"",INDEX($T$5:$AJ$1204,MATCH(47,$S$5:$S$1204,0),8))} | I51: {=IF(47>$S$1204,"",INDEX($T$5:$AJ$1204,MATCH(47,$S$5:$S$1204,0),9))} | J51: {=IF(47>$S$1204,"",INDEX($T$5:$AJ$1204,MATCH(47,$S$5:$S$1204,0),10))} | K51: {=IF(47>$S$1204,"",INDEX($T$5:$AJ$1204,MATCH(47,$S$5:$S$1204,0),11))} | L51: {=IF(47>$S$1204,"",INDEX($T$5:$AJ$1204,MATCH(47,$S$5:$S$1204,0),12))} | M51: {=IF(47>$S$1204,"",INDEX($T$5:$AJ$1204,MATCH(47,$S$5:$S$1204,0),13))} | N51: {=IF(47>$S$1204,"",INDEX($T$5:$AJ$1204,MATCH(47,$S$5:$S$1204,0),14))} | O51: {=IF(47>$S$1204,"",INDEX($T$5:$AJ$1204,MATCH(47,$S$5:$S$1204,0),15))} | P51: {=IF(47>$S$1204,"",INDEX($T$5:$AJ$1204,MATCH(47,$S$5:$S$1204,0),16))} | Q51: {=IF(47>$S$1204,"",INDEX($T$5:$AJ$1204,MATCH(47,$S$5:$S$1204,0),17))} | S51: =S50+IF(M1_Administrativo!A55="",0,1) -> 0 | T51: =IF(M1_Administrativo!A55="","",IF(M1_Administrativo!A55="","",M1_Administrativo!A55)) | U51: =IF(M1_Administrativo!A55="","",IF(M1_Administrativo!R55="","",M1_Administrativo!R55)) | V51: =IF(M1_Administrativo!A55="","",IF(M1_Administrativo!D55="","",M1_Administrativo!D55)) | W51: =IF(M1_Administrativo!A55="","",IF(M1_Administrativo!B55="","",M1_Administrativo!B55)) | X51: =IF(M1_Administrativo!A55="","",IF(M1_Administrativo!C55="","",M1_Administrativo!C55)) | Y51: =IF(M1_Administrativo!A55="","",IF(M1_Administrativo!E55="","",M1_Administrativo!E55)) | Z51: =IF(M1_Administrativo!A55="","",IF(M1_Administrativo!F55="","",M1_Administrativo!F55)) | AA51: =IF(M1_Administrativo!A55="","","M1 Administrativo") | AB51: =IF(M1_Administrativo!A55="","",IF(M1_Administrativo!G55="","",M1_Administrativo!G55)) | AC51: =IF(M1_Administrativo!A55="","",IF(M1_Administrativo!M55="","",M1_Administrativo!M55)) | AD51: =IF(M1_Administrativo!A55="","","RA") | AE51: =IF(M1_Administrativo!A55="","",IF(M1_Administrativo!O55="","",M1_Administrativo!O55)) | AF51: =IF(M1_Administrativo!A55="","",IF(M1_Administrativo!P55="","",M1_Administrativo!P55)) | AG51: =IF(M1_Administrativo!A55="","",IF(M1_Administrativo!Q55="","",M1_Administrativo!Q55)) | AH51: =IF(M1_Administrativo!A55="","","") | AI51: =IF(M1_Administrativo!A55="","","M1_Administrativo!55") | AJ51: =IF(M1_Administrativo!A55="","",IF(M1_Administrativo!M55="","Pendiente de resultado","Disponible"))
A52: {=IF(48>$S$1204,"",INDEX($T$5:$AJ$1204,MATCH(48,$S$5:$S$1204,0),1))} | B52: {=IF(48>$S$1204,"",INDEX($T$5:$AJ$1204,MATCH(48,$S$5:$S$1204,0),2))} | C52: {=IF(48>$S$1204,"",INDEX($T$5:$AJ$1204,MATCH(48,$S$5:$S$1204,0),3))} | D52: {=IF(48>$S$1204,"",INDEX($T$5:$AJ$1204,MATCH(48,$S$5:$S$1204,0),4))} | E52: {=IF(48>$S$1204,"",INDEX($T$5:$AJ$1204,MATCH(48,$S$5:$S$1204,0),5))} | F52: {=IF(48>$S$1204,"",INDEX($T$5:$AJ$1204,MATCH(48,$S$5:$S$1204,0),6))} | G52: {=IF(48>$S$1204,"",INDEX($T$5:$AJ$1204,MATCH(48,$S$5:$S$1204,0),7))} | H52: {=IF(48>$S$1204,"",INDEX($T$5:$AJ$1204,MATCH(48,$S$5:$S$1204,0),8))} | I52: {=IF(48>$S$1204,"",INDEX($T$5:$AJ$1204,MATCH(48,$S$5:$S$1204,0),9))} | J52: {=IF(48>$S$1204,"",INDEX($T$5:$AJ$1204,MATCH(48,$S$5:$S$1204,0),10))} | K52: {=IF(48>$S$1204,"",INDEX($T$5:$AJ$1204,MATCH(48,$S$5:$S$1204,0),11))} | L52: {=IF(48>$S$1204,"",INDEX($T$5:$AJ$1204,MATCH(48,$S$5:$S$1204,0),12))} | M52: {=IF(48>$S$1204,"",INDEX($T$5:$AJ$1204,MATCH(48,$S$5:$S$1204,0),13))} | N52: {=IF(48>$S$1204,"",INDEX($T$5:$AJ$1204,MATCH(48,$S$5:$S$1204,0),14))} | O52: {=IF(48>$S$1204,"",INDEX($T$5:$AJ$1204,MATCH(48,$S$5:$S$1204,0),15))} | P52: {=IF(48>$S$1204,"",INDEX($T$5:$AJ$1204,MATCH(48,$S$5:$S$1204,0),16))} | Q52: {=IF(48>$S$1204,"",INDEX($T$5:$AJ$1204,MATCH(48,$S$5:$S$1204,0),17))} | S52: =S51+IF(M1_Administrativo!A56="",0,1) -> 0 | T52: =IF(M1_Administrativo!A56="","",IF(M1_Administrativo!A56="","",M1_Administrativo!A56)) | U52: =IF(M1_Administrativo!A56="","",IF(M1_Administrativo!R56="","",M1_Administrativo!R56)) | V52: =IF(M1_Administrativo!A56="","",IF(M1_Administrativo!D56="","",M1_Administrativo!D56)) | W52: =IF(M1_Administrativo!A56="","",IF(M1_Administrativo!B56="","",M1_Administrativo!B56)) | X52: =IF(M1_Administrativo!A56="","",IF(M1_Administrativo!C56="","",M1_Administrativo!C56)) | Y52: =IF(M1_Administrativo!A56="","",IF(M1_Administrativo!E56="","",M1_Administrativo!E56)) | Z52: =IF(M1_Administrativo!A56="","",IF(M1_Administrativo!F56="","",M1_Administrativo!F56)) | AA52: =IF(M1_Administrativo!A56="","","M1 Administrativo") | AB52: =IF(M1_Administrativo!A56="","",IF(M1_Administrativo!G56="","",M1_Administrativo!G56)) | AC52: =IF(M1_Administrativo!A56="","",IF(M1_Administrativo!M56="","",M1_Administrativo!M56)) | AD52: =IF(M1_Administrativo!A56="","","RA") | AE52: =IF(M1_Administrativo!A56="","",IF(M1_Administrativo!O56="","",M1_Administrativo!O56)) | AF52: =IF(M1_Administrativo!A56="","",IF(M1_Administrativo!P56="","",M1_Administrativo!P56)) | AG52: =IF(M1_Administrativo!A56="","",IF(M1_Administrativo!Q56="","",M1_Administrativo!Q56)) | AH52: =IF(M1_Administrativo!A56="","","") | AI52: =IF(M1_Administrativo!A56="","","M1_Administrativo!56") | AJ52: =IF(M1_Administrativo!A56="","",IF(M1_Administrativo!M56="","Pendiente de resultado","Disponible"))
A53: {=IF(49>$S$1204,"",INDEX($T$5:$AJ$1204,MATCH(49,$S$5:$S$1204,0),1))} | B53: {=IF(49>$S$1204,"",INDEX($T$5:$AJ$1204,MATCH(49,$S$5:$S$1204,0),2))} | C53: {=IF(49>$S$1204,"",INDEX($T$5:$AJ$1204,MATCH(49,$S$5:$S$1204,0),3))} | D53: {=IF(49>$S$1204,"",INDEX($T$5:$AJ$1204,MATCH(49,$S$5:$S$1204,0),4))} | E53: {=IF(49>$S$1204,"",INDEX($T$5:$AJ$1204,MATCH(49,$S$5:$S$1204,0),5))} | F53: {=IF(49>$S$1204,"",INDEX($T$5:$AJ$1204,MATCH(49,$S$5:$S$1204,0),6))} | G53: {=IF(49>$S$1204,"",INDEX($T$5:$AJ$1204,MATCH(49,$S$5:$S$1204,0),7))} | H53: {=IF(49>$S$1204,"",INDEX($T$5:$AJ$1204,MATCH(49,$S$5:$S$1204,0),8))} | I53: {=IF(49>$S$1204,"",INDEX($T$5:$AJ$1204,MATCH(49,$S$5:$S$1204,0),9))} | J53: {=IF(49>$S$1204,"",INDEX($T$5:$AJ$1204,MATCH(49,$S$5:$S$1204,0),10))} | K53: {=IF(49>$S$1204,"",INDEX($T$5:$AJ$1204,MATCH(49,$S$5:$S$1204,0),11))} | L53: {=IF(49>$S$1204,"",INDEX($T$5:$AJ$1204,MATCH(49,$S$5:$S$1204,0),12))} | M53: {=IF(49>$S$1204,"",INDEX($T$5:$AJ$1204,MATCH(49,$S$5:$S$1204,0),13))} | N53: {=IF(49>$S$1204,"",INDEX($T$5:$AJ$1204,MATCH(49,$S$5:$S$1204,0),14))} | O53: {=IF(49>$S$1204,"",INDEX($T$5:$AJ$1204,MATCH(49,$S$5:$S$1204,0),15))} | P53: {=IF(49>$S$1204,"",INDEX($T$5:$AJ$1204,MATCH(49,$S$5:$S$1204,0),16))} | Q53: {=IF(49>$S$1204,"",INDEX($T$5:$AJ$1204,MATCH(49,$S$5:$S$1204,0),17))} | S53: =S52+IF(M1_Administrativo!A57="",0,1) -> 0 | T53: =IF(M1_Administrativo!A57="","",IF(M1_Administrativo!A57="","",M1_Administrativo!A57)) | U53: =IF(M1_Administrativo!A57="","",IF(M1_Administrativo!R57="","",M1_Administrativo!R57)) | V53: =IF(M1_Administrativo!A57="","",IF(M1_Administrativo!D57="","",M1_Administrativo!D57)) | W53: =IF(M1_Administrativo!A57="","",IF(M1_Administrativo!B57="","",M1_Administrativo!B57)) | X53: =IF(M1_Administrativo!A57="","",IF(M1_Administrativo!C57="","",M1_Administrativo!C57)) | Y53: =IF(M1_Administrativo!A57="","",IF(M1_Administrativo!E57="","",M1_Administrativo!E57)) | Z53: =IF(M1_Administrativo!A57="","",IF(M1_Administrativo!F57="","",M1_Administrativo!F57)) | AA53: =IF(M1_Administrativo!A57="","","M1 Administrativo") | AB53: =IF(M1_Administrativo!A57="","",IF(M1_Administrativo!G57="","",M1_Administrativo!G57)) | AC53: =IF(M1_Administrativo!A57="","",IF(M1_Administrativo!M57="","",M1_Administrativo!M57)) | AD53: =IF(M1_Administrativo!A57="","","RA") | AE53: =IF(M1_Administrativo!A57="","",IF(M1_Administrativo!O57="","",M1_Administrativo!O57)) | AF53: =IF(M1_Administrativo!A57="","",IF(M1_Administrativo!P57="","",M1_Administrativo!P57)) | AG53: =IF(M1_Administrativo!A57="","",IF(M1_Administrativo!Q57="","",M1_Administrativo!Q57)) | AH53: =IF(M1_Administrativo!A57="","","") | AI53: =IF(M1_Administrativo!A57="","","M1_Administrativo!57") | AJ53: =IF(M1_Administrativo!A57="","",IF(M1_Administrativo!M57="","Pendiente de resultado","Disponible"))
A54: {=IF(50>$S$1204,"",INDEX($T$5:$AJ$1204,MATCH(50,$S$5:$S$1204,0),1))} | B54: {=IF(50>$S$1204,"",INDEX($T$5:$AJ$1204,MATCH(50,$S$5:$S$1204,0),2))} | C54: {=IF(50>$S$1204,"",INDEX($T$5:$AJ$1204,MATCH(50,$S$5:$S$1204,0),3))} | D54: {=IF(50>$S$1204,"",INDEX($T$5:$AJ$1204,MATCH(50,$S$5:$S$1204,0),4))} | E54: {=IF(50>$S$1204,"",INDEX($T$5:$AJ$1204,MATCH(50,$S$5:$S$1204,0),5))} | F54: {=IF(50>$S$1204,"",INDEX($T$5:$AJ$1204,MATCH(50,$S$5:$S$1204,0),6))} | G54: {=IF(50>$S$1204,"",INDEX($T$5:$AJ$1204,MATCH(50,$S$5:$S$1204,0),7))} | H54: {=IF(50>$S$1204,"",INDEX($T$5:$AJ$1204,MATCH(50,$S$5:$S$1204,0),8))} | I54: {=IF(50>$S$1204,"",INDEX($T$5:$AJ$1204,MATCH(50,$S$5:$S$1204,0),9))} | J54: {=IF(50>$S$1204,"",INDEX($T$5:$AJ$1204,MATCH(50,$S$5:$S$1204,0),10))} | K54: {=IF(50>$S$1204,"",INDEX($T$5:$AJ$1204,MATCH(50,$S$5:$S$1204,0),11))} | L54: {=IF(50>$S$1204,"",INDEX($T$5:$AJ$1204,MATCH(50,$S$5:$S$1204,0),12))} | M54: {=IF(50>$S$1204,"",INDEX($T$5:$AJ$1204,MATCH(50,$S$5:$S$1204,0),13))} | N54: {=IF(50>$S$1204,"",INDEX($T$5:$AJ$1204,MATCH(50,$S$5:$S$1204,0),14))} | O54: {=IF(50>$S$1204,"",INDEX($T$5:$AJ$1204,MATCH(50,$S$5:$S$1204,0),15))} | P54: {=IF(50>$S$1204,"",INDEX($T$5:$AJ$1204,MATCH(50,$S$5:$S$1204,0),16))} | Q54: {=IF(50>$S$1204,"",INDEX($T$5:$AJ$1204,MATCH(50,$S$5:$S$1204,0),17))} | S54: =S53+IF(M1_Administrativo!A58="",0,1) -> 0 | T54: =IF(M1_Administrativo!A58="","",IF(M1_Administrativo!A58="","",M1_Administrativo!A58)) | U54: =IF(M1_Administrativo!A58="","",IF(M1_Administrativo!R58="","",M1_Administrativo!R58)) | V54: =IF(M1_Administrativo!A58="","",IF(M1_Administrativo!D58="","",M1_Administrativo!D58)) | W54: =IF(M1_Administrativo!A58="","",IF(M1_Administrativo!B58="","",M1_Administrativo!B58)) | X54: =IF(M1_Administrativo!A58="","",IF(M1_Administrativo!C58="","",M1_Administrativo!C58)) | Y54: =IF(M1_Administrativo!A58="","",IF(M1_Administrativo!E58="","",M1_Administrativo!E58)) | Z54: =IF(M1_Administrativo!A58="","",IF(M1_Administrativo!F58="","",M1_Administrativo!F58)) | AA54: =IF(M1_Administrativo!A58="","","M1 Administrativo") | AB54: =IF(M1_Administrativo!A58="","",IF(M1_Administrativo!G58="","",M1_Administrativo!G58)) | AC54: =IF(M1_Administrativo!A58="","",IF(M1_Administrativo!M58="","",M1_Administrativo!M58)) | AD54: =IF(M1_Administrativo!A58="","","RA") | AE54: =IF(M1_Administrativo!A58="","",IF(M1_Administrativo!O58="","",M1_Administrativo!O58)) | AF54: =IF(M1_Administrativo!A58="","",IF(M1_Administrativo!P58="","",M1_Administrativo!P58)) | AG54: =IF(M1_Administrativo!A58="","",IF(M1_Administrativo!Q58="","",M1_Administrativo!Q58)) | AH54: =IF(M1_Administrativo!A58="","","") | AI54: =IF(M1_Administrativo!A58="","","M1_Administrativo!58") | AJ54: =IF(M1_Administrativo!A58="","",IF(M1_Administrativo!M58="","Pendiente de resultado","Disponible"))
A55: {=IF(51>$S$1204,"",INDEX($T$5:$AJ$1204,MATCH(51,$S$5:$S$1204,0),1))} | B55: {=IF(51>$S$1204,"",INDEX($T$5:$AJ$1204,MATCH(51,$S$5:$S$1204,0),2))} | C55: {=IF(51>$S$1204,"",INDEX($T$5:$AJ$1204,MATCH(51,$S$5:$S$1204,0),3))} | D55: {=IF(51>$S$1204,"",INDEX($T$5:$AJ$1204,MATCH(51,$S$5:$S$1204,0),4))} | E55: {=IF(51>$S$1204,"",INDEX($T$5:$AJ$1204,MATCH(51,$S$5:$S$1204,0),5))} | F55: {=IF(51>$S$1204,"",INDEX($T$5:$AJ$1204,MATCH(51,$S$5:$S$1204,0),6))} | G55: {=IF(51>$S$1204,"",INDEX($T$5:$AJ$1204,MATCH(51,$S$5:$S$1204,0),7))} | H55: {=IF(51>$S$1204,"",INDEX($T$5:$AJ$1204,MATCH(51,$S$5:$S$1204,0),8))} | I55: {=IF(51>$S$1204,"",INDEX($T$5:$AJ$1204,MATCH(51,$S$5:$S$1204,0),9))} | J55: {=IF(51>$S$1204,"",INDEX($T$5:$AJ$1204,MATCH(51,$S$5:$S$1204,0),10))} | K55: {=IF(51>$S$1204,"",INDEX($T$5:$AJ$1204,MATCH(51,$S$5:$S$1204,0),11))} | L55: {=IF(51>$S$1204,"",INDEX($T$5:$AJ$1204,MATCH(51,$S$5:$S$1204,0),12))} | M55: {=IF(51>$S$1204,"",INDEX($T$5:$AJ$1204,MATCH(51,$S$5:$S$1204,0),13))} | N55: {=IF(51>$S$1204,"",INDEX($T$5:$AJ$1204,MATCH(51,$S$5:$S$1204,0),14))} | O55: {=IF(51>$S$1204,"",INDEX($T$5:$AJ$1204,MATCH(51,$S$5:$S$1204,0),15))} | P55: {=IF(51>$S$1204,"",INDEX($T$5:$AJ$1204,MATCH(51,$S$5:$S$1204,0),16))} | Q55: {=IF(51>$S$1204,"",INDEX($T$5:$AJ$1204,MATCH(51,$S$5:$S$1204,0),17))} | S55: =S54+IF(M1_Administrativo!A59="",0,1) -> 0 | T55: =IF(M1_Administrativo!A59="","",IF(M1_Administrativo!A59="","",M1_Administrativo!A59)) | U55: =IF(M1_Administrativo!A59="","",IF(M1_Administrativo!R59="","",M1_Administrativo!R59)) | V55: =IF(M1_Administrativo!A59="","",IF(M1_Administrativo!D59="","",M1_Administrativo!D59)) | W55: =IF(M1_Administrativo!A59="","",IF(M1_Administrativo!B59="","",M1_Administrativo!B59)) | X55: =IF(M1_Administrativo!A59="","",IF(M1_Administrativo!C59="","",M1_Administrativo!C59)) | Y55: =IF(M1_Administrativo!A59="","",IF(M1_Administrativo!E59="","",M1_Administrativo!E59)) | Z55: =IF(M1_Administrativo!A59="","",IF(M1_Administrativo!F59="","",M1_Administrativo!F59)) | AA55: =IF(M1_Administrativo!A59="","","M1 Administrativo") | AB55: =IF(M1_Administrativo!A59="","",IF(M1_Administrativo!G59="","",M1_Administrativo!G59)) | AC55: =IF(M1_Administrativo!A59="","",IF(M1_Administrativo!M59="","",M1_Administrativo!M59)) | AD55: =IF(M1_Administrativo!A59="","","RA") | AE55: =IF(M1_Administrativo!A59="","",IF(M1_Administrativo!O59="","",M1_Administrativo!O59)) | AF55: =IF(M1_Administrativo!A59="","",IF(M1_Administrativo!P59="","",M1_Administrativo!P59)) | AG55: =IF(M1_Administrativo!A59="","",IF(M1_Administrativo!Q59="","",M1_Administrativo!Q59)) | AH55: =IF(M1_Administrativo!A59="","","") | AI55: =IF(M1_Administrativo!A59="","","M1_Administrativo!59") | AJ55: =IF(M1_Administrativo!A59="","",IF(M1_Administrativo!M59="","Pendiente de resultado","Disponible"))
A56: {=IF(52>$S$1204,"",INDEX($T$5:$AJ$1204,MATCH(52,$S$5:$S$1204,0),1))} | B56: {=IF(52>$S$1204,"",INDEX($T$5:$AJ$1204,MATCH(52,$S$5:$S$1204,0),2))} | C56: {=IF(52>$S$1204,"",INDEX($T$5:$AJ$1204,MATCH(52,$S$5:$S$1204,0),3))} | D56: {=IF(52>$S$1204,"",INDEX($T$5:$AJ$1204,MATCH(52,$S$5:$S$1204,0),4))} | E56: {=IF(52>$S$1204,"",INDEX($T$5:$AJ$1204,MATCH(52,$S$5:$S$1204,0),5))} | F56: {=IF(52>$S$1204,"",INDEX($T$5:$AJ$1204,MATCH(52,$S$5:$S$1204,0),6))} | G56: {=IF(52>$S$1204,"",INDEX($T$5:$AJ$1204,MATCH(52,$S$5:$S$1204,0),7))} | H56: {=IF(52>$S$1204,"",INDEX($T$5:$AJ$1204,MATCH(52,$S$5:$S$1204,0),8))} | I56: {=IF(52>$S$1204,"",INDEX($T$5:$AJ$1204,MATCH(52,$S$5:$S$1204,0),9))} | J56: {=IF(52>$S$1204,"",INDEX($T$5:$AJ$1204,MATCH(52,$S$5:$S$1204,0),10))} | K56: {=IF(52>$S$1204,"",INDEX($T$5:$AJ$1204,MATCH(52,$S$5:$S$1204,0),11))} | L56: {=IF(52>$S$1204,"",INDEX($T$5:$AJ$1204,MATCH(52,$S$5:$S$1204,0),12))} | M56: {=IF(52>$S$1204,"",INDEX($T$5:$AJ$1204,MATCH(52,$S$5:$S$1204,0),13))} | N56: {=IF(52>$S$1204,"",INDEX($T$5:$AJ$1204,MATCH(52,$S$5:$S$1204,0),14))} | O56: {=IF(52>$S$1204,"",INDEX($T$5:$AJ$1204,MATCH(52,$S$5:$S$1204,0),15))} | P56: {=IF(52>$S$1204,"",INDEX($T$5:$AJ$1204,MATCH(52,$S$5:$S$1204,0),16))} | Q56: {=IF(52>$S$1204,"",INDEX($T$5:$AJ$1204,MATCH(52,$S$5:$S$1204,0),17))} | S56: =S55+IF(M1_Administrativo!A60="",0,1) -> 0 | T56: =IF(M1_Administrativo!A60="","",IF(M1_Administrativo!A60="","",M1_Administrativo!A60)) | U56: =IF(M1_Administrativo!A60="","",IF(M1_Administrativo!R60="","",M1_Administrativo!R60)) | V56: =IF(M1_Administrativo!A60="","",IF(M1_Administrativo!D60="","",M1_Administrativo!D60)) | W56: =IF(M1_Administrativo!A60="","",IF(M1_Administrativo!B60="","",M1_Administrativo!B60)) | X56: =IF(M1_Administrativo!A60="","",IF(M1_Administrativo!C60="","",M1_Administrativo!C60)) | Y56: =IF(M1_Administrativo!A60="","",IF(M1_Administrativo!E60="","",M1_Administrativo!E60)) | Z56: =IF(M1_Administrativo!A60="","",IF(M1_Administrativo!F60="","",M1_Administrativo!F60)) | AA56: =IF(M1_Administrativo!A60="","","M1 Administrativo") | AB56: =IF(M1_Administrativo!A60="","",IF(M1_Administrativo!G60="","",M1_Administrativo!G60)) | AC56: =IF(M1_Administrativo!A60="","",IF(M1_Administrativo!M60="","",M1_Administrativo!M60)) | AD56: =IF(M1_Administrativo!A60="","","RA") | AE56: =IF(M1_Administrativo!A60="","",IF(M1_Administrativo!O60="","",M1_Administrativo!O60)) | AF56: =IF(M1_Administrativo!A60="","",IF(M1_Administrativo!P60="","",M1_Administrativo!P60)) | AG56: =IF(M1_Administrativo!A60="","",IF(M1_Administrativo!Q60="","",M1_Administrativo!Q60)) | AH56: =IF(M1_Administrativo!A60="","","") | AI56: =IF(M1_Administrativo!A60="","","M1_Administrativo!60") | AJ56: =IF(M1_Administrativo!A60="","",IF(M1_Administrativo!M60="","Pendiente de resultado","Disponible"))
A57: {=IF(53>$S$1204,"",INDEX($T$5:$AJ$1204,MATCH(53,$S$5:$S$1204,0),1))} | B57: {=IF(53>$S$1204,"",INDEX($T$5:$AJ$1204,MATCH(53,$S$5:$S$1204,0),2))} | C57: {=IF(53>$S$1204,"",INDEX($T$5:$AJ$1204,MATCH(53,$S$5:$S$1204,0),3))} | D57: {=IF(53>$S$1204,"",INDEX($T$5:$AJ$1204,MATCH(53,$S$5:$S$1204,0),4))} | E57: {=IF(53>$S$1204,"",INDEX($T$5:$AJ$1204,MATCH(53,$S$5:$S$1204,0),5))} | F57: {=IF(53>$S$1204,"",INDEX($T$5:$AJ$1204,MATCH(53,$S$5:$S$1204,0),6))} | G57: {=IF(53>$S$1204,"",INDEX($T$5:$AJ$1204,MATCH(53,$S$5:$S$1204,0),7))} | H57: {=IF(53>$S$1204,"",INDEX($T$5:$AJ$1204,MATCH(53,$S$5:$S$1204,0),8))} | I57: {=IF(53>$S$1204,"",INDEX($T$5:$AJ$1204,MATCH(53,$S$5:$S$1204,0),9))} | J57: {=IF(53>$S$1204,"",INDEX($T$5:$AJ$1204,MATCH(53,$S$5:$S$1204,0),10))} | K57: {=IF(53>$S$1204,"",INDEX($T$5:$AJ$1204,MATCH(53,$S$5:$S$1204,0),11))} | L57: {=IF(53>$S$1204,"",INDEX($T$5:$AJ$1204,MATCH(53,$S$5:$S$1204,0),12))} | M57: {=IF(53>$S$1204,"",INDEX($T$5:$AJ$1204,MATCH(53,$S$5:$S$1204,0),13))} | N57: {=IF(53>$S$1204,"",INDEX($T$5:$AJ$1204,MATCH(53,$S$5:$S$1204,0),14))} | O57: {=IF(53>$S$1204,"",INDEX($T$5:$AJ$1204,MATCH(53,$S$5:$S$1204,0),15))} | P57: {=IF(53>$S$1204,"",INDEX($T$5:$AJ$1204,MATCH(53,$S$5:$S$1204,0),16))} | Q57: {=IF(53>$S$1204,"",INDEX($T$5:$AJ$1204,MATCH(53,$S$5:$S$1204,0),17))} | S57: =S56+IF(M1_Administrativo!A61="",0,1) -> 0 | T57: =IF(M1_Administrativo!A61="","",IF(M1_Administrativo!A61="","",M1_Administrativo!A61)) | U57: =IF(M1_Administrativo!A61="","",IF(M1_Administrativo!R61="","",M1_Administrativo!R61)) | V57: =IF(M1_Administrativo!A61="","",IF(M1_Administrativo!D61="","",M1_Administrativo!D61)) | W57: =IF(M1_Administrativo!A61="","",IF(M1_Administrativo!B61="","",M1_Administrativo!B61)) | X57: =IF(M1_Administrativo!A61="","",IF(M1_Administrativo!C61="","",M1_Administrativo!C61)) | Y57: =IF(M1_Administrativo!A61="","",IF(M1_Administrativo!E61="","",M1_Administrativo!E61)) | Z57: =IF(M1_Administrativo!A61="","",IF(M1_Administrativo!F61="","",M1_Administrativo!F61)) | AA57: =IF(M1_Administrativo!A61="","","M1 Administrativo") | AB57: =IF(M1_Administrativo!A61="","",IF(M1_Administrativo!G61="","",M1_Administrativo!G61)) | AC57: =IF(M1_Administrativo!A61="","",IF(M1_Administrativo!M61="","",M1_Administrativo!M61)) | AD57: =IF(M1_Administrativo!A61="","","RA") | AE57: =IF(M1_Administrativo!A61="","",IF(M1_Administrativo!O61="","",M1_Administrativo!O61)) | AF57: =IF(M1_Administrativo!A61="","",IF(M1_Administrativo!P61="","",M1_Administrativo!P61)) | AG57: =IF(M1_Administrativo!A61="","",IF(M1_Administrativo!Q61="","",M1_Administrativo!Q61)) | AH57: =IF(M1_Administrativo!A61="","","") | AI57: =IF(M1_Administrativo!A61="","","M1_Administrativo!61") | AJ57: =IF(M1_Administrativo!A61="","",IF(M1_Administrativo!M61="","Pendiente de resultado","Disponible"))
A58: {=IF(54>$S$1204,"",INDEX($T$5:$AJ$1204,MATCH(54,$S$5:$S$1204,0),1))} | B58: {=IF(54>$S$1204,"",INDEX($T$5:$AJ$1204,MATCH(54,$S$5:$S$1204,0),2))} | C58: {=IF(54>$S$1204,"",INDEX($T$5:$AJ$1204,MATCH(54,$S$5:$S$1204,0),3))} | D58: {=IF(54>$S$1204,"",INDEX($T$5:$AJ$1204,MATCH(54,$S$5:$S$1204,0),4))} | E58: {=IF(54>$S$1204,"",INDEX($T$5:$AJ$1204,MATCH(54,$S$5:$S$1204,0),5))} | F58: {=IF(54>$S$1204,"",INDEX($T$5:$AJ$1204,MATCH(54,$S$5:$S$1204,0),6))} | G58: {=IF(54>$S$1204,"",INDEX($T$5:$AJ$1204,MATCH(54,$S$5:$S$1204,0),7))} | H58: {=IF(54>$S$1204,"",INDEX($T$5:$AJ$1204,MATCH(54,$S$5:$S$1204,0),8))} | I58: {=IF(54>$S$1204,"",INDEX($T$5:$AJ$1204,MATCH(54,$S$5:$S$1204,0),9))} | J58: {=IF(54>$S$1204,"",INDEX($T$5:$AJ$1204,MATCH(54,$S$5:$S$1204,0),10))} | K58: {=IF(54>$S$1204,"",INDEX($T$5:$AJ$1204,MATCH(54,$S$5:$S$1204,0),11))} | L58: {=IF(54>$S$1204,"",INDEX($T$5:$AJ$1204,MATCH(54,$S$5:$S$1204,0),12))} | M58: {=IF(54>$S$1204,"",INDEX($T$5:$AJ$1204,MATCH(54,$S$5:$S$1204,0),13))} | N58: {=IF(54>$S$1204,"",INDEX($T$5:$AJ$1204,MATCH(54,$S$5:$S$1204,0),14))} | O58: {=IF(54>$S$1204,"",INDEX($T$5:$AJ$1204,MATCH(54,$S$5:$S$1204,0),15))} | P58: {=IF(54>$S$1204,"",INDEX($T$5:$AJ$1204,MATCH(54,$S$5:$S$1204,0),16))} | Q58: {=IF(54>$S$1204,"",INDEX($T$5:$AJ$1204,MATCH(54,$S$5:$S$1204,0),17))} | S58: =S57+IF(M1_Administrativo!A62="",0,1) -> 0 | T58: =IF(M1_Administrativo!A62="","",IF(M1_Administrativo!A62="","",M1_Administrativo!A62)) | U58: =IF(M1_Administrativo!A62="","",IF(M1_Administrativo!R62="","",M1_Administrativo!R62)) | V58: =IF(M1_Administrativo!A62="","",IF(M1_Administrativo!D62="","",M1_Administrativo!D62)) | W58: =IF(M1_Administrativo!A62="","",IF(M1_Administrativo!B62="","",M1_Administrativo!B62)) | X58: =IF(M1_Administrativo!A62="","",IF(M1_Administrativo!C62="","",M1_Administrativo!C62)) | Y58: =IF(M1_Administrativo!A62="","",IF(M1_Administrativo!E62="","",M1_Administrativo!E62)) | Z58: =IF(M1_Administrativo!A62="","",IF(M1_Administrativo!F62="","",M1_Administrativo!F62)) | AA58: =IF(M1_Administrativo!A62="","","M1 Administrativo") | AB58: =IF(M1_Administrativo!A62="","",IF(M1_Administrativo!G62="","",M1_Administrativo!G62)) | AC58: =IF(M1_Administrativo!A62="","",IF(M1_Administrativo!M62="","",M1_Administrativo!M62)) | AD58: =IF(M1_Administrativo!A62="","","RA") | AE58: =IF(M1_Administrativo!A62="","",IF(M1_Administrativo!O62="","",M1_Administrativo!O62)) | AF58: =IF(M1_Administrativo!A62="","",IF(M1_Administrativo!P62="","",M1_Administrativo!P62)) | AG58: =IF(M1_Administrativo!A62="","",IF(M1_Administrativo!Q62="","",M1_Administrativo!Q62)) | AH58: =IF(M1_Administrativo!A62="","","") | AI58: =IF(M1_Administrativo!A62="","","M1_Administrativo!62") | AJ58: =IF(M1_Administrativo!A62="","",IF(M1_Administrativo!M62="","Pendiente de resultado","Disponible"))
A59: {=IF(55>$S$1204,"",INDEX($T$5:$AJ$1204,MATCH(55,$S$5:$S$1204,0),1))} | B59: {=IF(55>$S$1204,"",INDEX($T$5:$AJ$1204,MATCH(55,$S$5:$S$1204,0),2))} | C59: {=IF(55>$S$1204,"",INDEX($T$5:$AJ$1204,MATCH(55,$S$5:$S$1204,0),3))} | D59: {=IF(55>$S$1204,"",INDEX($T$5:$AJ$1204,MATCH(55,$S$5:$S$1204,0),4))} | E59: {=IF(55>$S$1204,"",INDEX($T$5:$AJ$1204,MATCH(55,$S$5:$S$1204,0),5))} | F59: {=IF(55>$S$1204,"",INDEX($T$5:$AJ$1204,MATCH(55,$S$5:$S$1204,0),6))} | G59: {=IF(55>$S$1204,"",INDEX($T$5:$AJ$1204,MATCH(55,$S$5:$S$1204,0),7))} | H59: {=IF(55>$S$1204,"",INDEX($T$5:$AJ$1204,MATCH(55,$S$5:$S$1204,0),8))} | I59: {=IF(55>$S$1204,"",INDEX($T$5:$AJ$1204,MATCH(55,$S$5:$S$1204,0),9))} | J59: {=IF(55>$S$1204,"",INDEX($T$5:$AJ$1204,MATCH(55,$S$5:$S$1204,0),10))} | K59: {=IF(55>$S$1204,"",INDEX($T$5:$AJ$1204,MATCH(55,$S$5:$S$1204,0),11))} | L59: {=IF(55>$S$1204,"",INDEX($T$5:$AJ$1204,MATCH(55,$S$5:$S$1204,0),12))} | M59: {=IF(55>$S$1204,"",INDEX($T$5:$AJ$1204,MATCH(55,$S$5:$S$1204,0),13))} | N59: {=IF(55>$S$1204,"",INDEX($T$5:$AJ$1204,MATCH(55,$S$5:$S$1204,0),14))} | O59: {=IF(55>$S$1204,"",INDEX($T$5:$AJ$1204,MATCH(55,$S$5:$S$1204,0),15))} | P59: {=IF(55>$S$1204,"",INDEX($T$5:$AJ$1204,MATCH(55,$S$5:$S$1204,0),16))} | Q59: {=IF(55>$S$1204,"",INDEX($T$5:$AJ$1204,MATCH(55,$S$5:$S$1204,0),17))} | S59: =S58+IF(M1_Administrativo!A63="",0,1) -> 0 | T59: =IF(M1_Administrativo!A63="","",IF(M1_Administrativo!A63="","",M1_Administrativo!A63)) | U59: =IF(M1_Administrativo!A63="","",IF(M1_Administrativo!R63="","",M1_Administrativo!R63)) | V59: =IF(M1_Administrativo!A63="","",IF(M1_Administrativo!D63="","",M1_Administrativo!D63)) | W59: =IF(M1_Administrativo!A63="","",IF(M1_Administrativo!B63="","",M1_Administrativo!B63)) | X59: =IF(M1_Administrativo!A63="","",IF(M1_Administrativo!C63="","",M1_Administrativo!C63)) | Y59: =IF(M1_Administrativo!A63="","",IF(M1_Administrativo!E63="","",M1_Administrativo!E63)) | Z59: =IF(M1_Administrativo!A63="","",IF(M1_Administrativo!F63="","",M1_Administrativo!F63)) | AA59: =IF(M1_Administrativo!A63="","","M1 Administrativo") | AB59: =IF(M1_Administrativo!A63="","",IF(M1_Administrativo!G63="","",M1_Administrativo!G63)) | AC59: =IF(M1_Administrativo!A63="","",IF(M1_Administrativo!M63="","",M1_Administrativo!M63)) | AD59: =IF(M1_Administrativo!A63="","","RA") | AE59: =IF(M1_Administrativo!A63="","",IF(M1_Administrativo!O63="","",M1_Administrativo!O63)) | AF59: =IF(M1_Administrativo!A63="","",IF(M1_Administrativo!P63="","",M1_Administrativo!P63)) | AG59: =IF(M1_Administrativo!A63="","",IF(M1_Administrativo!Q63="","",M1_Administrativo!Q63)) | AH59: =IF(M1_Administrativo!A63="","","") | AI59: =IF(M1_Administrativo!A63="","","M1_Administrativo!63") | AJ59: =IF(M1_Administrativo!A63="","",IF(M1_Administrativo!M63="","Pendiente de resultado","Disponible"))
A60: {=IF(56>$S$1204,"",INDEX($T$5:$AJ$1204,MATCH(56,$S$5:$S$1204,0),1))} | B60: {=IF(56>$S$1204,"",INDEX($T$5:$AJ$1204,MATCH(56,$S$5:$S$1204,0),2))} | C60: {=IF(56>$S$1204,"",INDEX($T$5:$AJ$1204,MATCH(56,$S$5:$S$1204,0),3))} | D60: {=IF(56>$S$1204,"",INDEX($T$5:$AJ$1204,MATCH(56,$S$5:$S$1204,0),4))} | E60: {=IF(56>$S$1204,"",INDEX($T$5:$AJ$1204,MATCH(56,$S$5:$S$1204,0),5))} | F60: {=IF(56>$S$1204,"",INDEX($T$5:$AJ$1204,MATCH(56,$S$5:$S$1204,0),6))} | G60: {=IF(56>$S$1204,"",INDEX($T$5:$AJ$1204,MATCH(56,$S$5:$S$1204,0),7))} | H60: {=IF(56>$S$1204,"",INDEX($T$5:$AJ$1204,MATCH(56,$S$5:$S$1204,0),8))} | I60: {=IF(56>$S$1204,"",INDEX($T$5:$AJ$1204,MATCH(56,$S$5:$S$1204,0),9))} | J60: {=IF(56>$S$1204,"",INDEX($T$5:$AJ$1204,MATCH(56,$S$5:$S$1204,0),10))} | K60: {=IF(56>$S$1204,"",INDEX($T$5:$AJ$1204,MATCH(56,$S$5:$S$1204,0),11))} | L60: {=IF(56>$S$1204,"",INDEX($T$5:$AJ$1204,MATCH(56,$S$5:$S$1204,0),12))} | M60: {=IF(56>$S$1204,"",INDEX($T$5:$AJ$1204,MATCH(56,$S$5:$S$1204,0),13))} | N60: {=IF(56>$S$1204,"",INDEX($T$5:$AJ$1204,MATCH(56,$S$5:$S$1204,0),14))} | O60: {=IF(56>$S$1204,"",INDEX($T$5:$AJ$1204,MATCH(56,$S$5:$S$1204,0),15))} | P60: {=IF(56>$S$1204,"",INDEX($T$5:$AJ$1204,MATCH(56,$S$5:$S$1204,0),16))} | Q60: {=IF(56>$S$1204,"",INDEX($T$5:$AJ$1204,MATCH(56,$S$5:$S$1204,0),17))} | S60: =S59+IF(M1_Administrativo!A64="",0,1) -> 0 | T60: =IF(M1_Administrativo!A64="","",IF(M1_Administrativo!A64="","",M1_Administrativo!A64)) | U60: =IF(M1_Administrativo!A64="","",IF(M1_Administrativo!R64="","",M1_Administrativo!R64)) | V60: =IF(M1_Administrativo!A64="","",IF(M1_Administrativo!D64="","",M1_Administrativo!D64)) | W60: =IF(M1_Administrativo!A64="","",IF(M1_Administrativo!B64="","",M1_Administrativo!B64)) | X60: =IF(M1_Administrativo!A64="","",IF(M1_Administrativo!C64="","",M1_Administrativo!C64)) | Y60: =IF(M1_Administrativo!A64="","",IF(M1_Administrativo!E64="","",M1_Administrativo!E64)) | Z60: =IF(M1_Administrativo!A64="","",IF(M1_Administrativo!F64="","",M1_Administrativo!F64)) | AA60: =IF(M1_Administrativo!A64="","","M1 Administrativo") | AB60: =IF(M1_Administrativo!A64="","",IF(M1_Administrativo!G64="","",M1_Administrativo!G64)) | AC60: =IF(M1_Administrativo!A64="","",IF(M1_Administrativo!M64="","",M1_Administrativo!M64)) | AD60: =IF(M1_Administrativo!A64="","","RA") | AE60: =IF(M1_Administrativo!A64="","",IF(M1_Administrativo!O64="","",M1_Administrativo!O64)) | AF60: =IF(M1_Administrativo!A64="","",IF(M1_Administrativo!P64="","",M1_Administrativo!P64)) | AG60: =IF(M1_Administrativo!A64="","",IF(M1_Administrativo!Q64="","",M1_Administrativo!Q64)) | AH60: =IF(M1_Administrativo!A64="","","") | AI60: =IF(M1_Administrativo!A64="","","M1_Administrativo!64") | AJ60: =IF(M1_Administrativo!A64="","",IF(M1_Administrativo!M64="","Pendiente de resultado","Disponible"))
A61: {=IF(57>$S$1204,"",INDEX($T$5:$AJ$1204,MATCH(57,$S$5:$S$1204,0),1))} | B61: {=IF(57>$S$1204,"",INDEX($T$5:$AJ$1204,MATCH(57,$S$5:$S$1204,0),2))} | C61: {=IF(57>$S$1204,"",INDEX($T$5:$AJ$1204,MATCH(57,$S$5:$S$1204,0),3))} | D61: {=IF(57>$S$1204,"",INDEX($T$5:$AJ$1204,MATCH(57,$S$5:$S$1204,0),4))} | E61: {=IF(57>$S$1204,"",INDEX($T$5:$AJ$1204,MATCH(57,$S$5:$S$1204,0),5))} | F61: {=IF(57>$S$1204,"",INDEX($T$5:$AJ$1204,MATCH(57,$S$5:$S$1204,0),6))} | G61: {=IF(57>$S$1204,"",INDEX($T$5:$AJ$1204,MATCH(57,$S$5:$S$1204,0),7))} | H61: {=IF(57>$S$1204,"",INDEX($T$5:$AJ$1204,MATCH(57,$S$5:$S$1204,0),8))} | I61: {=IF(57>$S$1204,"",INDEX($T$5:$AJ$1204,MATCH(57,$S$5:$S$1204,0),9))} | J61: {=IF(57>$S$1204,"",INDEX($T$5:$AJ$1204,MATCH(57,$S$5:$S$1204,0),10))} | K61: {=IF(57>$S$1204,"",INDEX($T$5:$AJ$1204,MATCH(57,$S$5:$S$1204,0),11))} | L61: {=IF(57>$S$1204,"",INDEX($T$5:$AJ$1204,MATCH(57,$S$5:$S$1204,0),12))} | M61: {=IF(57>$S$1204,"",INDEX($T$5:$AJ$1204,MATCH(57,$S$5:$S$1204,0),13))} | N61: {=IF(57>$S$1204,"",INDEX($T$5:$AJ$1204,MATCH(57,$S$5:$S$1204,0),14))} | O61: {=IF(57>$S$1204,"",INDEX($T$5:$AJ$1204,MATCH(57,$S$5:$S$1204,0),15))} | P61: {=IF(57>$S$1204,"",INDEX($T$5:$AJ$1204,MATCH(57,$S$5:$S$1204,0),16))} | Q61: {=IF(57>$S$1204,"",INDEX($T$5:$AJ$1204,MATCH(57,$S$5:$S$1204,0),17))} | S61: =S60+IF(M1_Administrativo!A65="",0,1) -> 0 | T61: =IF(M1_Administrativo!A65="","",IF(M1_Administrativo!A65="","",M1_Administrativo!A65)) | U61: =IF(M1_Administrativo!A65="","",IF(M1_Administrativo!R65="","",M1_Administrativo!R65)) | V61: =IF(M1_Administrativo!A65="","",IF(M1_Administrativo!D65="","",M1_Administrativo!D65)) | W61: =IF(M1_Administrativo!A65="","",IF(M1_Administrativo!B65="","",M1_Administrativo!B65)) | X61: =IF(M1_Administrativo!A65="","",IF(M1_Administrativo!C65="","",M1_Administrativo!C65)) | Y61: =IF(M1_Administrativo!A65="","",IF(M1_Administrativo!E65="","",M1_Administrativo!E65)) | Z61: =IF(M1_Administrativo!A65="","",IF(M1_Administrativo!F65="","",M1_Administrativo!F65)) | AA61: =IF(M1_Administrativo!A65="","","M1 Administrativo") | AB61: =IF(M1_Administrativo!A65="","",IF(M1_Administrativo!G65="","",M1_Administrativo!G65)) | AC61: =IF(M1_Administrativo!A65="","",IF(M1_Administrativo!M65="","",M1_Administrativo!M65)) | AD61: =IF(M1_Administrativo!A65="","","RA") | AE61: =IF(M1_Administrativo!A65="","",IF(M1_Administrativo!O65="","",M1_Administrativo!O65)) | AF61: =IF(M1_Administrativo!A65="","",IF(M1_Administrativo!P65="","",M1_Administrativo!P65)) | AG61: =IF(M1_Administrativo!A65="","",IF(M1_Administrativo!Q65="","",M1_Administrativo!Q65)) | AH61: =IF(M1_Administrativo!A65="","","") | AI61: =IF(M1_Administrativo!A65="","","M1_Administrativo!65") | AJ61: =IF(M1_Administrativo!A65="","",IF(M1_Administrativo!M65="","Pendiente de resultado","Disponible"))
A62: {=IF(58>$S$1204,"",INDEX($T$5:$AJ$1204,MATCH(58,$S$5:$S$1204,0),1))} | B62: {=IF(58>$S$1204,"",INDEX($T$5:$AJ$1204,MATCH(58,$S$5:$S$1204,0),2))} | C62: {=IF(58>$S$1204,"",INDEX($T$5:$AJ$1204,MATCH(58,$S$5:$S$1204,0),3))} | D62: {=IF(58>$S$1204,"",INDEX($T$5:$AJ$1204,MATCH(58,$S$5:$S$1204,0),4))} | E62: {=IF(58>$S$1204,"",INDEX($T$5:$AJ$1204,MATCH(58,$S$5:$S$1204,0),5))} | F62: {=IF(58>$S$1204,"",INDEX($T$5:$AJ$1204,MATCH(58,$S$5:$S$1204,0),6))} | G62: {=IF(58>$S$1204,"",INDEX($T$5:$AJ$1204,MATCH(58,$S$5:$S$1204,0),7))} | H62: {=IF(58>$S$1204,"",INDEX($T$5:$AJ$1204,MATCH(58,$S$5:$S$1204,0),8))} | I62: {=IF(58>$S$1204,"",INDEX($T$5:$AJ$1204,MATCH(58,$S$5:$S$1204,0),9))} | J62: {=IF(58>$S$1204,"",INDEX($T$5:$AJ$1204,MATCH(58,$S$5:$S$1204,0),10))} | K62: {=IF(58>$S$1204,"",INDEX($T$5:$AJ$1204,MATCH(58,$S$5:$S$1204,0),11))} | L62: {=IF(58>$S$1204,"",INDEX($T$5:$AJ$1204,MATCH(58,$S$5:$S$1204,0),12))} | M62: {=IF(58>$S$1204,"",INDEX($T$5:$AJ$1204,MATCH(58,$S$5:$S$1204,0),13))} | N62: {=IF(58>$S$1204,"",INDEX($T$5:$AJ$1204,MATCH(58,$S$5:$S$1204,0),14))} | O62: {=IF(58>$S$1204,"",INDEX($T$5:$AJ$1204,MATCH(58,$S$5:$S$1204,0),15))} | P62: {=IF(58>$S$1204,"",INDEX($T$5:$AJ$1204,MATCH(58,$S$5:$S$1204,0),16))} | Q62: {=IF(58>$S$1204,"",INDEX($T$5:$AJ$1204,MATCH(58,$S$5:$S$1204,0),17))} | S62: =S61+IF(M1_Administrativo!A66="",0,1) -> 0 | T62: =IF(M1_Administrativo!A66="","",IF(M1_Administrativo!A66="","",M1_Administrativo!A66)) | U62: =IF(M1_Administrativo!A66="","",IF(M1_Administrativo!R66="","",M1_Administrativo!R66)) | V62: =IF(M1_Administrativo!A66="","",IF(M1_Administrativo!D66="","",M1_Administrativo!D66)) | W62: =IF(M1_Administrativo!A66="","",IF(M1_Administrativo!B66="","",M1_Administrativo!B66)) | X62: =IF(M1_Administrativo!A66="","",IF(M1_Administrativo!C66="","",M1_Administrativo!C66)) | Y62: =IF(M1_Administrativo!A66="","",IF(M1_Administrativo!E66="","",M1_Administrativo!E66)) | Z62: =IF(M1_Administrativo!A66="","",IF(M1_Administrativo!F66="","",M1_Administrativo!F66)) | AA62: =IF(M1_Administrativo!A66="","","M1 Administrativo") | AB62: =IF(M1_Administrativo!A66="","",IF(M1_Administrativo!G66="","",M1_Administrativo!G66)) | AC62: =IF(M1_Administrativo!A66="","",IF(M1_Administrativo!M66="","",M1_Administrativo!M66)) | AD62: =IF(M1_Administrativo!A66="","","RA") | AE62: =IF(M1_Administrativo!A66="","",IF(M1_Administrativo!O66="","",M1_Administrativo!O66)) | AF62: =IF(M1_Administrativo!A66="","",IF(M1_Administrativo!P66="","",M1_Administrativo!P66)) | AG62: =IF(M1_Administrativo!A66="","",IF(M1_Administrativo!Q66="","",M1_Administrativo!Q66)) | AH62: =IF(M1_Administrativo!A66="","","") | AI62: =IF(M1_Administrativo!A66="","","M1_Administrativo!66") | AJ62: =IF(M1_Administrativo!A66="","",IF(M1_Administrativo!M66="","Pendiente de resultado","Disponible"))
A63: {=IF(59>$S$1204,"",INDEX($T$5:$AJ$1204,MATCH(59,$S$5:$S$1204,0),1))} | B63: {=IF(59>$S$1204,"",INDEX($T$5:$AJ$1204,MATCH(59,$S$5:$S$1204,0),2))} | C63: {=IF(59>$S$1204,"",INDEX($T$5:$AJ$1204,MATCH(59,$S$5:$S$1204,0),3))} | D63: {=IF(59>$S$1204,"",INDEX($T$5:$AJ$1204,MATCH(59,$S$5:$S$1204,0),4))} | E63: {=IF(59>$S$1204,"",INDEX($T$5:$AJ$1204,MATCH(59,$S$5:$S$1204,0),5))} | F63: {=IF(59>$S$1204,"",INDEX($T$5:$AJ$1204,MATCH(59,$S$5:$S$1204,0),6))} | G63: {=IF(59>$S$1204,"",INDEX($T$5:$AJ$1204,MATCH(59,$S$5:$S$1204,0),7))} | H63: {=IF(59>$S$1204,"",INDEX($T$5:$AJ$1204,MATCH(59,$S$5:$S$1204,0),8))} | I63: {=IF(59>$S$1204,"",INDEX($T$5:$AJ$1204,MATCH(59,$S$5:$S$1204,0),9))} | J63: {=IF(59>$S$1204,"",INDEX($T$5:$AJ$1204,MATCH(59,$S$5:$S$1204,0),10))} | K63: {=IF(59>$S$1204,"",INDEX($T$5:$AJ$1204,MATCH(59,$S$5:$S$1204,0),11))} | L63: {=IF(59>$S$1204,"",INDEX($T$5:$AJ$1204,MATCH(59,$S$5:$S$1204,0),12))} | M63: {=IF(59>$S$1204,"",INDEX($T$5:$AJ$1204,MATCH(59,$S$5:$S$1204,0),13))} | N63: {=IF(59>$S$1204,"",INDEX($T$5:$AJ$1204,MATCH(59,$S$5:$S$1204,0),14))} | O63: {=IF(59>$S$1204,"",INDEX($T$5:$AJ$1204,MATCH(59,$S$5:$S$1204,0),15))} | P63: {=IF(59>$S$1204,"",INDEX($T$5:$AJ$1204,MATCH(59,$S$5:$S$1204,0),16))} | Q63: {=IF(59>$S$1204,"",INDEX($T$5:$AJ$1204,MATCH(59,$S$5:$S$1204,0),17))} | S63: =S62+IF(M1_Administrativo!A67="",0,1) -> 0 | T63: =IF(M1_Administrativo!A67="","",IF(M1_Administrativo!A67="","",M1_Administrativo!A67)) | U63: =IF(M1_Administrativo!A67="","",IF(M1_Administrativo!R67="","",M1_Administrativo!R67)) | V63: =IF(M1_Administrativo!A67="","",IF(M1_Administrativo!D67="","",M1_Administrativo!D67)) | W63: =IF(M1_Administrativo!A67="","",IF(M1_Administrativo!B67="","",M1_Administrativo!B67)) | X63: =IF(M1_Administrativo!A67="","",IF(M1_Administrativo!C67="","",M1_Administrativo!C67)) | Y63: =IF(M1_Administrativo!A67="","",IF(M1_Administrativo!E67="","",M1_Administrativo!E67)) | Z63: =IF(M1_Administrativo!A67="","",IF(M1_Administrativo!F67="","",M1_Administrativo!F67)) | AA63: =IF(M1_Administrativo!A67="","","M1 Administrativo") | AB63: =IF(M1_Administrativo!A67="","",IF(M1_Administrativo!G67="","",M1_Administrativo!G67)) | AC63: =IF(M1_Administrativo!A67="","",IF(M1_Administrativo!M67="","",M1_Administrativo!M67)) | AD63: =IF(M1_Administrativo!A67="","","RA") | AE63: =IF(M1_Administrativo!A67="","",IF(M1_Administrativo!O67="","",M1_Administrativo!O67)) | AF63: =IF(M1_Administrativo!A67="","",IF(M1_Administrativo!P67="","",M1_Administrativo!P67)) | AG63: =IF(M1_Administrativo!A67="","",IF(M1_Administrativo!Q67="","",M1_Administrativo!Q67)) | AH63: =IF(M1_Administrativo!A67="","","") | AI63: =IF(M1_Administrativo!A67="","","M1_Administrativo!67") | AJ63: =IF(M1_Administrativo!A67="","",IF(M1_Administrativo!M67="","Pendiente de resultado","Disponible"))
A64: {=IF(60>$S$1204,"",INDEX($T$5:$AJ$1204,MATCH(60,$S$5:$S$1204,0),1))} | B64: {=IF(60>$S$1204,"",INDEX($T$5:$AJ$1204,MATCH(60,$S$5:$S$1204,0),2))} | C64: {=IF(60>$S$1204,"",INDEX($T$5:$AJ$1204,MATCH(60,$S$5:$S$1204,0),3))} | D64: {=IF(60>$S$1204,"",INDEX($T$5:$AJ$1204,MATCH(60,$S$5:$S$1204,0),4))} | E64: {=IF(60>$S$1204,"",INDEX($T$5:$AJ$1204,MATCH(60,$S$5:$S$1204,0),5))} | F64: {=IF(60>$S$1204,"",INDEX($T$5:$AJ$1204,MATCH(60,$S$5:$S$1204,0),6))} | G64: {=IF(60>$S$1204,"",INDEX($T$5:$AJ$1204,MATCH(60,$S$5:$S$1204,0),7))} | H64: {=IF(60>$S$1204,"",INDEX($T$5:$AJ$1204,MATCH(60,$S$5:$S$1204,0),8))} | I64: {=IF(60>$S$1204,"",INDEX($T$5:$AJ$1204,MATCH(60,$S$5:$S$1204,0),9))} | J64: {=IF(60>$S$1204,"",INDEX($T$5:$AJ$1204,MATCH(60,$S$5:$S$1204,0),10))} | K64: {=IF(60>$S$1204,"",INDEX($T$5:$AJ$1204,MATCH(60,$S$5:$S$1204,0),11))} | L64: {=IF(60>$S$1204,"",INDEX($T$5:$AJ$1204,MATCH(60,$S$5:$S$1204,0),12))} | M64: {=IF(60>$S$1204,"",INDEX($T$5:$AJ$1204,MATCH(60,$S$5:$S$1204,0),13))} | N64: {=IF(60>$S$1204,"",INDEX($T$5:$AJ$1204,MATCH(60,$S$5:$S$1204,0),14))} | O64: {=IF(60>$S$1204,"",INDEX($T$5:$AJ$1204,MATCH(60,$S$5:$S$1204,0),15))} | P64: {=IF(60>$S$1204,"",INDEX($T$5:$AJ$1204,MATCH(60,$S$5:$S$1204,0),16))} | Q64: {=IF(60>$S$1204,"",INDEX($T$5:$AJ$1204,MATCH(60,$S$5:$S$1204,0),17))} | S64: =S63+IF(M1_Administrativo!A68="",0,1) -> 0 | T64: =IF(M1_Administrativo!A68="","",IF(M1_Administrativo!A68="","",M1_Administrativo!A68)) | U64: =IF(M1_Administrativo!A68="","",IF(M1_Administrativo!R68="","",M1_Administrativo!R68)) | V64: =IF(M1_Administrativo!A68="","",IF(M1_Administrativo!D68="","",M1_Administrativo!D68)) | W64: =IF(M1_Administrativo!A68="","",IF(M1_Administrativo!B68="","",M1_Administrativo!B68)) | X64: =IF(M1_Administrativo!A68="","",IF(M1_Administrativo!C68="","",M1_Administrativo!C68)) | Y64: =IF(M1_Administrativo!A68="","",IF(M1_Administrativo!E68="","",M1_Administrativo!E68)) | Z64: =IF(M1_Administrativo!A68="","",IF(M1_Administrativo!F68="","",M1_Administrativo!F68)) | AA64: =IF(M1_Administrativo!A68="","","M1 Administrativo") | AB64: =IF(M1_Administrativo!A68="","",IF(M1_Administrativo!G68="","",M1_Administrativo!G68)) | AC64: =IF(M1_Administrativo!A68="","",IF(M1_Administrativo!M68="","",M1_Administrativo!M68)) | AD64: =IF(M1_Administrativo!A68="","","RA") | AE64: =IF(M1_Administrativo!A68="","",IF(M1_Administrativo!O68="","",M1_Administrativo!O68)) | AF64: =IF(M1_Administrativo!A68="","",IF(M1_Administrativo!P68="","",M1_Administrativo!P68)) | AG64: =IF(M1_Administrativo!A68="","",IF(M1_Administrativo!Q68="","",M1_Administrativo!Q68)) | AH64: =IF(M1_Administrativo!A68="","","") | AI64: =IF(M1_Administrativo!A68="","","M1_Administrativo!68") | AJ64: =IF(M1_Administrativo!A68="","",IF(M1_Administrativo!M68="","Pendiente de resultado","Disponible"))
A65: {=IF(61>$S$1204,"",INDEX($T$5:$AJ$1204,MATCH(61,$S$5:$S$1204,0),1))} | B65: {=IF(61>$S$1204,"",INDEX($T$5:$AJ$1204,MATCH(61,$S$5:$S$1204,0),2))} | C65: {=IF(61>$S$1204,"",INDEX($T$5:$AJ$1204,MATCH(61,$S$5:$S$1204,0),3))} | D65: {=IF(61>$S$1204,"",INDEX($T$5:$AJ$1204,MATCH(61,$S$5:$S$1204,0),4))} | E65: {=IF(61>$S$1204,"",INDEX($T$5:$AJ$1204,MATCH(61,$S$5:$S$1204,0),5))} | F65: {=IF(61>$S$1204,"",INDEX($T$5:$AJ$1204,MATCH(61,$S$5:$S$1204,0),6))} | G65: {=IF(61>$S$1204,"",INDEX($T$5:$AJ$1204,MATCH(61,$S$5:$S$1204,0),7))} | H65: {=IF(61>$S$1204,"",INDEX($T$5:$AJ$1204,MATCH(61,$S$5:$S$1204,0),8))} | I65: {=IF(61>$S$1204,"",INDEX($T$5:$AJ$1204,MATCH(61,$S$5:$S$1204,0),9))} | J65: {=IF(61>$S$1204,"",INDEX($T$5:$AJ$1204,MATCH(61,$S$5:$S$1204,0),10))} | K65: {=IF(61>$S$1204,"",INDEX($T$5:$AJ$1204,MATCH(61,$S$5:$S$1204,0),11))} | L65: {=IF(61>$S$1204,"",INDEX($T$5:$AJ$1204,MATCH(61,$S$5:$S$1204,0),12))} | M65: {=IF(61>$S$1204,"",INDEX($T$5:$AJ$1204,MATCH(61,$S$5:$S$1204,0),13))} | N65: {=IF(61>$S$1204,"",INDEX($T$5:$AJ$1204,MATCH(61,$S$5:$S$1204,0),14))} | O65: {=IF(61>$S$1204,"",INDEX($T$5:$AJ$1204,MATCH(61,$S$5:$S$1204,0),15))} | P65: {=IF(61>$S$1204,"",INDEX($T$5:$AJ$1204,MATCH(61,$S$5:$S$1204,0),16))} | Q65: {=IF(61>$S$1204,"",INDEX($T$5:$AJ$1204,MATCH(61,$S$5:$S$1204,0),17))} | S65: =S64+IF(M1_Administrativo!A69="",0,1) -> 0 | T65: =IF(M1_Administrativo!A69="","",IF(M1_Administrativo!A69="","",M1_Administrativo!A69)) | U65: =IF(M1_Administrativo!A69="","",IF(M1_Administrativo!R69="","",M1_Administrativo!R69)) | V65: =IF(M1_Administrativo!A69="","",IF(M1_Administrativo!D69="","",M1_Administrativo!D69)) | W65: =IF(M1_Administrativo!A69="","",IF(M1_Administrativo!B69="","",M1_Administrativo!B69)) | X65: =IF(M1_Administrativo!A69="","",IF(M1_Administrativo!C69="","",M1_Administrativo!C69)) | Y65: =IF(M1_Administrativo!A69="","",IF(M1_Administrativo!E69="","",M1_Administrativo!E69)) | Z65: =IF(M1_Administrativo!A69="","",IF(M1_Administrativo!F69="","",M1_Administrativo!F69)) | AA65: =IF(M1_Administrativo!A69="","","M1 Administrativo") | AB65: =IF(M1_Administrativo!A69="","",IF(M1_Administrativo!G69="","",M1_Administrativo!G69)) | AC65: =IF(M1_Administrativo!A69="","",IF(M1_Administrativo!M69="","",M1_Administrativo!M69)) | AD65: =IF(M1_Administrativo!A69="","","RA") | AE65: =IF(M1_Administrativo!A69="","",IF(M1_Administrativo!O69="","",M1_Administrativo!O69)) | AF65: =IF(M1_Administrativo!A69="","",IF(M1_Administrativo!P69="","",M1_Administrativo!P69)) | AG65: =IF(M1_Administrativo!A69="","",IF(M1_Administrativo!Q69="","",M1_Administrativo!Q69)) | AH65: =IF(M1_Administrativo!A69="","","") | AI65: =IF(M1_Administrativo!A69="","","M1_Administrativo!69") | AJ65: =IF(M1_Administrativo!A69="","",IF(M1_Administrativo!M69="","Pendiente de resultado","Disponible"))
A66: {=IF(62>$S$1204,"",INDEX($T$5:$AJ$1204,MATCH(62,$S$5:$S$1204,0),1))} | B66: {=IF(62>$S$1204,"",INDEX($T$5:$AJ$1204,MATCH(62,$S$5:$S$1204,0),2))} | C66: {=IF(62>$S$1204,"",INDEX($T$5:$AJ$1204,MATCH(62,$S$5:$S$1204,0),3))} | D66: {=IF(62>$S$1204,"",INDEX($T$5:$AJ$1204,MATCH(62,$S$5:$S$1204,0),4))} | E66: {=IF(62>$S$1204,"",INDEX($T$5:$AJ$1204,MATCH(62,$S$5:$S$1204,0),5))} | F66: {=IF(62>$S$1204,"",INDEX($T$5:$AJ$1204,MATCH(62,$S$5:$S$1204,0),6))} | G66: {=IF(62>$S$1204,"",INDEX($T$5:$AJ$1204,MATCH(62,$S$5:$S$1204,0),7))} | H66: {=IF(62>$S$1204,"",INDEX($T$5:$AJ$1204,MATCH(62,$S$5:$S$1204,0),8))} | I66: {=IF(62>$S$1204,"",INDEX($T$5:$AJ$1204,MATCH(62,$S$5:$S$1204,0),9))} | J66: {=IF(62>$S$1204,"",INDEX($T$5:$AJ$1204,MATCH(62,$S$5:$S$1204,0),10))} | K66: {=IF(62>$S$1204,"",INDEX($T$5:$AJ$1204,MATCH(62,$S$5:$S$1204,0),11))} | L66: {=IF(62>$S$1204,"",INDEX($T$5:$AJ$1204,MATCH(62,$S$5:$S$1204,0),12))} | M66: {=IF(62>$S$1204,"",INDEX($T$5:$AJ$1204,MATCH(62,$S$5:$S$1204,0),13))} | N66: {=IF(62>$S$1204,"",INDEX($T$5:$AJ$1204,MATCH(62,$S$5:$S$1204,0),14))} | O66: {=IF(62>$S$1204,"",INDEX($T$5:$AJ$1204,MATCH(62,$S$5:$S$1204,0),15))} | P66: {=IF(62>$S$1204,"",INDEX($T$5:$AJ$1204,MATCH(62,$S$5:$S$1204,0),16))} | Q66: {=IF(62>$S$1204,"",INDEX($T$5:$AJ$1204,MATCH(62,$S$5:$S$1204,0),17))} | S66: =S65+IF(M1_Administrativo!A70="",0,1) -> 0 | T66: =IF(M1_Administrativo!A70="","",IF(M1_Administrativo!A70="","",M1_Administrativo!A70)) | U66: =IF(M1_Administrativo!A70="","",IF(M1_Administrativo!R70="","",M1_Administrativo!R70)) | V66: =IF(M1_Administrativo!A70="","",IF(M1_Administrativo!D70="","",M1_Administrativo!D70)) | W66: =IF(M1_Administrativo!A70="","",IF(M1_Administrativo!B70="","",M1_Administrativo!B70)) | X66: =IF(M1_Administrativo!A70="","",IF(M1_Administrativo!C70="","",M1_Administrativo!C70)) | Y66: =IF(M1_Administrativo!A70="","",IF(M1_Administrativo!E70="","",M1_Administrativo!E70)) | Z66: =IF(M1_Administrativo!A70="","",IF(M1_Administrativo!F70="","",M1_Administrativo!F70)) | AA66: =IF(M1_Administrativo!A70="","","M1 Administrativo") | AB66: =IF(M1_Administrativo!A70="","",IF(M1_Administrativo!G70="","",M1_Administrativo!G70)) | AC66: =IF(M1_Administrativo!A70="","",IF(M1_Administrativo!M70="","",M1_Administrativo!M70)) | AD66: =IF(M1_Administrativo!A70="","","RA") | AE66: =IF(M1_Administrativo!A70="","",IF(M1_Administrativo!O70="","",M1_Administrativo!O70)) | AF66: =IF(M1_Administrativo!A70="","",IF(M1_Administrativo!P70="","",M1_Administrativo!P70)) | AG66: =IF(M1_Administrativo!A70="","",IF(M1_Administrativo!Q70="","",M1_Administrativo!Q70)) | AH66: =IF(M1_Administrativo!A70="","","") | AI66: =IF(M1_Administrativo!A70="","","M1_Administrativo!70") | AJ66: =IF(M1_Administrativo!A70="","",IF(M1_Administrativo!M70="","Pendiente de resultado","Disponible"))
A67: {=IF(63>$S$1204,"",INDEX($T$5:$AJ$1204,MATCH(63,$S$5:$S$1204,0),1))} | B67: {=IF(63>$S$1204,"",INDEX($T$5:$AJ$1204,MATCH(63,$S$5:$S$1204,0),2))} | C67: {=IF(63>$S$1204,"",INDEX($T$5:$AJ$1204,MATCH(63,$S$5:$S$1204,0),3))} | D67: {=IF(63>$S$1204,"",INDEX($T$5:$AJ$1204,MATCH(63,$S$5:$S$1204,0),4))} | E67: {=IF(63>$S$1204,"",INDEX($T$5:$AJ$1204,MATCH(63,$S$5:$S$1204,0),5))} | F67: {=IF(63>$S$1204,"",INDEX($T$5:$AJ$1204,MATCH(63,$S$5:$S$1204,0),6))} | G67: {=IF(63>$S$1204,"",INDEX($T$5:$AJ$1204,MATCH(63,$S$5:$S$1204,0),7))} | H67: {=IF(63>$S$1204,"",INDEX($T$5:$AJ$1204,MATCH(63,$S$5:$S$1204,0),8))} | I67: {=IF(63>$S$1204,"",INDEX($T$5:$AJ$1204,MATCH(63,$S$5:$S$1204,0),9))} | J67: {=IF(63>$S$1204,"",INDEX($T$5:$AJ$1204,MATCH(63,$S$5:$S$1204,0),10))} | K67: {=IF(63>$S$1204,"",INDEX($T$5:$AJ$1204,MATCH(63,$S$5:$S$1204,0),11))} | L67: {=IF(63>$S$1204,"",INDEX($T$5:$AJ$1204,MATCH(63,$S$5:$S$1204,0),12))} | M67: {=IF(63>$S$1204,"",INDEX($T$5:$AJ$1204,MATCH(63,$S$5:$S$1204,0),13))} | N67: {=IF(63>$S$1204,"",INDEX($T$5:$AJ$1204,MATCH(63,$S$5:$S$1204,0),14))} | O67: {=IF(63>$S$1204,"",INDEX($T$5:$AJ$1204,MATCH(63,$S$5:$S$1204,0),15))} | P67: {=IF(63>$S$1204,"",INDEX($T$5:$AJ$1204,MATCH(63,$S$5:$S$1204,0),16))} | Q67: {=IF(63>$S$1204,"",INDEX($T$5:$AJ$1204,MATCH(63,$S$5:$S$1204,0),17))} | S67: =S66+IF(M1_Administrativo!A71="",0,1) -> 0 | T67: =IF(M1_Administrativo!A71="","",IF(M1_Administrativo!A71="","",M1_Administrativo!A71)) | U67: =IF(M1_Administrativo!A71="","",IF(M1_Administrativo!R71="","",M1_Administrativo!R71)) | V67: =IF(M1_Administrativo!A71="","",IF(M1_Administrativo!D71="","",M1_Administrativo!D71)) | W67: =IF(M1_Administrativo!A71="","",IF(M1_Administrativo!B71="","",M1_Administrativo!B71)) | X67: =IF(M1_Administrativo!A71="","",IF(M1_Administrativo!C71="","",M1_Administrativo!C71)) | Y67: =IF(M1_Administrativo!A71="","",IF(M1_Administrativo!E71="","",M1_Administrativo!E71)) | Z67: =IF(M1_Administrativo!A71="","",IF(M1_Administrativo!F71="","",M1_Administrativo!F71)) | AA67: =IF(M1_Administrativo!A71="","","M1 Administrativo") | AB67: =IF(M1_Administrativo!A71="","",IF(M1_Administrativo!G71="","",M1_Administrativo!G71)) | AC67: =IF(M1_Administrativo!A71="","",IF(M1_Administrativo!M71="","",M1_Administrativo!M71)) | AD67: =IF(M1_Administrativo!A71="","","RA") | AE67: =IF(M1_Administrativo!A71="","",IF(M1_Administrativo!O71="","",M1_Administrativo!O71)) | AF67: =IF(M1_Administrativo!A71="","",IF(M1_Administrativo!P71="","",M1_Administrativo!P71)) | AG67: =IF(M1_Administrativo!A71="","",IF(M1_Administrativo!Q71="","",M1_Administrativo!Q71)) | AH67: =IF(M1_Administrativo!A71="","","") | AI67: =IF(M1_Administrativo!A71="","","M1_Administrativo!71") | AJ67: =IF(M1_Administrativo!A71="","",IF(M1_Administrativo!M71="","Pendiente de resultado","Disponible"))
A68: {=IF(64>$S$1204,"",INDEX($T$5:$AJ$1204,MATCH(64,$S$5:$S$1204,0),1))} | B68: {=IF(64>$S$1204,"",INDEX($T$5:$AJ$1204,MATCH(64,$S$5:$S$1204,0),2))} | C68: {=IF(64>$S$1204,"",INDEX($T$5:$AJ$1204,MATCH(64,$S$5:$S$1204,0),3))} | D68: {=IF(64>$S$1204,"",INDEX($T$5:$AJ$1204,MATCH(64,$S$5:$S$1204,0),4))} | E68: {=IF(64>$S$1204,"",INDEX($T$5:$AJ$1204,MATCH(64,$S$5:$S$1204,0),5))} | F68: {=IF(64>$S$1204,"",INDEX($T$5:$AJ$1204,MATCH(64,$S$5:$S$1204,0),6))} | G68: {=IF(64>$S$1204,"",INDEX($T$5:$AJ$1204,MATCH(64,$S$5:$S$1204,0),7))} | H68: {=IF(64>$S$1204,"",INDEX($T$5:$AJ$1204,MATCH(64,$S$5:$S$1204,0),8))} | I68: {=IF(64>$S$1204,"",INDEX($T$5:$AJ$1204,MATCH(64,$S$5:$S$1204,0),9))} | J68: {=IF(64>$S$1204,"",INDEX($T$5:$AJ$1204,MATCH(64,$S$5:$S$1204,0),10))} | K68: {=IF(64>$S$1204,"",INDEX($T$5:$AJ$1204,MATCH(64,$S$5:$S$1204,0),11))} | L68: {=IF(64>$S$1204,"",INDEX($T$5:$AJ$1204,MATCH(64,$S$5:$S$1204,0),12))} | M68: {=IF(64>$S$1204,"",INDEX($T$5:$AJ$1204,MATCH(64,$S$5:$S$1204,0),13))} | N68: {=IF(64>$S$1204,"",INDEX($T$5:$AJ$1204,MATCH(64,$S$5:$S$1204,0),14))} | O68: {=IF(64>$S$1204,"",INDEX($T$5:$AJ$1204,MATCH(64,$S$5:$S$1204,0),15))} | P68: {=IF(64>$S$1204,"",INDEX($T$5:$AJ$1204,MATCH(64,$S$5:$S$1204,0),16))} | Q68: {=IF(64>$S$1204,"",INDEX($T$5:$AJ$1204,MATCH(64,$S$5:$S$1204,0),17))} | S68: =S67+IF(M1_Administrativo!A72="",0,1) -> 0 | T68: =IF(M1_Administrativo!A72="","",IF(M1_Administrativo!A72="","",M1_Administrativo!A72)) | U68: =IF(M1_Administrativo!A72="","",IF(M1_Administrativo!R72="","",M1_Administrativo!R72)) | V68: =IF(M1_Administrativo!A72="","",IF(M1_Administrativo!D72="","",M1_Administrativo!D72)) | W68: =IF(M1_Administrativo!A72="","",IF(M1_Administrativo!B72="","",M1_Administrativo!B72)) | X68: =IF(M1_Administrativo!A72="","",IF(M1_Administrativo!C72="","",M1_Administrativo!C72)) | Y68: =IF(M1_Administrativo!A72="","",IF(M1_Administrativo!E72="","",M1_Administrativo!E72)) | Z68: =IF(M1_Administrativo!A72="","",IF(M1_Administrativo!F72="","",M1_Administrativo!F72)) | AA68: =IF(M1_Administrativo!A72="","","M1 Administrativo") | AB68: =IF(M1_Administrativo!A72="","",IF(M1_Administrativo!G72="","",M1_Administrativo!G72)) | AC68: =IF(M1_Administrativo!A72="","",IF(M1_Administrativo!M72="","",M1_Administrativo!M72)) | AD68: =IF(M1_Administrativo!A72="","","RA") | AE68: =IF(M1_Administrativo!A72="","",IF(M1_Administrativo!O72="","",M1_Administrativo!O72)) | AF68: =IF(M1_Administrativo!A72="","",IF(M1_Administrativo!P72="","",M1_Administrativo!P72)) | AG68: =IF(M1_Administrativo!A72="","",IF(M1_Administrativo!Q72="","",M1_Administrativo!Q72)) | AH68: =IF(M1_Administrativo!A72="","","") | AI68: =IF(M1_Administrativo!A72="","","M1_Administrativo!72") | AJ68: =IF(M1_Administrativo!A72="","",IF(M1_Administrativo!M72="","Pendiente de resultado","Disponible"))
A69: {=IF(65>$S$1204,"",INDEX($T$5:$AJ$1204,MATCH(65,$S$5:$S$1204,0),1))} | B69: {=IF(65>$S$1204,"",INDEX($T$5:$AJ$1204,MATCH(65,$S$5:$S$1204,0),2))} | C69: {=IF(65>$S$1204,"",INDEX($T$5:$AJ$1204,MATCH(65,$S$5:$S$1204,0),3))} | D69: {=IF(65>$S$1204,"",INDEX($T$5:$AJ$1204,MATCH(65,$S$5:$S$1204,0),4))} | E69: {=IF(65>$S$1204,"",INDEX($T$5:$AJ$1204,MATCH(65,$S$5:$S$1204,0),5))} | F69: {=IF(65>$S$1204,"",INDEX($T$5:$AJ$1204,MATCH(65,$S$5:$S$1204,0),6))} | G69: {=IF(65>$S$1204,"",INDEX($T$5:$AJ$1204,MATCH(65,$S$5:$S$1204,0),7))} | H69: {=IF(65>$S$1204,"",INDEX($T$5:$AJ$1204,MATCH(65,$S$5:$S$1204,0),8))} | I69: {=IF(65>$S$1204,"",INDEX($T$5:$AJ$1204,MATCH(65,$S$5:$S$1204,0),9))} | J69: {=IF(65>$S$1204,"",INDEX($T$5:$AJ$1204,MATCH(65,$S$5:$S$1204,0),10))} | K69: {=IF(65>$S$1204,"",INDEX($T$5:$AJ$1204,MATCH(65,$S$5:$S$1204,0),11))} | L69: {=IF(65>$S$1204,"",INDEX($T$5:$AJ$1204,MATCH(65,$S$5:$S$1204,0),12))} | M69: {=IF(65>$S$1204,"",INDEX($T$5:$AJ$1204,MATCH(65,$S$5:$S$1204,0),13))} | N69: {=IF(65>$S$1204,"",INDEX($T$5:$AJ$1204,MATCH(65,$S$5:$S$1204,0),14))} | O69: {=IF(65>$S$1204,"",INDEX($T$5:$AJ$1204,MATCH(65,$S$5:$S$1204,0),15))} | P69: {=IF(65>$S$1204,"",INDEX($T$5:$AJ$1204,MATCH(65,$S$5:$S$1204,0),16))} | Q69: {=IF(65>$S$1204,"",INDEX($T$5:$AJ$1204,MATCH(65,$S$5:$S$1204,0),17))} | S69: =S68+IF(M1_Administrativo!A73="",0,1) -> 0 | T69: =IF(M1_Administrativo!A73="","",IF(M1_Administrativo!A73="","",M1_Administrativo!A73)) | U69: =IF(M1_Administrativo!A73="","",IF(M1_Administrativo!R73="","",M1_Administrativo!R73)) | V69: =IF(M1_Administrativo!A73="","",IF(M1_Administrativo!D73="","",M1_Administrativo!D73)) | W69: =IF(M1_Administrativo!A73="","",IF(M1_Administrativo!B73="","",M1_Administrativo!B73)) | X69: =IF(M1_Administrativo!A73="","",IF(M1_Administrativo!C73="","",M1_Administrativo!C73)) | Y69: =IF(M1_Administrativo!A73="","",IF(M1_Administrativo!E73="","",M1_Administrativo!E73)) | Z69: =IF(M1_Administrativo!A73="","",IF(M1_Administrativo!F73="","",M1_Administrativo!F73)) | AA69: =IF(M1_Administrativo!A73="","","M1 Administrativo") | AB69: =IF(M1_Administrativo!A73="","",IF(M1_Administrativo!G73="","",M1_Administrativo!G73)) | AC69: =IF(M1_Administrativo!A73="","",IF(M1_Administrativo!M73="","",M1_Administrativo!M73)) | AD69: =IF(M1_Administrativo!A73="","","RA") | AE69: =IF(M1_Administrativo!A73="","",IF(M1_Administrativo!O73="","",M1_Administrativo!O73)) | AF69: =IF(M1_Administrativo!A73="","",IF(M1_Administrativo!P73="","",M1_Administrativo!P73)) | AG69: =IF(M1_Administrativo!A73="","",IF(M1_Administrativo!Q73="","",M1_Administrativo!Q73)) | AH69: =IF(M1_Administrativo!A73="","","") | AI69: =IF(M1_Administrativo!A73="","","M1_Administrativo!73") | AJ69: =IF(M1_Administrativo!A73="","",IF(M1_Administrativo!M73="","Pendiente de resultado","Disponible"))
A70: {=IF(66>$S$1204,"",INDEX($T$5:$AJ$1204,MATCH(66,$S$5:$S$1204,0),1))} | B70: {=IF(66>$S$1204,"",INDEX($T$5:$AJ$1204,MATCH(66,$S$5:$S$1204,0),2))} | C70: {=IF(66>$S$1204,"",INDEX($T$5:$AJ$1204,MATCH(66,$S$5:$S$1204,0),3))} | D70: {=IF(66>$S$1204,"",INDEX($T$5:$AJ$1204,MATCH(66,$S$5:$S$1204,0),4))} | E70: {=IF(66>$S$1204,"",INDEX($T$5:$AJ$1204,MATCH(66,$S$5:$S$1204,0),5))} | F70: {=IF(66>$S$1204,"",INDEX($T$5:$AJ$1204,MATCH(66,$S$5:$S$1204,0),6))} | G70: {=IF(66>$S$1204,"",INDEX($T$5:$AJ$1204,MATCH(66,$S$5:$S$1204,0),7))} | H70: {=IF(66>$S$1204,"",INDEX($T$5:$AJ$1204,MATCH(66,$S$5:$S$1204,0),8))} | I70: {=IF(66>$S$1204,"",INDEX($T$5:$AJ$1204,MATCH(66,$S$5:$S$1204,0),9))} | J70: {=IF(66>$S$1204,"",INDEX($T$5:$AJ$1204,MATCH(66,$S$5:$S$1204,0),10))} | K70: {=IF(66>$S$1204,"",INDEX($T$5:$AJ$1204,MATCH(66,$S$5:$S$1204,0),11))} | L70: {=IF(66>$S$1204,"",INDEX($T$5:$AJ$1204,MATCH(66,$S$5:$S$1204,0),12))} | M70: {=IF(66>$S$1204,"",INDEX($T$5:$AJ$1204,MATCH(66,$S$5:$S$1204,0),13))} | N70: {=IF(66>$S$1204,"",INDEX($T$5:$AJ$1204,MATCH(66,$S$5:$S$1204,0),14))} | O70: {=IF(66>$S$1204,"",INDEX($T$5:$AJ$1204,MATCH(66,$S$5:$S$1204,0),15))} | P70: {=IF(66>$S$1204,"",INDEX($T$5:$AJ$1204,MATCH(66,$S$5:$S$1204,0),16))} | Q70: {=IF(66>$S$1204,"",INDEX($T$5:$AJ$1204,MATCH(66,$S$5:$S$1204,0),17))} | S70: =S69+IF(M1_Administrativo!A74="",0,1) -> 0 | T70: =IF(M1_Administrativo!A74="","",IF(M1_Administrativo!A74="","",M1_Administrativo!A74)) | U70: =IF(M1_Administrativo!A74="","",IF(M1_Administrativo!R74="","",M1_Administrativo!R74)) | V70: =IF(M1_Administrativo!A74="","",IF(M1_Administrativo!D74="","",M1_Administrativo!D74)) | W70: =IF(M1_Administrativo!A74="","",IF(M1_Administrativo!B74="","",M1_Administrativo!B74)) | X70: =IF(M1_Administrativo!A74="","",IF(M1_Administrativo!C74="","",M1_Administrativo!C74)) | Y70: =IF(M1_Administrativo!A74="","",IF(M1_Administrativo!E74="","",M1_Administrativo!E74)) | Z70: =IF(M1_Administrativo!A74="","",IF(M1_Administrativo!F74="","",M1_Administrativo!F74)) | AA70: =IF(M1_Administrativo!A74="","","M1 Administrativo") | AB70: =IF(M1_Administrativo!A74="","",IF(M1_Administrativo!G74="","",M1_Administrativo!G74)) | AC70: =IF(M1_Administrativo!A74="","",IF(M1_Administrativo!M74="","",M1_Administrativo!M74)) | AD70: =IF(M1_Administrativo!A74="","","RA") | AE70: =IF(M1_Administrativo!A74="","",IF(M1_Administrativo!O74="","",M1_Administrativo!O74)) | AF70: =IF(M1_Administrativo!A74="","",IF(M1_Administrativo!P74="","",M1_Administrativo!P74)) | AG70: =IF(M1_Administrativo!A74="","",IF(M1_Administrativo!Q74="","",M1_Administrativo!Q74)) | AH70: =IF(M1_Administrativo!A74="","","") | AI70: =IF(M1_Administrativo!A74="","","M1_Administrativo!74") | AJ70: =IF(M1_Administrativo!A74="","",IF(M1_Administrativo!M74="","Pendiente de resultado","Disponible"))
A71: {=IF(67>$S$1204,"",INDEX($T$5:$AJ$1204,MATCH(67,$S$5:$S$1204,0),1))} | B71: {=IF(67>$S$1204,"",INDEX($T$5:$AJ$1204,MATCH(67,$S$5:$S$1204,0),2))} | C71: {=IF(67>$S$1204,"",INDEX($T$5:$AJ$1204,MATCH(67,$S$5:$S$1204,0),3))} | D71: {=IF(67>$S$1204,"",INDEX($T$5:$AJ$1204,MATCH(67,$S$5:$S$1204,0),4))} | E71: {=IF(67>$S$1204,"",INDEX($T$5:$AJ$1204,MATCH(67,$S$5:$S$1204,0),5))} | F71: {=IF(67>$S$1204,"",INDEX($T$5:$AJ$1204,MATCH(67,$S$5:$S$1204,0),6))} | G71: {=IF(67>$S$1204,"",INDEX($T$5:$AJ$1204,MATCH(67,$S$5:$S$1204,0),7))} | H71: {=IF(67>$S$1204,"",INDEX($T$5:$AJ$1204,MATCH(67,$S$5:$S$1204,0),8))} | I71: {=IF(67>$S$1204,"",INDEX($T$5:$AJ$1204,MATCH(67,$S$5:$S$1204,0),9))} | J71: {=IF(67>$S$1204,"",INDEX($T$5:$AJ$1204,MATCH(67,$S$5:$S$1204,0),10))} | K71: {=IF(67>$S$1204,"",INDEX($T$5:$AJ$1204,MATCH(67,$S$5:$S$1204,0),11))} | L71: {=IF(67>$S$1204,"",INDEX($T$5:$AJ$1204,MATCH(67,$S$5:$S$1204,0),12))} | M71: {=IF(67>$S$1204,"",INDEX($T$5:$AJ$1204,MATCH(67,$S$5:$S$1204,0),13))} | N71: {=IF(67>$S$1204,"",INDEX($T$5:$AJ$1204,MATCH(67,$S$5:$S$1204,0),14))} | O71: {=IF(67>$S$1204,"",INDEX($T$5:$AJ$1204,MATCH(67,$S$5:$S$1204,0),15))} | P71: {=IF(67>$S$1204,"",INDEX($T$5:$AJ$1204,MATCH(67,$S$5:$S$1204,0),16))} | Q71: {=IF(67>$S$1204,"",INDEX($T$5:$AJ$1204,MATCH(67,$S$5:$S$1204,0),17))} | S71: =S70+IF(M1_Administrativo!A75="",0,1) -> 0 | T71: =IF(M1_Administrativo!A75="","",IF(M1_Administrativo!A75="","",M1_Administrativo!A75)) | U71: =IF(M1_Administrativo!A75="","",IF(M1_Administrativo!R75="","",M1_Administrativo!R75)) | V71: =IF(M1_Administrativo!A75="","",IF(M1_Administrativo!D75="","",M1_Administrativo!D75)) | W71: =IF(M1_Administrativo!A75="","",IF(M1_Administrativo!B75="","",M1_Administrativo!B75)) | X71: =IF(M1_Administrativo!A75="","",IF(M1_Administrativo!C75="","",M1_Administrativo!C75)) | Y71: =IF(M1_Administrativo!A75="","",IF(M1_Administrativo!E75="","",M1_Administrativo!E75)) | Z71: =IF(M1_Administrativo!A75="","",IF(M1_Administrativo!F75="","",M1_Administrativo!F75)) | AA71: =IF(M1_Administrativo!A75="","","M1 Administrativo") | AB71: =IF(M1_Administrativo!A75="","",IF(M1_Administrativo!G75="","",M1_Administrativo!G75)) | AC71: =IF(M1_Administrativo!A75="","",IF(M1_Administrativo!M75="","",M1_Administrativo!M75)) | AD71: =IF(M1_Administrativo!A75="","","RA") | AE71: =IF(M1_Administrativo!A75="","",IF(M1_Administrativo!O75="","",M1_Administrativo!O75)) | AF71: =IF(M1_Administrativo!A75="","",IF(M1_Administrativo!P75="","",M1_Administrativo!P75)) | AG71: =IF(M1_Administrativo!A75="","",IF(M1_Administrativo!Q75="","",M1_Administrativo!Q75)) | AH71: =IF(M1_Administrativo!A75="","","") | AI71: =IF(M1_Administrativo!A75="","","M1_Administrativo!75") | AJ71: =IF(M1_Administrativo!A75="","",IF(M1_Administrativo!M75="","Pendiente de resultado","Disponible"))
A72: {=IF(68>$S$1204,"",INDEX($T$5:$AJ$1204,MATCH(68,$S$5:$S$1204,0),1))} | B72: {=IF(68>$S$1204,"",INDEX($T$5:$AJ$1204,MATCH(68,$S$5:$S$1204,0),2))} | C72: {=IF(68>$S$1204,"",INDEX($T$5:$AJ$1204,MATCH(68,$S$5:$S$1204,0),3))} | D72: {=IF(68>$S$1204,"",INDEX($T$5:$AJ$1204,MATCH(68,$S$5:$S$1204,0),4))} | E72: {=IF(68>$S$1204,"",INDEX($T$5:$AJ$1204,MATCH(68,$S$5:$S$1204,0),5))} | F72: {=IF(68>$S$1204,"",INDEX($T$5:$AJ$1204,MATCH(68,$S$5:$S$1204,0),6))} | G72: {=IF(68>$S$1204,"",INDEX($T$5:$AJ$1204,MATCH(68,$S$5:$S$1204,0),7))} | H72: {=IF(68>$S$1204,"",INDEX($T$5:$AJ$1204,MATCH(68,$S$5:$S$1204,0),8))} | I72: {=IF(68>$S$1204,"",INDEX($T$5:$AJ$1204,MATCH(68,$S$5:$S$1204,0),9))} | J72: {=IF(68>$S$1204,"",INDEX($T$5:$AJ$1204,MATCH(68,$S$5:$S$1204,0),10))} | K72: {=IF(68>$S$1204,"",INDEX($T$5:$AJ$1204,MATCH(68,$S$5:$S$1204,0),11))} | L72: {=IF(68>$S$1204,"",INDEX($T$5:$AJ$1204,MATCH(68,$S$5:$S$1204,0),12))} | M72: {=IF(68>$S$1204,"",INDEX($T$5:$AJ$1204,MATCH(68,$S$5:$S$1204,0),13))} | N72: {=IF(68>$S$1204,"",INDEX($T$5:$AJ$1204,MATCH(68,$S$5:$S$1204,0),14))} | O72: {=IF(68>$S$1204,"",INDEX($T$5:$AJ$1204,MATCH(68,$S$5:$S$1204,0),15))} | P72: {=IF(68>$S$1204,"",INDEX($T$5:$AJ$1204,MATCH(68,$S$5:$S$1204,0),16))} | Q72: {=IF(68>$S$1204,"",INDEX($T$5:$AJ$1204,MATCH(68,$S$5:$S$1204,0),17))} | S72: =S71+IF(M1_Administrativo!A76="",0,1) -> 0 | T72: =IF(M1_Administrativo!A76="","",IF(M1_Administrativo!A76="","",M1_Administrativo!A76)) | U72: =IF(M1_Administrativo!A76="","",IF(M1_Administrativo!R76="","",M1_Administrativo!R76)) | V72: =IF(M1_Administrativo!A76="","",IF(M1_Administrativo!D76="","",M1_Administrativo!D76)) | W72: =IF(M1_Administrativo!A76="","",IF(M1_Administrativo!B76="","",M1_Administrativo!B76)) | X72: =IF(M1_Administrativo!A76="","",IF(M1_Administrativo!C76="","",M1_Administrativo!C76)) | Y72: =IF(M1_Administrativo!A76="","",IF(M1_Administrativo!E76="","",M1_Administrativo!E76)) | Z72: =IF(M1_Administrativo!A76="","",IF(M1_Administrativo!F76="","",M1_Administrativo!F76)) | AA72: =IF(M1_Administrativo!A76="","","M1 Administrativo") | AB72: =IF(M1_Administrativo!A76="","",IF(M1_Administrativo!G76="","",M1_Administrativo!G76)) | AC72: =IF(M1_Administrativo!A76="","",IF(M1_Administrativo!M76="","",M1_Administrativo!M76)) | AD72: =IF(M1_Administrativo!A76="","","RA") | AE72: =IF(M1_Administrativo!A76="","",IF(M1_Administrativo!O76="","",M1_Administrativo!O76)) | AF72: =IF(M1_Administrativo!A76="","",IF(M1_Administrativo!P76="","",M1_Administrativo!P76)) | AG72: =IF(M1_Administrativo!A76="","",IF(M1_Administrativo!Q76="","",M1_Administrativo!Q76)) | AH72: =IF(M1_Administrativo!A76="","","") | AI72: =IF(M1_Administrativo!A76="","","M1_Administrativo!76") | AJ72: =IF(M1_Administrativo!A76="","",IF(M1_Administrativo!M76="","Pendiente de resultado","Disponible"))
A73: {=IF(69>$S$1204,"",INDEX($T$5:$AJ$1204,MATCH(69,$S$5:$S$1204,0),1))} | B73: {=IF(69>$S$1204,"",INDEX($T$5:$AJ$1204,MATCH(69,$S$5:$S$1204,0),2))} | C73: {=IF(69>$S$1204,"",INDEX($T$5:$AJ$1204,MATCH(69,$S$5:$S$1204,0),3))} | D73: {=IF(69>$S$1204,"",INDEX($T$5:$AJ$1204,MATCH(69,$S$5:$S$1204,0),4))} | E73: {=IF(69>$S$1204,"",INDEX($T$5:$AJ$1204,MATCH(69,$S$5:$S$1204,0),5))} | F73: {=IF(69>$S$1204,"",INDEX($T$5:$AJ$1204,MATCH(69,$S$5:$S$1204,0),6))} | G73: {=IF(69>$S$1204,"",INDEX($T$5:$AJ$1204,MATCH(69,$S$5:$S$1204,0),7))} | H73: {=IF(69>$S$1204,"",INDEX($T$5:$AJ$1204,MATCH(69,$S$5:$S$1204,0),8))} | I73: {=IF(69>$S$1204,"",INDEX($T$5:$AJ$1204,MATCH(69,$S$5:$S$1204,0),9))} | J73: {=IF(69>$S$1204,"",INDEX($T$5:$AJ$1204,MATCH(69,$S$5:$S$1204,0),10))} | K73: {=IF(69>$S$1204,"",INDEX($T$5:$AJ$1204,MATCH(69,$S$5:$S$1204,0),11))} | L73: {=IF(69>$S$1204,"",INDEX($T$5:$AJ$1204,MATCH(69,$S$5:$S$1204,0),12))} | M73: {=IF(69>$S$1204,"",INDEX($T$5:$AJ$1204,MATCH(69,$S$5:$S$1204,0),13))} | N73: {=IF(69>$S$1204,"",INDEX($T$5:$AJ$1204,MATCH(69,$S$5:$S$1204,0),14))} | O73: {=IF(69>$S$1204,"",INDEX($T$5:$AJ$1204,MATCH(69,$S$5:$S$1204,0),15))} | P73: {=IF(69>$S$1204,"",INDEX($T$5:$AJ$1204,MATCH(69,$S$5:$S$1204,0),16))} | Q73: {=IF(69>$S$1204,"",INDEX($T$5:$AJ$1204,MATCH(69,$S$5:$S$1204,0),17))} | S73: =S72+IF(M1_Administrativo!A77="",0,1) -> 0 | T73: =IF(M1_Administrativo!A77="","",IF(M1_Administrativo!A77="","",M1_Administrativo!A77)) | U73: =IF(M1_Administrativo!A77="","",IF(M1_Administrativo!R77="","",M1_Administrativo!R77)) | V73: =IF(M1_Administrativo!A77="","",IF(M1_Administrativo!D77="","",M1_Administrativo!D77)) | W73: =IF(M1_Administrativo!A77="","",IF(M1_Administrativo!B77="","",M1_Administrativo!B77)) | X73: =IF(M1_Administrativo!A77="","",IF(M1_Administrativo!C77="","",M1_Administrativo!C77)) | Y73: =IF(M1_Administrativo!A77="","",IF(M1_Administrativo!E77="","",M1_Administrativo!E77)) | Z73: =IF(M1_Administrativo!A77="","",IF(M1_Administrativo!F77="","",M1_Administrativo!F77)) | AA73: =IF(M1_Administrativo!A77="","","M1 Administrativo") | AB73: =IF(M1_Administrativo!A77="","",IF(M1_Administrativo!G77="","",M1_Administrativo!G77)) | AC73: =IF(M1_Administrativo!A77="","",IF(M1_Administrativo!M77="","",M1_Administrativo!M77)) | AD73: =IF(M1_Administrativo!A77="","","RA") | AE73: =IF(M1_Administrativo!A77="","",IF(M1_Administrativo!O77="","",M1_Administrativo!O77)) | AF73: =IF(M1_Administrativo!A77="","",IF(M1_Administrativo!P77="","",M1_Administrativo!P77)) | AG73: =IF(M1_Administrativo!A77="","",IF(M1_Administrativo!Q77="","",M1_Administrativo!Q77)) | AH73: =IF(M1_Administrativo!A77="","","") | AI73: =IF(M1_Administrativo!A77="","","M1_Administrativo!77") | AJ73: =IF(M1_Administrativo!A77="","",IF(M1_Administrativo!M77="","Pendiente de resultado","Disponible"))
A74: {=IF(70>$S$1204,"",INDEX($T$5:$AJ$1204,MATCH(70,$S$5:$S$1204,0),1))} | B74: {=IF(70>$S$1204,"",INDEX($T$5:$AJ$1204,MATCH(70,$S$5:$S$1204,0),2))} | C74: {=IF(70>$S$1204,"",INDEX($T$5:$AJ$1204,MATCH(70,$S$5:$S$1204,0),3))} | D74: {=IF(70>$S$1204,"",INDEX($T$5:$AJ$1204,MATCH(70,$S$5:$S$1204,0),4))} | E74: {=IF(70>$S$1204,"",INDEX($T$5:$AJ$1204,MATCH(70,$S$5:$S$1204,0),5))} | F74: {=IF(70>$S$1204,"",INDEX($T$5:$AJ$1204,MATCH(70,$S$5:$S$1204,0),6))} | G74: {=IF(70>$S$1204,"",INDEX($T$5:$AJ$1204,MATCH(70,$S$5:$S$1204,0),7))} | H74: {=IF(70>$S$1204,"",INDEX($T$5:$AJ$1204,MATCH(70,$S$5:$S$1204,0),8))} | I74: {=IF(70>$S$1204,"",INDEX($T$5:$AJ$1204,MATCH(70,$S$5:$S$1204,0),9))} | J74: {=IF(70>$S$1204,"",INDEX($T$5:$AJ$1204,MATCH(70,$S$5:$S$1204,0),10))} | K74: {=IF(70>$S$1204,"",INDEX($T$5:$AJ$1204,MATCH(70,$S$5:$S$1204,0),11))} | L74: {=IF(70>$S$1204,"",INDEX($T$5:$AJ$1204,MATCH(70,$S$5:$S$1204,0),12))} | M74: {=IF(70>$S$1204,"",INDEX($T$5:$AJ$1204,MATCH(70,$S$5:$S$1204,0),13))} | N74: {=IF(70>$S$1204,"",INDEX($T$5:$AJ$1204,MATCH(70,$S$5:$S$1204,0),14))} | O74: {=IF(70>$S$1204,"",INDEX($T$5:$AJ$1204,MATCH(70,$S$5:$S$1204,0),15))} | P74: {=IF(70>$S$1204,"",INDEX($T$5:$AJ$1204,MATCH(70,$S$5:$S$1204,0),16))} | Q74: {=IF(70>$S$1204,"",INDEX($T$5:$AJ$1204,MATCH(70,$S$5:$S$1204,0),17))} | S74: =S73+IF(M1_Administrativo!A78="",0,1) -> 0 | T74: =IF(M1_Administrativo!A78="","",IF(M1_Administrativo!A78="","",M1_Administrativo!A78)) | U74: =IF(M1_Administrativo!A78="","",IF(M1_Administrativo!R78="","",M1_Administrativo!R78)) | V74: =IF(M1_Administrativo!A78="","",IF(M1_Administrativo!D78="","",M1_Administrativo!D78)) | W74: =IF(M1_Administrativo!A78="","",IF(M1_Administrativo!B78="","",M1_Administrativo!B78)) | X74: =IF(M1_Administrativo!A78="","",IF(M1_Administrativo!C78="","",M1_Administrativo!C78)) | Y74: =IF(M1_Administrativo!A78="","",IF(M1_Administrativo!E78="","",M1_Administrativo!E78)) | Z74: =IF(M1_Administrativo!A78="","",IF(M1_Administrativo!F78="","",M1_Administrativo!F78)) | AA74: =IF(M1_Administrativo!A78="","","M1 Administrativo") | AB74: =IF(M1_Administrativo!A78="","",IF(M1_Administrativo!G78="","",M1_Administrativo!G78)) | AC74: =IF(M1_Administrativo!A78="","",IF(M1_Administrativo!M78="","",M1_Administrativo!M78)) | AD74: =IF(M1_Administrativo!A78="","","RA") | AE74: =IF(M1_Administrativo!A78="","",IF(M1_Administrativo!O78="","",M1_Administrativo!O78)) | AF74: =IF(M1_Administrativo!A78="","",IF(M1_Administrativo!P78="","",M1_Administrativo!P78)) | AG74: =IF(M1_Administrativo!A78="","",IF(M1_Administrativo!Q78="","",M1_Administrativo!Q78)) | AH74: =IF(M1_Administrativo!A78="","","") | AI74: =IF(M1_Administrativo!A78="","","M1_Administrativo!78") | AJ74: =IF(M1_Administrativo!A78="","",IF(M1_Administrativo!M78="","Pendiente de resultado","Disponible"))
A75: {=IF(71>$S$1204,"",INDEX($T$5:$AJ$1204,MATCH(71,$S$5:$S$1204,0),1))} | B75: {=IF(71>$S$1204,"",INDEX($T$5:$AJ$1204,MATCH(71,$S$5:$S$1204,0),2))} | C75: {=IF(71>$S$1204,"",INDEX($T$5:$AJ$1204,MATCH(71,$S$5:$S$1204,0),3))} | D75: {=IF(71>$S$1204,"",INDEX($T$5:$AJ$1204,MATCH(71,$S$5:$S$1204,0),4))} | E75: {=IF(71>$S$1204,"",INDEX($T$5:$AJ$1204,MATCH(71,$S$5:$S$1204,0),5))} | F75: {=IF(71>$S$1204,"",INDEX($T$5:$AJ$1204,MATCH(71,$S$5:$S$1204,0),6))} | G75: {=IF(71>$S$1204,"",INDEX($T$5:$AJ$1204,MATCH(71,$S$5:$S$1204,0),7))} | H75: {=IF(71>$S$1204,"",INDEX($T$5:$AJ$1204,MATCH(71,$S$5:$S$1204,0),8))} | I75: {=IF(71>$S$1204,"",INDEX($T$5:$AJ$1204,MATCH(71,$S$5:$S$1204,0),9))} | J75: {=IF(71>$S$1204,"",INDEX($T$5:$AJ$1204,MATCH(71,$S$5:$S$1204,0),10))} | K75: {=IF(71>$S$1204,"",INDEX($T$5:$AJ$1204,MATCH(71,$S$5:$S$1204,0),11))} | L75: {=IF(71>$S$1204,"",INDEX($T$5:$AJ$1204,MATCH(71,$S$5:$S$1204,0),12))} | M75: {=IF(71>$S$1204,"",INDEX($T$5:$AJ$1204,MATCH(71,$S$5:$S$1204,0),13))} | N75: {=IF(71>$S$1204,"",INDEX($T$5:$AJ$1204,MATCH(71,$S$5:$S$1204,0),14))} | O75: {=IF(71>$S$1204,"",INDEX($T$5:$AJ$1204,MATCH(71,$S$5:$S$1204,0),15))} | P75: {=IF(71>$S$1204,"",INDEX($T$5:$AJ$1204,MATCH(71,$S$5:$S$1204,0),16))} | Q75: {=IF(71>$S$1204,"",INDEX($T$5:$AJ$1204,MATCH(71,$S$5:$S$1204,0),17))} | S75: =S74+IF(M1_Administrativo!A79="",0,1) -> 0 | T75: =IF(M1_Administrativo!A79="","",IF(M1_Administrativo!A79="","",M1_Administrativo!A79)) | U75: =IF(M1_Administrativo!A79="","",IF(M1_Administrativo!R79="","",M1_Administrativo!R79)) | V75: =IF(M1_Administrativo!A79="","",IF(M1_Administrativo!D79="","",M1_Administrativo!D79)) | W75: =IF(M1_Administrativo!A79="","",IF(M1_Administrativo!B79="","",M1_Administrativo!B79)) | X75: =IF(M1_Administrativo!A79="","",IF(M1_Administrativo!C79="","",M1_Administrativo!C79)) | Y75: =IF(M1_Administrativo!A79="","",IF(M1_Administrativo!E79="","",M1_Administrativo!E79)) | Z75: =IF(M1_Administrativo!A79="","",IF(M1_Administrativo!F79="","",M1_Administrativo!F79)) | AA75: =IF(M1_Administrativo!A79="","","M1 Administrativo") | AB75: =IF(M1_Administrativo!A79="","",IF(M1_Administrativo!G79="","",M1_Administrativo!G79)) | AC75: =IF(M1_Administrativo!A79="","",IF(M1_Administrativo!M79="","",M1_Administrativo!M79)) | AD75: =IF(M1_Administrativo!A79="","","RA") | AE75: =IF(M1_Administrativo!A79="","",IF(M1_Administrativo!O79="","",M1_Administrativo!O79)) | AF75: =IF(M1_Administrativo!A79="","",IF(M1_Administrativo!P79="","",M1_Administrativo!P79)) | AG75: =IF(M1_Administrativo!A79="","",IF(M1_Administrativo!Q79="","",M1_Administrativo!Q79)) | AH75: =IF(M1_Administrativo!A79="","","") | AI75: =IF(M1_Administrativo!A79="","","M1_Administrativo!79") | AJ75: =IF(M1_Administrativo!A79="","",IF(M1_Administrativo!M79="","Pendiente de resultado","Disponible"))
